BEGIN:VCALENDAR
VERSION:2.0
PRODID:-// - ECPv6.15.20//NONSGML v1.0//EN
CALSCALE:GREGORIAN
METHOD:PUBLISH
X-ORIGINAL-URL:https://thecedarsproject.com
X-WR-CALDESC:Events for 
REFRESH-INTERVAL;VALUE=DURATION:PT1H
X-Robots-Tag:noindex
X-PUBLISHED-TTL:PT1H
BEGIN:VTIMEZONE
TZID:America/Chicago
BEGIN:DAYLIGHT
TZOFFSETFROM:-0600
TZOFFSETTO:-0500
TZNAME:CDT
DTSTART:20250309T080000
END:DAYLIGHT
BEGIN:STANDARD
TZOFFSETFROM:-0500
TZOFFSETTO:-0600
TZNAME:CST
DTSTART:20251102T070000
END:STANDARD
BEGIN:DAYLIGHT
TZOFFSETFROM:-0600
TZOFFSETTO:-0500
TZNAME:CDT
DTSTART:20260308T080000
END:DAYLIGHT
BEGIN:STANDARD
TZOFFSETFROM:-0500
TZOFFSETTO:-0600
TZNAME:CST
DTSTART:20261101T070000
END:STANDARD
BEGIN:DAYLIGHT
TZOFFSETFROM:-0600
TZOFFSETTO:-0500
TZNAME:CDT
DTSTART:20270314T080000
END:DAYLIGHT
BEGIN:STANDARD
TZOFFSETFROM:-0500
TZOFFSETTO:-0600
TZNAME:CST
DTSTART:20271107T070000
END:STANDARD
BEGIN:DAYLIGHT
TZOFFSETFROM:-0600
TZOFFSETTO:-0500
TZNAME:CDT
DTSTART:20280312T080000
END:DAYLIGHT
BEGIN:STANDARD
TZOFFSETFROM:-0500
TZOFFSETTO:-0600
TZNAME:CST
DTSTART:20281105T070000
END:STANDARD
END:VTIMEZONE
BEGIN:VEVENT
DTSTART;TZID=America/Chicago:20261124T160000
DTEND;TZID=America/Chicago:20261124T210000
DTSTAMP:20260424T011040
CREATED:20251219T225558Z
LAST-MODIFIED:20251219T225558Z
UID:10001089-1795536000-1795554000@thecedarsproject.com
SUMMARY:Meet The Brewer - Timber Taps
DESCRIPTION:Every Tuesday\, our brewer Aaron will be behind the bar at Timber Tap Taproom & Brewery. \n•He’ll be pouring pints and answering your questions about how our beers are made. \n​•Learn more about the brewing process and get to know the guy behind the craft. \n•Come on down\, grab a cold one\, and hang out with Aaron.🍻 See you Tuesday!
URL:https://thecedarsproject.com/event/meet-the-brewer-timber-taps/2026-11-24/
LOCATION:Timber Taps\, 100 S Birch St\, Kimberly\, WI\, 54136\, United States
CATEGORIES:Food and Drink
ATTACH;FMTTYPE=image/jpeg:https://thecedarsproject.com/wp-content/uploads/2025/12/taps.jpg
END:VEVENT
BEGIN:VEVENT
DTSTART;TZID=America/Chicago:20261201T160000
DTEND;TZID=America/Chicago:20261201T210000
DTSTAMP:20260424T011040
CREATED:20251219T225558Z
LAST-MODIFIED:20251219T225558Z
UID:10001090-1796140800-1796158800@thecedarsproject.com
SUMMARY:Meet The Brewer - Timber Taps
DESCRIPTION:Every Tuesday\, our brewer Aaron will be behind the bar at Timber Tap Taproom & Brewery. \n•He’ll be pouring pints and answering your questions about how our beers are made. \n​•Learn more about the brewing process and get to know the guy behind the craft. \n•Come on down\, grab a cold one\, and hang out with Aaron.🍻 See you Tuesday!
URL:https://thecedarsproject.com/event/meet-the-brewer-timber-taps/2026-12-01/
LOCATION:Timber Taps\, 100 S Birch St\, Kimberly\, WI\, 54136\, United States
CATEGORIES:Food and Drink
ATTACH;FMTTYPE=image/jpeg:https://thecedarsproject.com/wp-content/uploads/2025/12/taps.jpg
END:VEVENT
BEGIN:VEVENT
DTSTART;TZID=America/Chicago:20261208T160000
DTEND;TZID=America/Chicago:20261208T210000
DTSTAMP:20260424T011040
CREATED:20251219T225558Z
LAST-MODIFIED:20251219T225558Z
UID:10001091-1796745600-1796763600@thecedarsproject.com
SUMMARY:Meet The Brewer - Timber Taps
DESCRIPTION:Every Tuesday\, our brewer Aaron will be behind the bar at Timber Tap Taproom & Brewery. \n•He’ll be pouring pints and answering your questions about how our beers are made. \n​•Learn more about the brewing process and get to know the guy behind the craft. \n•Come on down\, grab a cold one\, and hang out with Aaron.🍻 See you Tuesday!
URL:https://thecedarsproject.com/event/meet-the-brewer-timber-taps/2026-12-08/
LOCATION:Timber Taps\, 100 S Birch St\, Kimberly\, WI\, 54136\, United States
CATEGORIES:Food and Drink
ATTACH;FMTTYPE=image/jpeg:https://thecedarsproject.com/wp-content/uploads/2025/12/taps.jpg
END:VEVENT
BEGIN:VEVENT
DTSTART;TZID=America/Chicago:20261215T160000
DTEND;TZID=America/Chicago:20261215T210000
DTSTAMP:20260424T011040
CREATED:20251219T225558Z
LAST-MODIFIED:20251219T225558Z
UID:10001092-1797350400-1797368400@thecedarsproject.com
SUMMARY:Meet The Brewer - Timber Taps
DESCRIPTION:Every Tuesday\, our brewer Aaron will be behind the bar at Timber Tap Taproom & Brewery. \n•He’ll be pouring pints and answering your questions about how our beers are made. \n​•Learn more about the brewing process and get to know the guy behind the craft. \n•Come on down\, grab a cold one\, and hang out with Aaron.🍻 See you Tuesday!
URL:https://thecedarsproject.com/event/meet-the-brewer-timber-taps/2026-12-15/
LOCATION:Timber Taps\, 100 S Birch St\, Kimberly\, WI\, 54136\, United States
CATEGORIES:Food and Drink
ATTACH;FMTTYPE=image/jpeg:https://thecedarsproject.com/wp-content/uploads/2025/12/taps.jpg
END:VEVENT
BEGIN:VEVENT
DTSTART;TZID=America/Chicago:20261222T160000
DTEND;TZID=America/Chicago:20261222T210000
DTSTAMP:20260424T011040
CREATED:20251219T225558Z
LAST-MODIFIED:20251219T225558Z
UID:10001093-1797955200-1797973200@thecedarsproject.com
SUMMARY:Meet The Brewer - Timber Taps
DESCRIPTION:Every Tuesday\, our brewer Aaron will be behind the bar at Timber Tap Taproom & Brewery. \n•He’ll be pouring pints and answering your questions about how our beers are made. \n​•Learn more about the brewing process and get to know the guy behind the craft. \n•Come on down\, grab a cold one\, and hang out with Aaron.🍻 See you Tuesday!
URL:https://thecedarsproject.com/event/meet-the-brewer-timber-taps/2026-12-22/
LOCATION:Timber Taps\, 100 S Birch St\, Kimberly\, WI\, 54136\, United States
CATEGORIES:Food and Drink
ATTACH;FMTTYPE=image/jpeg:https://thecedarsproject.com/wp-content/uploads/2025/12/taps.jpg
END:VEVENT
BEGIN:VEVENT
DTSTART;TZID=America/Chicago:20261229T160000
DTEND;TZID=America/Chicago:20261229T210000
DTSTAMP:20260424T011040
CREATED:20251219T225558Z
LAST-MODIFIED:20251219T225558Z
UID:10001094-1798560000-1798578000@thecedarsproject.com
SUMMARY:Meet The Brewer - Timber Taps
DESCRIPTION:Every Tuesday\, our brewer Aaron will be behind the bar at Timber Tap Taproom & Brewery. \n•He’ll be pouring pints and answering your questions about how our beers are made. \n​•Learn more about the brewing process and get to know the guy behind the craft. \n•Come on down\, grab a cold one\, and hang out with Aaron.🍻 See you Tuesday!
URL:https://thecedarsproject.com/event/meet-the-brewer-timber-taps/2026-12-29/
LOCATION:Timber Taps\, 100 S Birch St\, Kimberly\, WI\, 54136\, United States
CATEGORIES:Food and Drink
ATTACH;FMTTYPE=image/jpeg:https://thecedarsproject.com/wp-content/uploads/2025/12/taps.jpg
END:VEVENT
BEGIN:VEVENT
DTSTART;TZID=America/Chicago:20270105T160000
DTEND;TZID=America/Chicago:20270105T210000
DTSTAMP:20260424T011040
CREATED:20251219T225558Z
LAST-MODIFIED:20251219T225558Z
UID:10001095-1799164800-1799182800@thecedarsproject.com
SUMMARY:Meet The Brewer - Timber Taps
DESCRIPTION:Every Tuesday\, our brewer Aaron will be behind the bar at Timber Tap Taproom & Brewery. \n•He’ll be pouring pints and answering your questions about how our beers are made. \n​•Learn more about the brewing process and get to know the guy behind the craft. \n•Come on down\, grab a cold one\, and hang out with Aaron.🍻 See you Tuesday!
URL:https://thecedarsproject.com/event/meet-the-brewer-timber-taps/2027-01-05/
LOCATION:Timber Taps\, 100 S Birch St\, Kimberly\, WI\, 54136\, United States
CATEGORIES:Food and Drink
ATTACH;FMTTYPE=image/jpeg:https://thecedarsproject.com/wp-content/uploads/2025/12/taps.jpg
END:VEVENT
BEGIN:VEVENT
DTSTART;TZID=America/Chicago:20270112T160000
DTEND;TZID=America/Chicago:20270112T210000
DTSTAMP:20260424T011040
CREATED:20251219T225558Z
LAST-MODIFIED:20251219T225558Z
UID:10001096-1799769600-1799787600@thecedarsproject.com
SUMMARY:Meet The Brewer - Timber Taps
DESCRIPTION:Every Tuesday\, our brewer Aaron will be behind the bar at Timber Tap Taproom & Brewery. \n•He’ll be pouring pints and answering your questions about how our beers are made. \n​•Learn more about the brewing process and get to know the guy behind the craft. \n•Come on down\, grab a cold one\, and hang out with Aaron.🍻 See you Tuesday!
URL:https://thecedarsproject.com/event/meet-the-brewer-timber-taps/2027-01-12/
LOCATION:Timber Taps\, 100 S Birch St\, Kimberly\, WI\, 54136\, United States
CATEGORIES:Food and Drink
ATTACH;FMTTYPE=image/jpeg:https://thecedarsproject.com/wp-content/uploads/2025/12/taps.jpg
END:VEVENT
BEGIN:VEVENT
DTSTART;TZID=America/Chicago:20270119T160000
DTEND;TZID=America/Chicago:20270119T210000
DTSTAMP:20260424T011041
CREATED:20251219T225558Z
LAST-MODIFIED:20251219T225558Z
UID:10001097-1800374400-1800392400@thecedarsproject.com
SUMMARY:Meet The Brewer - Timber Taps
DESCRIPTION:Every Tuesday\, our brewer Aaron will be behind the bar at Timber Tap Taproom & Brewery. \n•He’ll be pouring pints and answering your questions about how our beers are made. \n​•Learn more about the brewing process and get to know the guy behind the craft. \n•Come on down\, grab a cold one\, and hang out with Aaron.🍻 See you Tuesday!
URL:https://thecedarsproject.com/event/meet-the-brewer-timber-taps/2027-01-19/
LOCATION:Timber Taps\, 100 S Birch St\, Kimberly\, WI\, 54136\, United States
CATEGORIES:Food and Drink
ATTACH;FMTTYPE=image/jpeg:https://thecedarsproject.com/wp-content/uploads/2025/12/taps.jpg
END:VEVENT
BEGIN:VEVENT
DTSTART;TZID=America/Chicago:20270126T160000
DTEND;TZID=America/Chicago:20270126T210000
DTSTAMP:20260424T011041
CREATED:20251219T225558Z
LAST-MODIFIED:20251219T225558Z
UID:10001098-1800979200-1800997200@thecedarsproject.com
SUMMARY:Meet The Brewer - Timber Taps
DESCRIPTION:Every Tuesday\, our brewer Aaron will be behind the bar at Timber Tap Taproom & Brewery. \n•He’ll be pouring pints and answering your questions about how our beers are made. \n​•Learn more about the brewing process and get to know the guy behind the craft. \n•Come on down\, grab a cold one\, and hang out with Aaron.🍻 See you Tuesday!
URL:https://thecedarsproject.com/event/meet-the-brewer-timber-taps/2027-01-26/
LOCATION:Timber Taps\, 100 S Birch St\, Kimberly\, WI\, 54136\, United States
CATEGORIES:Food and Drink
ATTACH;FMTTYPE=image/jpeg:https://thecedarsproject.com/wp-content/uploads/2025/12/taps.jpg
END:VEVENT
BEGIN:VEVENT
DTSTART;TZID=America/Chicago:20270202T160000
DTEND;TZID=America/Chicago:20270202T210000
DTSTAMP:20260424T011041
CREATED:20251219T225558Z
LAST-MODIFIED:20251219T225558Z
UID:10001099-1801584000-1801602000@thecedarsproject.com
SUMMARY:Meet The Brewer - Timber Taps
DESCRIPTION:Every Tuesday\, our brewer Aaron will be behind the bar at Timber Tap Taproom & Brewery. \n•He’ll be pouring pints and answering your questions about how our beers are made. \n​•Learn more about the brewing process and get to know the guy behind the craft. \n•Come on down\, grab a cold one\, and hang out with Aaron.🍻 See you Tuesday!
URL:https://thecedarsproject.com/event/meet-the-brewer-timber-taps/2027-02-02/
LOCATION:Timber Taps\, 100 S Birch St\, Kimberly\, WI\, 54136\, United States
CATEGORIES:Food and Drink
ATTACH;FMTTYPE=image/jpeg:https://thecedarsproject.com/wp-content/uploads/2025/12/taps.jpg
END:VEVENT
BEGIN:VEVENT
DTSTART;TZID=America/Chicago:20270209T160000
DTEND;TZID=America/Chicago:20270209T210000
DTSTAMP:20260424T011041
CREATED:20251219T225558Z
LAST-MODIFIED:20251219T225558Z
UID:10001100-1802188800-1802206800@thecedarsproject.com
SUMMARY:Meet The Brewer - Timber Taps
DESCRIPTION:Every Tuesday\, our brewer Aaron will be behind the bar at Timber Tap Taproom & Brewery. \n•He’ll be pouring pints and answering your questions about how our beers are made. \n​•Learn more about the brewing process and get to know the guy behind the craft. \n•Come on down\, grab a cold one\, and hang out with Aaron.🍻 See you Tuesday!
URL:https://thecedarsproject.com/event/meet-the-brewer-timber-taps/2027-02-09/
LOCATION:Timber Taps\, 100 S Birch St\, Kimberly\, WI\, 54136\, United States
CATEGORIES:Food and Drink
ATTACH;FMTTYPE=image/jpeg:https://thecedarsproject.com/wp-content/uploads/2025/12/taps.jpg
END:VEVENT
BEGIN:VEVENT
DTSTART;TZID=America/Chicago:20270216T160000
DTEND;TZID=America/Chicago:20270216T210000
DTSTAMP:20260424T011041
CREATED:20251219T225558Z
LAST-MODIFIED:20251219T225558Z
UID:10001101-1802793600-1802811600@thecedarsproject.com
SUMMARY:Meet The Brewer - Timber Taps
DESCRIPTION:Every Tuesday\, our brewer Aaron will be behind the bar at Timber Tap Taproom & Brewery. \n•He’ll be pouring pints and answering your questions about how our beers are made. \n​•Learn more about the brewing process and get to know the guy behind the craft. \n•Come on down\, grab a cold one\, and hang out with Aaron.🍻 See you Tuesday!
URL:https://thecedarsproject.com/event/meet-the-brewer-timber-taps/2027-02-16/
LOCATION:Timber Taps\, 100 S Birch St\, Kimberly\, WI\, 54136\, United States
CATEGORIES:Food and Drink
ATTACH;FMTTYPE=image/jpeg:https://thecedarsproject.com/wp-content/uploads/2025/12/taps.jpg
END:VEVENT
BEGIN:VEVENT
DTSTART;TZID=America/Chicago:20270223T160000
DTEND;TZID=America/Chicago:20270223T210000
DTSTAMP:20260424T011041
CREATED:20251219T225558Z
LAST-MODIFIED:20251219T225558Z
UID:10001102-1803398400-1803416400@thecedarsproject.com
SUMMARY:Meet The Brewer - Timber Taps
DESCRIPTION:Every Tuesday\, our brewer Aaron will be behind the bar at Timber Tap Taproom & Brewery. \n•He’ll be pouring pints and answering your questions about how our beers are made. \n​•Learn more about the brewing process and get to know the guy behind the craft. \n•Come on down\, grab a cold one\, and hang out with Aaron.🍻 See you Tuesday!
URL:https://thecedarsproject.com/event/meet-the-brewer-timber-taps/2027-02-23/
LOCATION:Timber Taps\, 100 S Birch St\, Kimberly\, WI\, 54136\, United States
CATEGORIES:Food and Drink
ATTACH;FMTTYPE=image/jpeg:https://thecedarsproject.com/wp-content/uploads/2025/12/taps.jpg
END:VEVENT
BEGIN:VEVENT
DTSTART;TZID=America/Chicago:20270302T160000
DTEND;TZID=America/Chicago:20270302T210000
DTSTAMP:20260424T011041
CREATED:20251219T225558Z
LAST-MODIFIED:20251219T225558Z
UID:10001103-1804003200-1804021200@thecedarsproject.com
SUMMARY:Meet The Brewer - Timber Taps
DESCRIPTION:Every Tuesday\, our brewer Aaron will be behind the bar at Timber Tap Taproom & Brewery. \n•He’ll be pouring pints and answering your questions about how our beers are made. \n​•Learn more about the brewing process and get to know the guy behind the craft. \n•Come on down\, grab a cold one\, and hang out with Aaron.🍻 See you Tuesday!
URL:https://thecedarsproject.com/event/meet-the-brewer-timber-taps/2027-03-02/
LOCATION:Timber Taps\, 100 S Birch St\, Kimberly\, WI\, 54136\, United States
CATEGORIES:Food and Drink
ATTACH;FMTTYPE=image/jpeg:https://thecedarsproject.com/wp-content/uploads/2025/12/taps.jpg
END:VEVENT
BEGIN:VEVENT
DTSTART;TZID=America/Chicago:20270309T160000
DTEND;TZID=America/Chicago:20270309T210000
DTSTAMP:20260424T011041
CREATED:20251219T225558Z
LAST-MODIFIED:20251219T225558Z
UID:10001104-1804608000-1804626000@thecedarsproject.com
SUMMARY:Meet The Brewer - Timber Taps
DESCRIPTION:Every Tuesday\, our brewer Aaron will be behind the bar at Timber Tap Taproom & Brewery. \n•He’ll be pouring pints and answering your questions about how our beers are made. \n​•Learn more about the brewing process and get to know the guy behind the craft. \n•Come on down\, grab a cold one\, and hang out with Aaron.🍻 See you Tuesday!
URL:https://thecedarsproject.com/event/meet-the-brewer-timber-taps/2027-03-09/
LOCATION:Timber Taps\, 100 S Birch St\, Kimberly\, WI\, 54136\, United States
CATEGORIES:Food and Drink
ATTACH;FMTTYPE=image/jpeg:https://thecedarsproject.com/wp-content/uploads/2025/12/taps.jpg
END:VEVENT
BEGIN:VEVENT
DTSTART;TZID=America/Chicago:20270316T160000
DTEND;TZID=America/Chicago:20270316T210000
DTSTAMP:20260424T011041
CREATED:20251219T225558Z
LAST-MODIFIED:20251219T225558Z
UID:10001105-1805212800-1805230800@thecedarsproject.com
SUMMARY:Meet The Brewer - Timber Taps
DESCRIPTION:Every Tuesday\, our brewer Aaron will be behind the bar at Timber Tap Taproom & Brewery. \n•He’ll be pouring pints and answering your questions about how our beers are made. \n​•Learn more about the brewing process and get to know the guy behind the craft. \n•Come on down\, grab a cold one\, and hang out with Aaron.🍻 See you Tuesday!
URL:https://thecedarsproject.com/event/meet-the-brewer-timber-taps/2027-03-16/
LOCATION:Timber Taps\, 100 S Birch St\, Kimberly\, WI\, 54136\, United States
CATEGORIES:Food and Drink
ATTACH;FMTTYPE=image/jpeg:https://thecedarsproject.com/wp-content/uploads/2025/12/taps.jpg
END:VEVENT
BEGIN:VEVENT
DTSTART;TZID=America/Chicago:20270323T160000
DTEND;TZID=America/Chicago:20270323T210000
DTSTAMP:20260424T011041
CREATED:20251219T225558Z
LAST-MODIFIED:20251219T225558Z
UID:10001106-1805817600-1805835600@thecedarsproject.com
SUMMARY:Meet The Brewer - Timber Taps
DESCRIPTION:Every Tuesday\, our brewer Aaron will be behind the bar at Timber Tap Taproom & Brewery. \n•He’ll be pouring pints and answering your questions about how our beers are made. \n​•Learn more about the brewing process and get to know the guy behind the craft. \n•Come on down\, grab a cold one\, and hang out with Aaron.🍻 See you Tuesday!
URL:https://thecedarsproject.com/event/meet-the-brewer-timber-taps/2027-03-23/
LOCATION:Timber Taps\, 100 S Birch St\, Kimberly\, WI\, 54136\, United States
CATEGORIES:Food and Drink
ATTACH;FMTTYPE=image/jpeg:https://thecedarsproject.com/wp-content/uploads/2025/12/taps.jpg
END:VEVENT
BEGIN:VEVENT
DTSTART;TZID=America/Chicago:20270330T160000
DTEND;TZID=America/Chicago:20270330T210000
DTSTAMP:20260424T011041
CREATED:20251219T225558Z
LAST-MODIFIED:20251219T225558Z
UID:10001107-1806422400-1806440400@thecedarsproject.com
SUMMARY:Meet The Brewer - Timber Taps
DESCRIPTION:Every Tuesday\, our brewer Aaron will be behind the bar at Timber Tap Taproom & Brewery. \n•He’ll be pouring pints and answering your questions about how our beers are made. \n​•Learn more about the brewing process and get to know the guy behind the craft. \n•Come on down\, grab a cold one\, and hang out with Aaron.🍻 See you Tuesday!
URL:https://thecedarsproject.com/event/meet-the-brewer-timber-taps/2027-03-30/
LOCATION:Timber Taps\, 100 S Birch St\, Kimberly\, WI\, 54136\, United States
CATEGORIES:Food and Drink
ATTACH;FMTTYPE=image/jpeg:https://thecedarsproject.com/wp-content/uploads/2025/12/taps.jpg
END:VEVENT
BEGIN:VEVENT
DTSTART;TZID=America/Chicago:20270406T160000
DTEND;TZID=America/Chicago:20270406T210000
DTSTAMP:20260424T011041
CREATED:20251219T225558Z
LAST-MODIFIED:20251219T225558Z
UID:10001108-1807027200-1807045200@thecedarsproject.com
SUMMARY:Meet The Brewer - Timber Taps
DESCRIPTION:Every Tuesday\, our brewer Aaron will be behind the bar at Timber Tap Taproom & Brewery. \n•He’ll be pouring pints and answering your questions about how our beers are made. \n​•Learn more about the brewing process and get to know the guy behind the craft. \n•Come on down\, grab a cold one\, and hang out with Aaron.🍻 See you Tuesday!
URL:https://thecedarsproject.com/event/meet-the-brewer-timber-taps/2027-04-06/
LOCATION:Timber Taps\, 100 S Birch St\, Kimberly\, WI\, 54136\, United States
CATEGORIES:Food and Drink
ATTACH;FMTTYPE=image/jpeg:https://thecedarsproject.com/wp-content/uploads/2025/12/taps.jpg
END:VEVENT
BEGIN:VEVENT
DTSTART;TZID=America/Chicago:20270413T160000
DTEND;TZID=America/Chicago:20270413T210000
DTSTAMP:20260424T011041
CREATED:20251219T225558Z
LAST-MODIFIED:20251219T225558Z
UID:10001109-1807632000-1807650000@thecedarsproject.com
SUMMARY:Meet The Brewer - Timber Taps
DESCRIPTION:Every Tuesday\, our brewer Aaron will be behind the bar at Timber Tap Taproom & Brewery. \n•He’ll be pouring pints and answering your questions about how our beers are made. \n​•Learn more about the brewing process and get to know the guy behind the craft. \n•Come on down\, grab a cold one\, and hang out with Aaron.🍻 See you Tuesday!
URL:https://thecedarsproject.com/event/meet-the-brewer-timber-taps/2027-04-13/
LOCATION:Timber Taps\, 100 S Birch St\, Kimberly\, WI\, 54136\, United States
CATEGORIES:Food and Drink
ATTACH;FMTTYPE=image/jpeg:https://thecedarsproject.com/wp-content/uploads/2025/12/taps.jpg
END:VEVENT
BEGIN:VEVENT
DTSTART;TZID=America/Chicago:20270420T160000
DTEND;TZID=America/Chicago:20270420T210000
DTSTAMP:20260424T011041
CREATED:20251219T225558Z
LAST-MODIFIED:20251219T225558Z
UID:10001110-1808236800-1808254800@thecedarsproject.com
SUMMARY:Meet The Brewer - Timber Taps
DESCRIPTION:Every Tuesday\, our brewer Aaron will be behind the bar at Timber Tap Taproom & Brewery. \n•He’ll be pouring pints and answering your questions about how our beers are made. \n​•Learn more about the brewing process and get to know the guy behind the craft. \n•Come on down\, grab a cold one\, and hang out with Aaron.🍻 See you Tuesday!
URL:https://thecedarsproject.com/event/meet-the-brewer-timber-taps/2027-04-20/
LOCATION:Timber Taps\, 100 S Birch St\, Kimberly\, WI\, 54136\, United States
CATEGORIES:Food and Drink
ATTACH;FMTTYPE=image/jpeg:https://thecedarsproject.com/wp-content/uploads/2025/12/taps.jpg
END:VEVENT
BEGIN:VEVENT
DTSTART;TZID=America/Chicago:20270427T160000
DTEND;TZID=America/Chicago:20270427T210000
DTSTAMP:20260424T011041
CREATED:20251219T225558Z
LAST-MODIFIED:20251219T225558Z
UID:10001111-1808841600-1808859600@thecedarsproject.com
SUMMARY:Meet The Brewer - Timber Taps
DESCRIPTION:Every Tuesday\, our brewer Aaron will be behind the bar at Timber Tap Taproom & Brewery. \n•He’ll be pouring pints and answering your questions about how our beers are made. \n​•Learn more about the brewing process and get to know the guy behind the craft. \n•Come on down\, grab a cold one\, and hang out with Aaron.🍻 See you Tuesday!
URL:https://thecedarsproject.com/event/meet-the-brewer-timber-taps/2027-04-27/
LOCATION:Timber Taps\, 100 S Birch St\, Kimberly\, WI\, 54136\, United States
CATEGORIES:Food and Drink
ATTACH;FMTTYPE=image/jpeg:https://thecedarsproject.com/wp-content/uploads/2025/12/taps.jpg
END:VEVENT
BEGIN:VEVENT
DTSTART;TZID=America/Chicago:20270504T160000
DTEND;TZID=America/Chicago:20270504T210000
DTSTAMP:20260424T011041
CREATED:20251219T225558Z
LAST-MODIFIED:20251219T225558Z
UID:10001112-1809446400-1809464400@thecedarsproject.com
SUMMARY:Meet The Brewer - Timber Taps
DESCRIPTION:Every Tuesday\, our brewer Aaron will be behind the bar at Timber Tap Taproom & Brewery. \n•He’ll be pouring pints and answering your questions about how our beers are made. \n​•Learn more about the brewing process and get to know the guy behind the craft. \n•Come on down\, grab a cold one\, and hang out with Aaron.🍻 See you Tuesday!
URL:https://thecedarsproject.com/event/meet-the-brewer-timber-taps/2027-05-04/
LOCATION:Timber Taps\, 100 S Birch St\, Kimberly\, WI\, 54136\, United States
CATEGORIES:Food and Drink
ATTACH;FMTTYPE=image/jpeg:https://thecedarsproject.com/wp-content/uploads/2025/12/taps.jpg
END:VEVENT
BEGIN:VEVENT
DTSTART;TZID=America/Chicago:20270511T160000
DTEND;TZID=America/Chicago:20270511T210000
DTSTAMP:20260424T011041
CREATED:20251219T225558Z
LAST-MODIFIED:20251219T225558Z
UID:10001113-1810051200-1810069200@thecedarsproject.com
SUMMARY:Meet The Brewer - Timber Taps
DESCRIPTION:Every Tuesday\, our brewer Aaron will be behind the bar at Timber Tap Taproom & Brewery. \n•He’ll be pouring pints and answering your questions about how our beers are made. \n​•Learn more about the brewing process and get to know the guy behind the craft. \n•Come on down\, grab a cold one\, and hang out with Aaron.🍻 See you Tuesday!
URL:https://thecedarsproject.com/event/meet-the-brewer-timber-taps/2027-05-11/
LOCATION:Timber Taps\, 100 S Birch St\, Kimberly\, WI\, 54136\, United States
CATEGORIES:Food and Drink
ATTACH;FMTTYPE=image/jpeg:https://thecedarsproject.com/wp-content/uploads/2025/12/taps.jpg
END:VEVENT
BEGIN:VEVENT
DTSTART;TZID=America/Chicago:20270518T160000
DTEND;TZID=America/Chicago:20270518T210000
DTSTAMP:20260424T011041
CREATED:20251219T225558Z
LAST-MODIFIED:20251219T225558Z
UID:10001114-1810656000-1810674000@thecedarsproject.com
SUMMARY:Meet The Brewer - Timber Taps
DESCRIPTION:Every Tuesday\, our brewer Aaron will be behind the bar at Timber Tap Taproom & Brewery. \n•He’ll be pouring pints and answering your questions about how our beers are made. \n​•Learn more about the brewing process and get to know the guy behind the craft. \n•Come on down\, grab a cold one\, and hang out with Aaron.🍻 See you Tuesday!
URL:https://thecedarsproject.com/event/meet-the-brewer-timber-taps/2027-05-18/
LOCATION:Timber Taps\, 100 S Birch St\, Kimberly\, WI\, 54136\, United States
CATEGORIES:Food and Drink
ATTACH;FMTTYPE=image/jpeg:https://thecedarsproject.com/wp-content/uploads/2025/12/taps.jpg
END:VEVENT
BEGIN:VEVENT
DTSTART;TZID=America/Chicago:20270525T160000
DTEND;TZID=America/Chicago:20270525T210000
DTSTAMP:20260424T011041
CREATED:20251219T225558Z
LAST-MODIFIED:20251219T225558Z
UID:10001115-1811260800-1811278800@thecedarsproject.com
SUMMARY:Meet The Brewer - Timber Taps
DESCRIPTION:Every Tuesday\, our brewer Aaron will be behind the bar at Timber Tap Taproom & Brewery. \n•He’ll be pouring pints and answering your questions about how our beers are made. \n​•Learn more about the brewing process and get to know the guy behind the craft. \n•Come on down\, grab a cold one\, and hang out with Aaron.🍻 See you Tuesday!
URL:https://thecedarsproject.com/event/meet-the-brewer-timber-taps/2027-05-25/
LOCATION:Timber Taps\, 100 S Birch St\, Kimberly\, WI\, 54136\, United States
CATEGORIES:Food and Drink
ATTACH;FMTTYPE=image/jpeg:https://thecedarsproject.com/wp-content/uploads/2025/12/taps.jpg
END:VEVENT
BEGIN:VEVENT
DTSTART;TZID=America/Chicago:20270601T160000
DTEND;TZID=America/Chicago:20270601T210000
DTSTAMP:20260424T011041
CREATED:20251219T225558Z
LAST-MODIFIED:20251219T225558Z
UID:10001116-1811865600-1811883600@thecedarsproject.com
SUMMARY:Meet The Brewer - Timber Taps
DESCRIPTION:Every Tuesday\, our brewer Aaron will be behind the bar at Timber Tap Taproom & Brewery. \n•He’ll be pouring pints and answering your questions about how our beers are made. \n​•Learn more about the brewing process and get to know the guy behind the craft. \n•Come on down\, grab a cold one\, and hang out with Aaron.🍻 See you Tuesday!
URL:https://thecedarsproject.com/event/meet-the-brewer-timber-taps/2027-06-01/
LOCATION:Timber Taps\, 100 S Birch St\, Kimberly\, WI\, 54136\, United States
CATEGORIES:Food and Drink
ATTACH;FMTTYPE=image/jpeg:https://thecedarsproject.com/wp-content/uploads/2025/12/taps.jpg
END:VEVENT
BEGIN:VEVENT
DTSTART;TZID=America/Chicago:20270608T160000
DTEND;TZID=America/Chicago:20270608T210000
DTSTAMP:20260424T011041
CREATED:20251219T225558Z
LAST-MODIFIED:20251219T225558Z
UID:10001117-1812470400-1812488400@thecedarsproject.com
SUMMARY:Meet The Brewer - Timber Taps
DESCRIPTION:Every Tuesday\, our brewer Aaron will be behind the bar at Timber Tap Taproom & Brewery. \n•He’ll be pouring pints and answering your questions about how our beers are made. \n​•Learn more about the brewing process and get to know the guy behind the craft. \n•Come on down\, grab a cold one\, and hang out with Aaron.🍻 See you Tuesday!
URL:https://thecedarsproject.com/event/meet-the-brewer-timber-taps/2027-06-08/
LOCATION:Timber Taps\, 100 S Birch St\, Kimberly\, WI\, 54136\, United States
CATEGORIES:Food and Drink
ATTACH;FMTTYPE=image/jpeg:https://thecedarsproject.com/wp-content/uploads/2025/12/taps.jpg
END:VEVENT
BEGIN:VEVENT
DTSTART;TZID=America/Chicago:20270615T160000
DTEND;TZID=America/Chicago:20270615T210000
DTSTAMP:20260424T011041
CREATED:20251219T225558Z
LAST-MODIFIED:20251219T225558Z
UID:10001118-1813075200-1813093200@thecedarsproject.com
SUMMARY:Meet The Brewer - Timber Taps
DESCRIPTION:Every Tuesday\, our brewer Aaron will be behind the bar at Timber Tap Taproom & Brewery. \n•He’ll be pouring pints and answering your questions about how our beers are made. \n​•Learn more about the brewing process and get to know the guy behind the craft. \n•Come on down\, grab a cold one\, and hang out with Aaron.🍻 See you Tuesday!
URL:https://thecedarsproject.com/event/meet-the-brewer-timber-taps/2027-06-15/
LOCATION:Timber Taps\, 100 S Birch St\, Kimberly\, WI\, 54136\, United States
CATEGORIES:Food and Drink
ATTACH;FMTTYPE=image/jpeg:https://thecedarsproject.com/wp-content/uploads/2025/12/taps.jpg
END:VEVENT
END:VCALENDAR