BEGIN:VCALENDAR
VERSION:2.0
PRODID:-// - ECPv6.15.20//NONSGML v1.0//EN
CALSCALE:GREGORIAN
METHOD:PUBLISH
X-ORIGINAL-URL:https://thecedarsproject.com
X-WR-CALDESC:Events for 
REFRESH-INTERVAL;VALUE=DURATION:PT1H
X-Robots-Tag:noindex
X-PUBLISHED-TTL:PT1H
BEGIN:VTIMEZONE
TZID:America/Chicago
BEGIN:DAYLIGHT
TZOFFSETFROM:-0600
TZOFFSETTO:-0500
TZNAME:CDT
DTSTART:20250309T080000
END:DAYLIGHT
BEGIN:STANDARD
TZOFFSETFROM:-0500
TZOFFSETTO:-0600
TZNAME:CST
DTSTART:20251102T070000
END:STANDARD
BEGIN:DAYLIGHT
TZOFFSETFROM:-0600
TZOFFSETTO:-0500
TZNAME:CDT
DTSTART:20260308T080000
END:DAYLIGHT
BEGIN:STANDARD
TZOFFSETFROM:-0500
TZOFFSETTO:-0600
TZNAME:CST
DTSTART:20261101T070000
END:STANDARD
BEGIN:DAYLIGHT
TZOFFSETFROM:-0600
TZOFFSETTO:-0500
TZNAME:CDT
DTSTART:20270314T080000
END:DAYLIGHT
BEGIN:STANDARD
TZOFFSETFROM:-0500
TZOFFSETTO:-0600
TZNAME:CST
DTSTART:20271107T070000
END:STANDARD
END:VTIMEZONE
BEGIN:VEVENT
DTSTART;TZID=America/Chicago:20260422T190000
DTEND;TZID=America/Chicago:20260422T210000
DTSTAMP:20260423T211206
CREATED:20251218T204754Z
LAST-MODIFIED:20251218T215547Z
UID:10000656-1776884400-1776891600@thecedarsproject.com
SUMMARY:Open Mic Night McFleschmans
DESCRIPTION:Every Wednesday 7-9pm.\nHosted by Sarah Lynn Huss. \nDo You Have Talent?\nThis is your chance. \nDo you live discovering new artists?\nThis event is for you. \nMusic\, stand-up\, poetry\, beer.
URL:https://thecedarsproject.com/event/open-mic-night-mcfleschmans/2026-04-22/
LOCATION:Mcfleschmans Brewing Co.\, 115 S State St\, Appleton\, 54911\, United States
CATEGORIES:Live Music
ATTACH;FMTTYPE=image/jpeg:https://thecedarsproject.com/wp-content/uploads/2025/12/1000009064.jpg
END:VEVENT
BEGIN:VEVENT
DTSTART;TZID=America/Chicago:20260415T190000
DTEND;TZID=America/Chicago:20260415T210000
DTSTAMP:20260423T211206
CREATED:20251218T204754Z
LAST-MODIFIED:20251218T215547Z
UID:10000655-1776279600-1776286800@thecedarsproject.com
SUMMARY:Open Mic Night McFleschmans
DESCRIPTION:Every Wednesday 7-9pm.\nHosted by Sarah Lynn Huss. \nDo You Have Talent?\nThis is your chance. \nDo you live discovering new artists?\nThis event is for you. \nMusic\, stand-up\, poetry\, beer.
URL:https://thecedarsproject.com/event/open-mic-night-mcfleschmans/2026-04-15/
LOCATION:Mcfleschmans Brewing Co.\, 115 S State St\, Appleton\, 54911\, United States
CATEGORIES:Live Music
ATTACH;FMTTYPE=image/jpeg:https://thecedarsproject.com/wp-content/uploads/2025/12/1000009064.jpg
END:VEVENT
BEGIN:VEVENT
DTSTART;TZID=America/Chicago:20260408T190000
DTEND;TZID=America/Chicago:20260408T210000
DTSTAMP:20260423T211206
CREATED:20251218T204754Z
LAST-MODIFIED:20251218T215547Z
UID:10000654-1775674800-1775682000@thecedarsproject.com
SUMMARY:Open Mic Night McFleschmans
DESCRIPTION:Every Wednesday 7-9pm.\nHosted by Sarah Lynn Huss. \nDo You Have Talent?\nThis is your chance. \nDo you live discovering new artists?\nThis event is for you. \nMusic\, stand-up\, poetry\, beer.
URL:https://thecedarsproject.com/event/open-mic-night-mcfleschmans/2026-04-08/
LOCATION:Mcfleschmans Brewing Co.\, 115 S State St\, Appleton\, 54911\, United States
CATEGORIES:Live Music
ATTACH;FMTTYPE=image/jpeg:https://thecedarsproject.com/wp-content/uploads/2025/12/1000009064.jpg
END:VEVENT
BEGIN:VEVENT
DTSTART;TZID=America/Chicago:20260401T190000
DTEND;TZID=America/Chicago:20260401T210000
DTSTAMP:20260423T211206
CREATED:20251218T204754Z
LAST-MODIFIED:20251218T215547Z
UID:10000653-1775070000-1775077200@thecedarsproject.com
SUMMARY:Open Mic Night McFleschmans
DESCRIPTION:Every Wednesday 7-9pm.\nHosted by Sarah Lynn Huss. \nDo You Have Talent?\nThis is your chance. \nDo you live discovering new artists?\nThis event is for you. \nMusic\, stand-up\, poetry\, beer.
URL:https://thecedarsproject.com/event/open-mic-night-mcfleschmans/2026-04-01/
LOCATION:Mcfleschmans Brewing Co.\, 115 S State St\, Appleton\, 54911\, United States
CATEGORIES:Live Music
ATTACH;FMTTYPE=image/jpeg:https://thecedarsproject.com/wp-content/uploads/2025/12/1000009064.jpg
END:VEVENT
BEGIN:VEVENT
DTSTART;TZID=America/Chicago:20260325T190000
DTEND;TZID=America/Chicago:20260325T210000
DTSTAMP:20260423T211206
CREATED:20251218T204754Z
LAST-MODIFIED:20251218T215547Z
UID:10000652-1774465200-1774472400@thecedarsproject.com
SUMMARY:Open Mic Night McFleschmans
DESCRIPTION:Every Wednesday 7-9pm.\nHosted by Sarah Lynn Huss. \nDo You Have Talent?\nThis is your chance. \nDo you live discovering new artists?\nThis event is for you. \nMusic\, stand-up\, poetry\, beer.
URL:https://thecedarsproject.com/event/open-mic-night-mcfleschmans/2026-03-25/
LOCATION:Mcfleschmans Brewing Co.\, 115 S State St\, Appleton\, 54911\, United States
CATEGORIES:Live Music
ATTACH;FMTTYPE=image/jpeg:https://thecedarsproject.com/wp-content/uploads/2025/12/1000009064.jpg
END:VEVENT
BEGIN:VEVENT
DTSTART;TZID=America/Chicago:20260318T190000
DTEND;TZID=America/Chicago:20260318T210000
DTSTAMP:20260423T211206
CREATED:20251218T204754Z
LAST-MODIFIED:20251218T215547Z
UID:10000651-1773860400-1773867600@thecedarsproject.com
SUMMARY:Open Mic Night McFleschmans
DESCRIPTION:Every Wednesday 7-9pm.\nHosted by Sarah Lynn Huss. \nDo You Have Talent?\nThis is your chance. \nDo you live discovering new artists?\nThis event is for you. \nMusic\, stand-up\, poetry\, beer.
URL:https://thecedarsproject.com/event/open-mic-night-mcfleschmans/2026-03-18/
LOCATION:Mcfleschmans Brewing Co.\, 115 S State St\, Appleton\, 54911\, United States
CATEGORIES:Live Music
ATTACH;FMTTYPE=image/jpeg:https://thecedarsproject.com/wp-content/uploads/2025/12/1000009064.jpg
END:VEVENT
BEGIN:VEVENT
DTSTART;TZID=America/Chicago:20260311T190000
DTEND;TZID=America/Chicago:20260311T210000
DTSTAMP:20260423T211206
CREATED:20251218T204754Z
LAST-MODIFIED:20251218T215547Z
UID:10000650-1773255600-1773262800@thecedarsproject.com
SUMMARY:Open Mic Night McFleschmans
DESCRIPTION:Every Wednesday 7-9pm.\nHosted by Sarah Lynn Huss. \nDo You Have Talent?\nThis is your chance. \nDo you live discovering new artists?\nThis event is for you. \nMusic\, stand-up\, poetry\, beer.
URL:https://thecedarsproject.com/event/open-mic-night-mcfleschmans/2026-03-11/
LOCATION:Mcfleschmans Brewing Co.\, 115 S State St\, Appleton\, 54911\, United States
CATEGORIES:Live Music
ATTACH;FMTTYPE=image/jpeg:https://thecedarsproject.com/wp-content/uploads/2025/12/1000009064.jpg
END:VEVENT
BEGIN:VEVENT
DTSTART;TZID=America/Chicago:20260304T190000
DTEND;TZID=America/Chicago:20260304T210000
DTSTAMP:20260423T211206
CREATED:20251218T204754Z
LAST-MODIFIED:20251218T215547Z
UID:10000649-1772650800-1772658000@thecedarsproject.com
SUMMARY:Open Mic Night McFleschmans
DESCRIPTION:Every Wednesday 7-9pm.\nHosted by Sarah Lynn Huss. \nDo You Have Talent?\nThis is your chance. \nDo you live discovering new artists?\nThis event is for you. \nMusic\, stand-up\, poetry\, beer.
URL:https://thecedarsproject.com/event/open-mic-night-mcfleschmans/2026-03-04/
LOCATION:Mcfleschmans Brewing Co.\, 115 S State St\, Appleton\, 54911\, United States
CATEGORIES:Live Music
ATTACH;FMTTYPE=image/jpeg:https://thecedarsproject.com/wp-content/uploads/2025/12/1000009064.jpg
END:VEVENT
BEGIN:VEVENT
DTSTART;TZID=America/Chicago:20260225T190000
DTEND;TZID=America/Chicago:20260225T210000
DTSTAMP:20260423T211206
CREATED:20251218T204754Z
LAST-MODIFIED:20251218T215547Z
UID:10000648-1772046000-1772053200@thecedarsproject.com
SUMMARY:Open Mic Night McFleschmans
DESCRIPTION:Every Wednesday 7-9pm.\nHosted by Sarah Lynn Huss. \nDo You Have Talent?\nThis is your chance. \nDo you live discovering new artists?\nThis event is for you. \nMusic\, stand-up\, poetry\, beer.
URL:https://thecedarsproject.com/event/open-mic-night-mcfleschmans/2026-02-25/
LOCATION:Mcfleschmans Brewing Co.\, 115 S State St\, Appleton\, 54911\, United States
CATEGORIES:Live Music
ATTACH;FMTTYPE=image/jpeg:https://thecedarsproject.com/wp-content/uploads/2025/12/1000009064.jpg
END:VEVENT
BEGIN:VEVENT
DTSTART;TZID=America/Chicago:20260218T190000
DTEND;TZID=America/Chicago:20260218T210000
DTSTAMP:20260423T211206
CREATED:20251218T204754Z
LAST-MODIFIED:20251218T215547Z
UID:10000647-1771441200-1771448400@thecedarsproject.com
SUMMARY:Open Mic Night McFleschmans
DESCRIPTION:Every Wednesday 7-9pm.\nHosted by Sarah Lynn Huss. \nDo You Have Talent?\nThis is your chance. \nDo you live discovering new artists?\nThis event is for you. \nMusic\, stand-up\, poetry\, beer.
URL:https://thecedarsproject.com/event/open-mic-night-mcfleschmans/2026-02-18/
LOCATION:Mcfleschmans Brewing Co.\, 115 S State St\, Appleton\, 54911\, United States
CATEGORIES:Live Music
ATTACH;FMTTYPE=image/jpeg:https://thecedarsproject.com/wp-content/uploads/2025/12/1000009064.jpg
END:VEVENT
BEGIN:VEVENT
DTSTART;TZID=America/Chicago:20260211T190000
DTEND;TZID=America/Chicago:20260211T210000
DTSTAMP:20260423T211206
CREATED:20251218T204754Z
LAST-MODIFIED:20251218T215547Z
UID:10000646-1770836400-1770843600@thecedarsproject.com
SUMMARY:Open Mic Night McFleschmans
DESCRIPTION:Every Wednesday 7-9pm.\nHosted by Sarah Lynn Huss. \nDo You Have Talent?\nThis is your chance. \nDo you live discovering new artists?\nThis event is for you. \nMusic\, stand-up\, poetry\, beer.
URL:https://thecedarsproject.com/event/open-mic-night-mcfleschmans/2026-02-11/
LOCATION:Mcfleschmans Brewing Co.\, 115 S State St\, Appleton\, 54911\, United States
CATEGORIES:Live Music
ATTACH;FMTTYPE=image/jpeg:https://thecedarsproject.com/wp-content/uploads/2025/12/1000009064.jpg
END:VEVENT
BEGIN:VEVENT
DTSTART;TZID=America/Chicago:20260204T190000
DTEND;TZID=America/Chicago:20260204T210000
DTSTAMP:20260423T211206
CREATED:20251218T204754Z
LAST-MODIFIED:20251218T215547Z
UID:10000645-1770231600-1770238800@thecedarsproject.com
SUMMARY:Open Mic Night McFleschmans
DESCRIPTION:Every Wednesday 7-9pm.\nHosted by Sarah Lynn Huss. \nDo You Have Talent?\nThis is your chance. \nDo you live discovering new artists?\nThis event is for you. \nMusic\, stand-up\, poetry\, beer.
URL:https://thecedarsproject.com/event/open-mic-night-mcfleschmans/2026-02-04/
LOCATION:Mcfleschmans Brewing Co.\, 115 S State St\, Appleton\, 54911\, United States
CATEGORIES:Live Music
ATTACH;FMTTYPE=image/jpeg:https://thecedarsproject.com/wp-content/uploads/2025/12/1000009064.jpg
END:VEVENT
BEGIN:VEVENT
DTSTART;TZID=America/Chicago:20260128T190000
DTEND;TZID=America/Chicago:20260128T210000
DTSTAMP:20260423T211206
CREATED:20251218T204754Z
LAST-MODIFIED:20251218T215547Z
UID:10000644-1769626800-1769634000@thecedarsproject.com
SUMMARY:Open Mic Night McFleschmans
DESCRIPTION:Every Wednesday 7-9pm.\nHosted by Sarah Lynn Huss. \nDo You Have Talent?\nThis is your chance. \nDo you live discovering new artists?\nThis event is for you. \nMusic\, stand-up\, poetry\, beer.
URL:https://thecedarsproject.com/event/open-mic-night-mcfleschmans/2026-01-28/
LOCATION:Mcfleschmans Brewing Co.\, 115 S State St\, Appleton\, 54911\, United States
CATEGORIES:Live Music
ATTACH;FMTTYPE=image/jpeg:https://thecedarsproject.com/wp-content/uploads/2025/12/1000009064.jpg
END:VEVENT
BEGIN:VEVENT
DTSTART;TZID=America/Chicago:20260121T190000
DTEND;TZID=America/Chicago:20260121T210000
DTSTAMP:20260423T211206
CREATED:20251218T204754Z
LAST-MODIFIED:20251218T215547Z
UID:10000643-1769022000-1769029200@thecedarsproject.com
SUMMARY:Open Mic Night McFleschmans
DESCRIPTION:Every Wednesday 7-9pm.\nHosted by Sarah Lynn Huss. \nDo You Have Talent?\nThis is your chance. \nDo you live discovering new artists?\nThis event is for you. \nMusic\, stand-up\, poetry\, beer.
URL:https://thecedarsproject.com/event/open-mic-night-mcfleschmans/2026-01-21/
LOCATION:Mcfleschmans Brewing Co.\, 115 S State St\, Appleton\, 54911\, United States
CATEGORIES:Live Music
ATTACH;FMTTYPE=image/jpeg:https://thecedarsproject.com/wp-content/uploads/2025/12/1000009064.jpg
END:VEVENT
BEGIN:VEVENT
DTSTART;TZID=America/Chicago:20260114T190000
DTEND;TZID=America/Chicago:20260114T210000
DTSTAMP:20260423T211206
CREATED:20251218T204754Z
LAST-MODIFIED:20251218T215547Z
UID:10000642-1768417200-1768424400@thecedarsproject.com
SUMMARY:Open Mic Night McFleschmans
DESCRIPTION:Every Wednesday 7-9pm.\nHosted by Sarah Lynn Huss. \nDo You Have Talent?\nThis is your chance. \nDo you live discovering new artists?\nThis event is for you. \nMusic\, stand-up\, poetry\, beer.
URL:https://thecedarsproject.com/event/open-mic-night-mcfleschmans/2026-01-14/
LOCATION:Mcfleschmans Brewing Co.\, 115 S State St\, Appleton\, 54911\, United States
CATEGORIES:Live Music
ATTACH;FMTTYPE=image/jpeg:https://thecedarsproject.com/wp-content/uploads/2025/12/1000009064.jpg
END:VEVENT
BEGIN:VEVENT
DTSTART;TZID=America/Chicago:20260107T190000
DTEND;TZID=America/Chicago:20260107T210000
DTSTAMP:20260423T211206
CREATED:20251218T204754Z
LAST-MODIFIED:20251218T215547Z
UID:10000003-1767812400-1767819600@thecedarsproject.com
SUMMARY:Open Mic Night McFleschmans
DESCRIPTION:Every Wednesday 7-9pm.\nHosted by Sarah Lynn Huss. \nDo You Have Talent?\nThis is your chance. \nDo you live discovering new artists?\nThis event is for you. \nMusic\, stand-up\, poetry\, beer.
URL:https://thecedarsproject.com/event/open-mic-night-mcfleschmans/2026-01-07/
LOCATION:Mcfleschmans Brewing Co.\, 115 S State St\, Appleton\, 54911\, United States
CATEGORIES:Live Music
ATTACH;FMTTYPE=image/jpeg:https://thecedarsproject.com/wp-content/uploads/2025/12/1000009064.jpg
END:VEVENT
END:VCALENDAR