BEGIN:VCALENDAR
VERSION:2.0
PRODID:-// - ECPv6.15.20//NONSGML v1.0//EN
CALSCALE:GREGORIAN
METHOD:PUBLISH
X-ORIGINAL-URL:https://thecedarsproject.com
X-WR-CALDESC:Events for 
REFRESH-INTERVAL;VALUE=DURATION:PT1H
X-Robots-Tag:noindex
X-PUBLISHED-TTL:PT1H
BEGIN:VTIMEZONE
TZID:America/Chicago
BEGIN:DAYLIGHT
TZOFFSETFROM:-0600
TZOFFSETTO:-0500
TZNAME:CDT
DTSTART:20250309T080000
END:DAYLIGHT
BEGIN:STANDARD
TZOFFSETFROM:-0500
TZOFFSETTO:-0600
TZNAME:CST
DTSTART:20251102T070000
END:STANDARD
BEGIN:DAYLIGHT
TZOFFSETFROM:-0600
TZOFFSETTO:-0500
TZNAME:CDT
DTSTART:20260308T080000
END:DAYLIGHT
BEGIN:STANDARD
TZOFFSETFROM:-0500
TZOFFSETTO:-0600
TZNAME:CST
DTSTART:20261101T070000
END:STANDARD
BEGIN:DAYLIGHT
TZOFFSETFROM:-0600
TZOFFSETTO:-0500
TZNAME:CDT
DTSTART:20270314T080000
END:DAYLIGHT
BEGIN:STANDARD
TZOFFSETFROM:-0500
TZOFFSETTO:-0600
TZNAME:CST
DTSTART:20271107T070000
END:STANDARD
END:VTIMEZONE
BEGIN:VEVENT
DTSTART;TZID=America/Chicago:20260428T160000
DTEND;TZID=America/Chicago:20260428T210000
DTSTAMP:20260423T102915
CREATED:20251219T225558Z
LAST-MODIFIED:20251219T225558Z
UID:10001059-1777392000-1777410000@thecedarsproject.com
SUMMARY:Meet The Brewer - Timber Taps
DESCRIPTION:Every Tuesday\, our brewer Aaron will be behind the bar at Timber Tap Taproom & Brewery. \n•He’ll be pouring pints and answering your questions about how our beers are made. \n​•Learn more about the brewing process and get to know the guy behind the craft. \n•Come on down\, grab a cold one\, and hang out with Aaron.🍻 See you Tuesday!
URL:https://thecedarsproject.com/event/meet-the-brewer-timber-taps/2026-04-28/
LOCATION:Timber Taps\, 100 S Birch St\, Kimberly\, WI\, 54136\, United States
CATEGORIES:Food and Drink
ATTACH;FMTTYPE=image/jpeg:https://thecedarsproject.com/wp-content/uploads/2025/12/taps.jpg
END:VEVENT
BEGIN:VEVENT
DTSTART;TZID=America/Chicago:20260505T160000
DTEND;TZID=America/Chicago:20260505T210000
DTSTAMP:20260423T102916
CREATED:20251219T225558Z
LAST-MODIFIED:20251219T225558Z
UID:10001060-1777996800-1778014800@thecedarsproject.com
SUMMARY:Meet The Brewer - Timber Taps
DESCRIPTION:Every Tuesday\, our brewer Aaron will be behind the bar at Timber Tap Taproom & Brewery. \n•He’ll be pouring pints and answering your questions about how our beers are made. \n​•Learn more about the brewing process and get to know the guy behind the craft. \n•Come on down\, grab a cold one\, and hang out with Aaron.🍻 See you Tuesday!
URL:https://thecedarsproject.com/event/meet-the-brewer-timber-taps/2026-05-05/
LOCATION:Timber Taps\, 100 S Birch St\, Kimberly\, WI\, 54136\, United States
CATEGORIES:Food and Drink
ATTACH;FMTTYPE=image/jpeg:https://thecedarsproject.com/wp-content/uploads/2025/12/taps.jpg
END:VEVENT
BEGIN:VEVENT
DTSTART;TZID=America/Chicago:20260512T160000
DTEND;TZID=America/Chicago:20260512T210000
DTSTAMP:20260423T102916
CREATED:20251219T225558Z
LAST-MODIFIED:20251219T225558Z
UID:10001061-1778601600-1778619600@thecedarsproject.com
SUMMARY:Meet The Brewer - Timber Taps
DESCRIPTION:Every Tuesday\, our brewer Aaron will be behind the bar at Timber Tap Taproom & Brewery. \n•He’ll be pouring pints and answering your questions about how our beers are made. \n​•Learn more about the brewing process and get to know the guy behind the craft. \n•Come on down\, grab a cold one\, and hang out with Aaron.🍻 See you Tuesday!
URL:https://thecedarsproject.com/event/meet-the-brewer-timber-taps/2026-05-12/
LOCATION:Timber Taps\, 100 S Birch St\, Kimberly\, WI\, 54136\, United States
CATEGORIES:Food and Drink
ATTACH;FMTTYPE=image/jpeg:https://thecedarsproject.com/wp-content/uploads/2025/12/taps.jpg
END:VEVENT
BEGIN:VEVENT
DTSTART;TZID=America/Chicago:20260519T160000
DTEND;TZID=America/Chicago:20260519T210000
DTSTAMP:20260423T102916
CREATED:20251219T225558Z
LAST-MODIFIED:20251219T225558Z
UID:10001062-1779206400-1779224400@thecedarsproject.com
SUMMARY:Meet The Brewer - Timber Taps
DESCRIPTION:Every Tuesday\, our brewer Aaron will be behind the bar at Timber Tap Taproom & Brewery. \n•He’ll be pouring pints and answering your questions about how our beers are made. \n​•Learn more about the brewing process and get to know the guy behind the craft. \n•Come on down\, grab a cold one\, and hang out with Aaron.🍻 See you Tuesday!
URL:https://thecedarsproject.com/event/meet-the-brewer-timber-taps/2026-05-19/
LOCATION:Timber Taps\, 100 S Birch St\, Kimberly\, WI\, 54136\, United States
CATEGORIES:Food and Drink
ATTACH;FMTTYPE=image/jpeg:https://thecedarsproject.com/wp-content/uploads/2025/12/taps.jpg
END:VEVENT
BEGIN:VEVENT
DTSTART;TZID=America/Chicago:20260526T160000
DTEND;TZID=America/Chicago:20260526T210000
DTSTAMP:20260423T102916
CREATED:20251219T225558Z
LAST-MODIFIED:20251219T225558Z
UID:10001063-1779811200-1779829200@thecedarsproject.com
SUMMARY:Meet The Brewer - Timber Taps
DESCRIPTION:Every Tuesday\, our brewer Aaron will be behind the bar at Timber Tap Taproom & Brewery. \n•He’ll be pouring pints and answering your questions about how our beers are made. \n​•Learn more about the brewing process and get to know the guy behind the craft. \n•Come on down\, grab a cold one\, and hang out with Aaron.🍻 See you Tuesday!
URL:https://thecedarsproject.com/event/meet-the-brewer-timber-taps/2026-05-26/
LOCATION:Timber Taps\, 100 S Birch St\, Kimberly\, WI\, 54136\, United States
CATEGORIES:Food and Drink
ATTACH;FMTTYPE=image/jpeg:https://thecedarsproject.com/wp-content/uploads/2025/12/taps.jpg
END:VEVENT
BEGIN:VEVENT
DTSTART;TZID=America/Chicago:20260602T160000
DTEND;TZID=America/Chicago:20260602T210000
DTSTAMP:20260423T102916
CREATED:20251219T225558Z
LAST-MODIFIED:20251219T225558Z
UID:10001064-1780416000-1780434000@thecedarsproject.com
SUMMARY:Meet The Brewer - Timber Taps
DESCRIPTION:Every Tuesday\, our brewer Aaron will be behind the bar at Timber Tap Taproom & Brewery. \n•He’ll be pouring pints and answering your questions about how our beers are made. \n​•Learn more about the brewing process and get to know the guy behind the craft. \n•Come on down\, grab a cold one\, and hang out with Aaron.🍻 See you Tuesday!
URL:https://thecedarsproject.com/event/meet-the-brewer-timber-taps/2026-06-02/
LOCATION:Timber Taps\, 100 S Birch St\, Kimberly\, WI\, 54136\, United States
CATEGORIES:Food and Drink
ATTACH;FMTTYPE=image/jpeg:https://thecedarsproject.com/wp-content/uploads/2025/12/taps.jpg
END:VEVENT
BEGIN:VEVENT
DTSTART;TZID=America/Chicago:20260609T160000
DTEND;TZID=America/Chicago:20260609T210000
DTSTAMP:20260423T102916
CREATED:20251219T225558Z
LAST-MODIFIED:20251219T225558Z
UID:10001065-1781020800-1781038800@thecedarsproject.com
SUMMARY:Meet The Brewer - Timber Taps
DESCRIPTION:Every Tuesday\, our brewer Aaron will be behind the bar at Timber Tap Taproom & Brewery. \n•He’ll be pouring pints and answering your questions about how our beers are made. \n​•Learn more about the brewing process and get to know the guy behind the craft. \n•Come on down\, grab a cold one\, and hang out with Aaron.🍻 See you Tuesday!
URL:https://thecedarsproject.com/event/meet-the-brewer-timber-taps/2026-06-09/
LOCATION:Timber Taps\, 100 S Birch St\, Kimberly\, WI\, 54136\, United States
CATEGORIES:Food and Drink
ATTACH;FMTTYPE=image/jpeg:https://thecedarsproject.com/wp-content/uploads/2025/12/taps.jpg
END:VEVENT
BEGIN:VEVENT
DTSTART;TZID=America/Chicago:20260616T160000
DTEND;TZID=America/Chicago:20260616T210000
DTSTAMP:20260423T102916
CREATED:20251219T225558Z
LAST-MODIFIED:20251219T225558Z
UID:10001066-1781625600-1781643600@thecedarsproject.com
SUMMARY:Meet The Brewer - Timber Taps
DESCRIPTION:Every Tuesday\, our brewer Aaron will be behind the bar at Timber Tap Taproom & Brewery. \n•He’ll be pouring pints and answering your questions about how our beers are made. \n​•Learn more about the brewing process and get to know the guy behind the craft. \n•Come on down\, grab a cold one\, and hang out with Aaron.🍻 See you Tuesday!
URL:https://thecedarsproject.com/event/meet-the-brewer-timber-taps/2026-06-16/
LOCATION:Timber Taps\, 100 S Birch St\, Kimberly\, WI\, 54136\, United States
CATEGORIES:Food and Drink
ATTACH;FMTTYPE=image/jpeg:https://thecedarsproject.com/wp-content/uploads/2025/12/taps.jpg
END:VEVENT
BEGIN:VEVENT
DTSTART;TZID=America/Chicago:20260623T160000
DTEND;TZID=America/Chicago:20260623T210000
DTSTAMP:20260423T102916
CREATED:20251219T225558Z
LAST-MODIFIED:20251219T225558Z
UID:10001067-1782230400-1782248400@thecedarsproject.com
SUMMARY:Meet The Brewer - Timber Taps
DESCRIPTION:Every Tuesday\, our brewer Aaron will be behind the bar at Timber Tap Taproom & Brewery. \n•He’ll be pouring pints and answering your questions about how our beers are made. \n​•Learn more about the brewing process and get to know the guy behind the craft. \n•Come on down\, grab a cold one\, and hang out with Aaron.🍻 See you Tuesday!
URL:https://thecedarsproject.com/event/meet-the-brewer-timber-taps/2026-06-23/
LOCATION:Timber Taps\, 100 S Birch St\, Kimberly\, WI\, 54136\, United States
CATEGORIES:Food and Drink
ATTACH;FMTTYPE=image/jpeg:https://thecedarsproject.com/wp-content/uploads/2025/12/taps.jpg
END:VEVENT
BEGIN:VEVENT
DTSTART;TZID=America/Chicago:20260630T160000
DTEND;TZID=America/Chicago:20260630T210000
DTSTAMP:20260423T102916
CREATED:20251219T225558Z
LAST-MODIFIED:20251219T225558Z
UID:10001068-1782835200-1782853200@thecedarsproject.com
SUMMARY:Meet The Brewer - Timber Taps
DESCRIPTION:Every Tuesday\, our brewer Aaron will be behind the bar at Timber Tap Taproom & Brewery. \n•He’ll be pouring pints and answering your questions about how our beers are made. \n​•Learn more about the brewing process and get to know the guy behind the craft. \n•Come on down\, grab a cold one\, and hang out with Aaron.🍻 See you Tuesday!
URL:https://thecedarsproject.com/event/meet-the-brewer-timber-taps/2026-06-30/
LOCATION:Timber Taps\, 100 S Birch St\, Kimberly\, WI\, 54136\, United States
CATEGORIES:Food and Drink
ATTACH;FMTTYPE=image/jpeg:https://thecedarsproject.com/wp-content/uploads/2025/12/taps.jpg
END:VEVENT
BEGIN:VEVENT
DTSTART;TZID=America/Chicago:20260707T160000
DTEND;TZID=America/Chicago:20260707T210000
DTSTAMP:20260423T102916
CREATED:20251219T225558Z
LAST-MODIFIED:20251219T225558Z
UID:10001069-1783440000-1783458000@thecedarsproject.com
SUMMARY:Meet The Brewer - Timber Taps
DESCRIPTION:Every Tuesday\, our brewer Aaron will be behind the bar at Timber Tap Taproom & Brewery. \n•He’ll be pouring pints and answering your questions about how our beers are made. \n​•Learn more about the brewing process and get to know the guy behind the craft. \n•Come on down\, grab a cold one\, and hang out with Aaron.🍻 See you Tuesday!
URL:https://thecedarsproject.com/event/meet-the-brewer-timber-taps/2026-07-07/
LOCATION:Timber Taps\, 100 S Birch St\, Kimberly\, WI\, 54136\, United States
CATEGORIES:Food and Drink
ATTACH;FMTTYPE=image/jpeg:https://thecedarsproject.com/wp-content/uploads/2025/12/taps.jpg
END:VEVENT
BEGIN:VEVENT
DTSTART;TZID=America/Chicago:20260714T160000
DTEND;TZID=America/Chicago:20260714T210000
DTSTAMP:20260423T102916
CREATED:20251219T225558Z
LAST-MODIFIED:20251219T225558Z
UID:10001070-1784044800-1784062800@thecedarsproject.com
SUMMARY:Meet The Brewer - Timber Taps
DESCRIPTION:Every Tuesday\, our brewer Aaron will be behind the bar at Timber Tap Taproom & Brewery. \n•He’ll be pouring pints and answering your questions about how our beers are made. \n​•Learn more about the brewing process and get to know the guy behind the craft. \n•Come on down\, grab a cold one\, and hang out with Aaron.🍻 See you Tuesday!
URL:https://thecedarsproject.com/event/meet-the-brewer-timber-taps/2026-07-14/
LOCATION:Timber Taps\, 100 S Birch St\, Kimberly\, WI\, 54136\, United States
CATEGORIES:Food and Drink
ATTACH;FMTTYPE=image/jpeg:https://thecedarsproject.com/wp-content/uploads/2025/12/taps.jpg
END:VEVENT
BEGIN:VEVENT
DTSTART;TZID=America/Chicago:20260721T160000
DTEND;TZID=America/Chicago:20260721T210000
DTSTAMP:20260423T102916
CREATED:20251219T225558Z
LAST-MODIFIED:20251219T225558Z
UID:10001071-1784649600-1784667600@thecedarsproject.com
SUMMARY:Meet The Brewer - Timber Taps
DESCRIPTION:Every Tuesday\, our brewer Aaron will be behind the bar at Timber Tap Taproom & Brewery. \n•He’ll be pouring pints and answering your questions about how our beers are made. \n​•Learn more about the brewing process and get to know the guy behind the craft. \n•Come on down\, grab a cold one\, and hang out with Aaron.🍻 See you Tuesday!
URL:https://thecedarsproject.com/event/meet-the-brewer-timber-taps/2026-07-21/
LOCATION:Timber Taps\, 100 S Birch St\, Kimberly\, WI\, 54136\, United States
CATEGORIES:Food and Drink
ATTACH;FMTTYPE=image/jpeg:https://thecedarsproject.com/wp-content/uploads/2025/12/taps.jpg
END:VEVENT
BEGIN:VEVENT
DTSTART;TZID=America/Chicago:20260728T160000
DTEND;TZID=America/Chicago:20260728T210000
DTSTAMP:20260423T102916
CREATED:20251219T225558Z
LAST-MODIFIED:20251219T225558Z
UID:10001072-1785254400-1785272400@thecedarsproject.com
SUMMARY:Meet The Brewer - Timber Taps
DESCRIPTION:Every Tuesday\, our brewer Aaron will be behind the bar at Timber Tap Taproom & Brewery. \n•He’ll be pouring pints and answering your questions about how our beers are made. \n​•Learn more about the brewing process and get to know the guy behind the craft. \n•Come on down\, grab a cold one\, and hang out with Aaron.🍻 See you Tuesday!
URL:https://thecedarsproject.com/event/meet-the-brewer-timber-taps/2026-07-28/
LOCATION:Timber Taps\, 100 S Birch St\, Kimberly\, WI\, 54136\, United States
CATEGORIES:Food and Drink
ATTACH;FMTTYPE=image/jpeg:https://thecedarsproject.com/wp-content/uploads/2025/12/taps.jpg
END:VEVENT
BEGIN:VEVENT
DTSTART;TZID=America/Chicago:20260804T160000
DTEND;TZID=America/Chicago:20260804T210000
DTSTAMP:20260423T102916
CREATED:20251219T225558Z
LAST-MODIFIED:20251219T225558Z
UID:10001073-1785859200-1785877200@thecedarsproject.com
SUMMARY:Meet The Brewer - Timber Taps
DESCRIPTION:Every Tuesday\, our brewer Aaron will be behind the bar at Timber Tap Taproom & Brewery. \n•He’ll be pouring pints and answering your questions about how our beers are made. \n​•Learn more about the brewing process and get to know the guy behind the craft. \n•Come on down\, grab a cold one\, and hang out with Aaron.🍻 See you Tuesday!
URL:https://thecedarsproject.com/event/meet-the-brewer-timber-taps/2026-08-04/
LOCATION:Timber Taps\, 100 S Birch St\, Kimberly\, WI\, 54136\, United States
CATEGORIES:Food and Drink
ATTACH;FMTTYPE=image/jpeg:https://thecedarsproject.com/wp-content/uploads/2025/12/taps.jpg
END:VEVENT
BEGIN:VEVENT
DTSTART;TZID=America/Chicago:20260811T160000
DTEND;TZID=America/Chicago:20260811T210000
DTSTAMP:20260423T102916
CREATED:20251219T225558Z
LAST-MODIFIED:20251219T225558Z
UID:10001074-1786464000-1786482000@thecedarsproject.com
SUMMARY:Meet The Brewer - Timber Taps
DESCRIPTION:Every Tuesday\, our brewer Aaron will be behind the bar at Timber Tap Taproom & Brewery. \n•He’ll be pouring pints and answering your questions about how our beers are made. \n​•Learn more about the brewing process and get to know the guy behind the craft. \n•Come on down\, grab a cold one\, and hang out with Aaron.🍻 See you Tuesday!
URL:https://thecedarsproject.com/event/meet-the-brewer-timber-taps/2026-08-11/
LOCATION:Timber Taps\, 100 S Birch St\, Kimberly\, WI\, 54136\, United States
CATEGORIES:Food and Drink
ATTACH;FMTTYPE=image/jpeg:https://thecedarsproject.com/wp-content/uploads/2025/12/taps.jpg
END:VEVENT
BEGIN:VEVENT
DTSTART;TZID=America/Chicago:20260818T160000
DTEND;TZID=America/Chicago:20260818T210000
DTSTAMP:20260423T102916
CREATED:20251219T225558Z
LAST-MODIFIED:20251219T225558Z
UID:10001075-1787068800-1787086800@thecedarsproject.com
SUMMARY:Meet The Brewer - Timber Taps
DESCRIPTION:Every Tuesday\, our brewer Aaron will be behind the bar at Timber Tap Taproom & Brewery. \n•He’ll be pouring pints and answering your questions about how our beers are made. \n​•Learn more about the brewing process and get to know the guy behind the craft. \n•Come on down\, grab a cold one\, and hang out with Aaron.🍻 See you Tuesday!
URL:https://thecedarsproject.com/event/meet-the-brewer-timber-taps/2026-08-18/
LOCATION:Timber Taps\, 100 S Birch St\, Kimberly\, WI\, 54136\, United States
CATEGORIES:Food and Drink
ATTACH;FMTTYPE=image/jpeg:https://thecedarsproject.com/wp-content/uploads/2025/12/taps.jpg
END:VEVENT
BEGIN:VEVENT
DTSTART;TZID=America/Chicago:20260825T160000
DTEND;TZID=America/Chicago:20260825T210000
DTSTAMP:20260423T102916
CREATED:20251219T225558Z
LAST-MODIFIED:20251219T225558Z
UID:10001076-1787673600-1787691600@thecedarsproject.com
SUMMARY:Meet The Brewer - Timber Taps
DESCRIPTION:Every Tuesday\, our brewer Aaron will be behind the bar at Timber Tap Taproom & Brewery. \n•He’ll be pouring pints and answering your questions about how our beers are made. \n​•Learn more about the brewing process and get to know the guy behind the craft. \n•Come on down\, grab a cold one\, and hang out with Aaron.🍻 See you Tuesday!
URL:https://thecedarsproject.com/event/meet-the-brewer-timber-taps/2026-08-25/
LOCATION:Timber Taps\, 100 S Birch St\, Kimberly\, WI\, 54136\, United States
CATEGORIES:Food and Drink
ATTACH;FMTTYPE=image/jpeg:https://thecedarsproject.com/wp-content/uploads/2025/12/taps.jpg
END:VEVENT
BEGIN:VEVENT
DTSTART;TZID=America/Chicago:20260901T160000
DTEND;TZID=America/Chicago:20260901T210000
DTSTAMP:20260423T102916
CREATED:20251219T225558Z
LAST-MODIFIED:20251219T225558Z
UID:10001077-1788278400-1788296400@thecedarsproject.com
SUMMARY:Meet The Brewer - Timber Taps
DESCRIPTION:Every Tuesday\, our brewer Aaron will be behind the bar at Timber Tap Taproom & Brewery. \n•He’ll be pouring pints and answering your questions about how our beers are made. \n​•Learn more about the brewing process and get to know the guy behind the craft. \n•Come on down\, grab a cold one\, and hang out with Aaron.🍻 See you Tuesday!
URL:https://thecedarsproject.com/event/meet-the-brewer-timber-taps/2026-09-01/
LOCATION:Timber Taps\, 100 S Birch St\, Kimberly\, WI\, 54136\, United States
CATEGORIES:Food and Drink
ATTACH;FMTTYPE=image/jpeg:https://thecedarsproject.com/wp-content/uploads/2025/12/taps.jpg
END:VEVENT
BEGIN:VEVENT
DTSTART;TZID=America/Chicago:20260908T160000
DTEND;TZID=America/Chicago:20260908T210000
DTSTAMP:20260423T102916
CREATED:20251219T225558Z
LAST-MODIFIED:20251219T225558Z
UID:10001078-1788883200-1788901200@thecedarsproject.com
SUMMARY:Meet The Brewer - Timber Taps
DESCRIPTION:Every Tuesday\, our brewer Aaron will be behind the bar at Timber Tap Taproom & Brewery. \n•He’ll be pouring pints and answering your questions about how our beers are made. \n​•Learn more about the brewing process and get to know the guy behind the craft. \n•Come on down\, grab a cold one\, and hang out with Aaron.🍻 See you Tuesday!
URL:https://thecedarsproject.com/event/meet-the-brewer-timber-taps/2026-09-08/
LOCATION:Timber Taps\, 100 S Birch St\, Kimberly\, WI\, 54136\, United States
CATEGORIES:Food and Drink
ATTACH;FMTTYPE=image/jpeg:https://thecedarsproject.com/wp-content/uploads/2025/12/taps.jpg
END:VEVENT
BEGIN:VEVENT
DTSTART;TZID=America/Chicago:20260915T160000
DTEND;TZID=America/Chicago:20260915T210000
DTSTAMP:20260423T102916
CREATED:20251219T225558Z
LAST-MODIFIED:20251219T225558Z
UID:10001079-1789488000-1789506000@thecedarsproject.com
SUMMARY:Meet The Brewer - Timber Taps
DESCRIPTION:Every Tuesday\, our brewer Aaron will be behind the bar at Timber Tap Taproom & Brewery. \n•He’ll be pouring pints and answering your questions about how our beers are made. \n​•Learn more about the brewing process and get to know the guy behind the craft. \n•Come on down\, grab a cold one\, and hang out with Aaron.🍻 See you Tuesday!
URL:https://thecedarsproject.com/event/meet-the-brewer-timber-taps/2026-09-15/
LOCATION:Timber Taps\, 100 S Birch St\, Kimberly\, WI\, 54136\, United States
CATEGORIES:Food and Drink
ATTACH;FMTTYPE=image/jpeg:https://thecedarsproject.com/wp-content/uploads/2025/12/taps.jpg
END:VEVENT
BEGIN:VEVENT
DTSTART;TZID=America/Chicago:20260922T160000
DTEND;TZID=America/Chicago:20260922T210000
DTSTAMP:20260423T102916
CREATED:20251219T225558Z
LAST-MODIFIED:20251219T225558Z
UID:10001080-1790092800-1790110800@thecedarsproject.com
SUMMARY:Meet The Brewer - Timber Taps
DESCRIPTION:Every Tuesday\, our brewer Aaron will be behind the bar at Timber Tap Taproom & Brewery. \n•He’ll be pouring pints and answering your questions about how our beers are made. \n​•Learn more about the brewing process and get to know the guy behind the craft. \n•Come on down\, grab a cold one\, and hang out with Aaron.🍻 See you Tuesday!
URL:https://thecedarsproject.com/event/meet-the-brewer-timber-taps/2026-09-22/
LOCATION:Timber Taps\, 100 S Birch St\, Kimberly\, WI\, 54136\, United States
CATEGORIES:Food and Drink
ATTACH;FMTTYPE=image/jpeg:https://thecedarsproject.com/wp-content/uploads/2025/12/taps.jpg
END:VEVENT
BEGIN:VEVENT
DTSTART;TZID=America/Chicago:20260929T160000
DTEND;TZID=America/Chicago:20260929T210000
DTSTAMP:20260423T102916
CREATED:20251219T225558Z
LAST-MODIFIED:20251219T225558Z
UID:10001081-1790697600-1790715600@thecedarsproject.com
SUMMARY:Meet The Brewer - Timber Taps
DESCRIPTION:Every Tuesday\, our brewer Aaron will be behind the bar at Timber Tap Taproom & Brewery. \n•He’ll be pouring pints and answering your questions about how our beers are made. \n​•Learn more about the brewing process and get to know the guy behind the craft. \n•Come on down\, grab a cold one\, and hang out with Aaron.🍻 See you Tuesday!
URL:https://thecedarsproject.com/event/meet-the-brewer-timber-taps/2026-09-29/
LOCATION:Timber Taps\, 100 S Birch St\, Kimberly\, WI\, 54136\, United States
CATEGORIES:Food and Drink
ATTACH;FMTTYPE=image/jpeg:https://thecedarsproject.com/wp-content/uploads/2025/12/taps.jpg
END:VEVENT
BEGIN:VEVENT
DTSTART;TZID=America/Chicago:20261006T160000
DTEND;TZID=America/Chicago:20261006T210000
DTSTAMP:20260423T102916
CREATED:20251219T225558Z
LAST-MODIFIED:20251219T225558Z
UID:10001082-1791302400-1791320400@thecedarsproject.com
SUMMARY:Meet The Brewer - Timber Taps
DESCRIPTION:Every Tuesday\, our brewer Aaron will be behind the bar at Timber Tap Taproom & Brewery. \n•He’ll be pouring pints and answering your questions about how our beers are made. \n​•Learn more about the brewing process and get to know the guy behind the craft. \n•Come on down\, grab a cold one\, and hang out with Aaron.🍻 See you Tuesday!
URL:https://thecedarsproject.com/event/meet-the-brewer-timber-taps/2026-10-06/
LOCATION:Timber Taps\, 100 S Birch St\, Kimberly\, WI\, 54136\, United States
CATEGORIES:Food and Drink
ATTACH;FMTTYPE=image/jpeg:https://thecedarsproject.com/wp-content/uploads/2025/12/taps.jpg
END:VEVENT
BEGIN:VEVENT
DTSTART;TZID=America/Chicago:20261013T160000
DTEND;TZID=America/Chicago:20261013T210000
DTSTAMP:20260423T102916
CREATED:20251219T225558Z
LAST-MODIFIED:20251219T225558Z
UID:10001083-1791907200-1791925200@thecedarsproject.com
SUMMARY:Meet The Brewer - Timber Taps
DESCRIPTION:Every Tuesday\, our brewer Aaron will be behind the bar at Timber Tap Taproom & Brewery. \n•He’ll be pouring pints and answering your questions about how our beers are made. \n​•Learn more about the brewing process and get to know the guy behind the craft. \n•Come on down\, grab a cold one\, and hang out with Aaron.🍻 See you Tuesday!
URL:https://thecedarsproject.com/event/meet-the-brewer-timber-taps/2026-10-13/
LOCATION:Timber Taps\, 100 S Birch St\, Kimberly\, WI\, 54136\, United States
CATEGORIES:Food and Drink
ATTACH;FMTTYPE=image/jpeg:https://thecedarsproject.com/wp-content/uploads/2025/12/taps.jpg
END:VEVENT
BEGIN:VEVENT
DTSTART;TZID=America/Chicago:20261020T160000
DTEND;TZID=America/Chicago:20261020T210000
DTSTAMP:20260423T102916
CREATED:20251219T225558Z
LAST-MODIFIED:20251219T225558Z
UID:10001084-1792512000-1792530000@thecedarsproject.com
SUMMARY:Meet The Brewer - Timber Taps
DESCRIPTION:Every Tuesday\, our brewer Aaron will be behind the bar at Timber Tap Taproom & Brewery. \n•He’ll be pouring pints and answering your questions about how our beers are made. \n​•Learn more about the brewing process and get to know the guy behind the craft. \n•Come on down\, grab a cold one\, and hang out with Aaron.🍻 See you Tuesday!
URL:https://thecedarsproject.com/event/meet-the-brewer-timber-taps/2026-10-20/
LOCATION:Timber Taps\, 100 S Birch St\, Kimberly\, WI\, 54136\, United States
CATEGORIES:Food and Drink
ATTACH;FMTTYPE=image/jpeg:https://thecedarsproject.com/wp-content/uploads/2025/12/taps.jpg
END:VEVENT
BEGIN:VEVENT
DTSTART;TZID=America/Chicago:20261027T160000
DTEND;TZID=America/Chicago:20261027T210000
DTSTAMP:20260423T102916
CREATED:20251219T225558Z
LAST-MODIFIED:20251219T225558Z
UID:10001085-1793116800-1793134800@thecedarsproject.com
SUMMARY:Meet The Brewer - Timber Taps
DESCRIPTION:Every Tuesday\, our brewer Aaron will be behind the bar at Timber Tap Taproom & Brewery. \n•He’ll be pouring pints and answering your questions about how our beers are made. \n​•Learn more about the brewing process and get to know the guy behind the craft. \n•Come on down\, grab a cold one\, and hang out with Aaron.🍻 See you Tuesday!
URL:https://thecedarsproject.com/event/meet-the-brewer-timber-taps/2026-10-27/
LOCATION:Timber Taps\, 100 S Birch St\, Kimberly\, WI\, 54136\, United States
CATEGORIES:Food and Drink
ATTACH;FMTTYPE=image/jpeg:https://thecedarsproject.com/wp-content/uploads/2025/12/taps.jpg
END:VEVENT
BEGIN:VEVENT
DTSTART;TZID=America/Chicago:20261103T160000
DTEND;TZID=America/Chicago:20261103T210000
DTSTAMP:20260423T102916
CREATED:20251219T225558Z
LAST-MODIFIED:20251219T225558Z
UID:10001086-1793721600-1793739600@thecedarsproject.com
SUMMARY:Meet The Brewer - Timber Taps
DESCRIPTION:Every Tuesday\, our brewer Aaron will be behind the bar at Timber Tap Taproom & Brewery. \n•He’ll be pouring pints and answering your questions about how our beers are made. \n​•Learn more about the brewing process and get to know the guy behind the craft. \n•Come on down\, grab a cold one\, and hang out with Aaron.🍻 See you Tuesday!
URL:https://thecedarsproject.com/event/meet-the-brewer-timber-taps/2026-11-03/
LOCATION:Timber Taps\, 100 S Birch St\, Kimberly\, WI\, 54136\, United States
CATEGORIES:Food and Drink
ATTACH;FMTTYPE=image/jpeg:https://thecedarsproject.com/wp-content/uploads/2025/12/taps.jpg
END:VEVENT
BEGIN:VEVENT
DTSTART;TZID=America/Chicago:20261110T160000
DTEND;TZID=America/Chicago:20261110T210000
DTSTAMP:20260423T102916
CREATED:20251219T225558Z
LAST-MODIFIED:20251219T225558Z
UID:10001087-1794326400-1794344400@thecedarsproject.com
SUMMARY:Meet The Brewer - Timber Taps
DESCRIPTION:Every Tuesday\, our brewer Aaron will be behind the bar at Timber Tap Taproom & Brewery. \n•He’ll be pouring pints and answering your questions about how our beers are made. \n​•Learn more about the brewing process and get to know the guy behind the craft. \n•Come on down\, grab a cold one\, and hang out with Aaron.🍻 See you Tuesday!
URL:https://thecedarsproject.com/event/meet-the-brewer-timber-taps/2026-11-10/
LOCATION:Timber Taps\, 100 S Birch St\, Kimberly\, WI\, 54136\, United States
CATEGORIES:Food and Drink
ATTACH;FMTTYPE=image/jpeg:https://thecedarsproject.com/wp-content/uploads/2025/12/taps.jpg
END:VEVENT
BEGIN:VEVENT
DTSTART;TZID=America/Chicago:20261117T160000
DTEND;TZID=America/Chicago:20261117T210000
DTSTAMP:20260423T102916
CREATED:20251219T225558Z
LAST-MODIFIED:20251219T225558Z
UID:10001088-1794931200-1794949200@thecedarsproject.com
SUMMARY:Meet The Brewer - Timber Taps
DESCRIPTION:Every Tuesday\, our brewer Aaron will be behind the bar at Timber Tap Taproom & Brewery. \n•He’ll be pouring pints and answering your questions about how our beers are made. \n​•Learn more about the brewing process and get to know the guy behind the craft. \n•Come on down\, grab a cold one\, and hang out with Aaron.🍻 See you Tuesday!
URL:https://thecedarsproject.com/event/meet-the-brewer-timber-taps/2026-11-17/
LOCATION:Timber Taps\, 100 S Birch St\, Kimberly\, WI\, 54136\, United States
CATEGORIES:Food and Drink
ATTACH;FMTTYPE=image/jpeg:https://thecedarsproject.com/wp-content/uploads/2025/12/taps.jpg
END:VEVENT
END:VCALENDAR