BEGIN:VCALENDAR
VERSION:2.0
PRODID:-// - ECPv6.15.20//NONSGML v1.0//EN
CALSCALE:GREGORIAN
METHOD:PUBLISH
X-ORIGINAL-URL:https://thecedarsproject.com
X-WR-CALDESC:Events for 
REFRESH-INTERVAL;VALUE=DURATION:PT1H
X-Robots-Tag:noindex
X-PUBLISHED-TTL:PT1H
BEGIN:VTIMEZONE
TZID:America/Chicago
BEGIN:DAYLIGHT
TZOFFSETFROM:-0600
TZOFFSETTO:-0500
TZNAME:CDT
DTSTART:20250309T080000
END:DAYLIGHT
BEGIN:STANDARD
TZOFFSETFROM:-0500
TZOFFSETTO:-0600
TZNAME:CST
DTSTART:20251102T070000
END:STANDARD
BEGIN:DAYLIGHT
TZOFFSETFROM:-0600
TZOFFSETTO:-0500
TZNAME:CDT
DTSTART:20260308T080000
END:DAYLIGHT
BEGIN:STANDARD
TZOFFSETFROM:-0500
TZOFFSETTO:-0600
TZNAME:CST
DTSTART:20261101T070000
END:STANDARD
BEGIN:DAYLIGHT
TZOFFSETFROM:-0600
TZOFFSETTO:-0500
TZNAME:CDT
DTSTART:20270314T080000
END:DAYLIGHT
BEGIN:STANDARD
TZOFFSETFROM:-0500
TZOFFSETTO:-0600
TZNAME:CST
DTSTART:20271107T070000
END:STANDARD
BEGIN:DAYLIGHT
TZOFFSETFROM:-0600
TZOFFSETTO:-0500
TZNAME:CDT
DTSTART:20280312T080000
END:DAYLIGHT
BEGIN:STANDARD
TZOFFSETFROM:-0500
TZOFFSETTO:-0600
TZNAME:CST
DTSTART:20281105T070000
END:STANDARD
END:VTIMEZONE
BEGIN:VEVENT
DTSTART;TZID=America/Chicago:20260708T190000
DTEND;TZID=America/Chicago:20260708T210000
DTSTAMP:20260423T145527
CREATED:20251219T233457Z
LAST-MODIFIED:20251219T233844Z
UID:10001331-1783537200-1783544400@thecedarsproject.com
SUMMARY:Open Mic Comedy - MadWorld Art Collective
DESCRIPTION:Join us for open mic comedy night!\nSign up starts at 7:15pm show starts at 8:15pm
URL:https://thecedarsproject.com/event/open-mic-comedy/2026-07-08/
LOCATION:MadWorld Art Collective\, 1678 East Mason St\, Green Bay\, WI\, 54302\, United States
CATEGORIES:Performance
ATTACH;FMTTYPE=image/jpeg:https://thecedarsproject.com/wp-content/uploads/2025/12/open-mic-comedy-MAD.jpg
ORGANIZER;CN="MadWorld Art Collective":MAILTO:Christian@thecannabisco.online
END:VEVENT
BEGIN:VEVENT
DTSTART;TZID=America/Chicago:20260715T190000
DTEND;TZID=America/Chicago:20260715T210000
DTSTAMP:20260423T145527
CREATED:20251219T233457Z
LAST-MODIFIED:20251219T233844Z
UID:10001332-1784142000-1784149200@thecedarsproject.com
SUMMARY:Open Mic Comedy - MadWorld Art Collective
DESCRIPTION:Join us for open mic comedy night!\nSign up starts at 7:15pm show starts at 8:15pm
URL:https://thecedarsproject.com/event/open-mic-comedy/2026-07-15/
LOCATION:MadWorld Art Collective\, 1678 East Mason St\, Green Bay\, WI\, 54302\, United States
CATEGORIES:Performance
ATTACH;FMTTYPE=image/jpeg:https://thecedarsproject.com/wp-content/uploads/2025/12/open-mic-comedy-MAD.jpg
ORGANIZER;CN="MadWorld Art Collective":MAILTO:Christian@thecannabisco.online
END:VEVENT
BEGIN:VEVENT
DTSTART;TZID=America/Chicago:20260722T190000
DTEND;TZID=America/Chicago:20260722T210000
DTSTAMP:20260423T145527
CREATED:20251219T233457Z
LAST-MODIFIED:20251219T233844Z
UID:10001333-1784746800-1784754000@thecedarsproject.com
SUMMARY:Open Mic Comedy - MadWorld Art Collective
DESCRIPTION:Join us for open mic comedy night!\nSign up starts at 7:15pm show starts at 8:15pm
URL:https://thecedarsproject.com/event/open-mic-comedy/2026-07-22/
LOCATION:MadWorld Art Collective\, 1678 East Mason St\, Green Bay\, WI\, 54302\, United States
CATEGORIES:Performance
ATTACH;FMTTYPE=image/jpeg:https://thecedarsproject.com/wp-content/uploads/2025/12/open-mic-comedy-MAD.jpg
ORGANIZER;CN="MadWorld Art Collective":MAILTO:Christian@thecannabisco.online
END:VEVENT
BEGIN:VEVENT
DTSTART;TZID=America/Chicago:20260729T190000
DTEND;TZID=America/Chicago:20260729T210000
DTSTAMP:20260423T145527
CREATED:20251219T233457Z
LAST-MODIFIED:20251219T233844Z
UID:10001334-1785351600-1785358800@thecedarsproject.com
SUMMARY:Open Mic Comedy - MadWorld Art Collective
DESCRIPTION:Join us for open mic comedy night!\nSign up starts at 7:15pm show starts at 8:15pm
URL:https://thecedarsproject.com/event/open-mic-comedy/2026-07-29/
LOCATION:MadWorld Art Collective\, 1678 East Mason St\, Green Bay\, WI\, 54302\, United States
CATEGORIES:Performance
ATTACH;FMTTYPE=image/jpeg:https://thecedarsproject.com/wp-content/uploads/2025/12/open-mic-comedy-MAD.jpg
ORGANIZER;CN="MadWorld Art Collective":MAILTO:Christian@thecannabisco.online
END:VEVENT
BEGIN:VEVENT
DTSTART;TZID=America/Chicago:20260805T190000
DTEND;TZID=America/Chicago:20260805T210000
DTSTAMP:20260423T145527
CREATED:20251219T233457Z
LAST-MODIFIED:20251219T233844Z
UID:10001335-1785956400-1785963600@thecedarsproject.com
SUMMARY:Open Mic Comedy - MadWorld Art Collective
DESCRIPTION:Join us for open mic comedy night!\nSign up starts at 7:15pm show starts at 8:15pm
URL:https://thecedarsproject.com/event/open-mic-comedy/2026-08-05/
LOCATION:MadWorld Art Collective\, 1678 East Mason St\, Green Bay\, WI\, 54302\, United States
CATEGORIES:Performance
ATTACH;FMTTYPE=image/jpeg:https://thecedarsproject.com/wp-content/uploads/2025/12/open-mic-comedy-MAD.jpg
ORGANIZER;CN="MadWorld Art Collective":MAILTO:Christian@thecannabisco.online
END:VEVENT
BEGIN:VEVENT
DTSTART;TZID=America/Chicago:20260812T190000
DTEND;TZID=America/Chicago:20260812T210000
DTSTAMP:20260423T145527
CREATED:20251219T233457Z
LAST-MODIFIED:20251219T233844Z
UID:10001336-1786561200-1786568400@thecedarsproject.com
SUMMARY:Open Mic Comedy - MadWorld Art Collective
DESCRIPTION:Join us for open mic comedy night!\nSign up starts at 7:15pm show starts at 8:15pm
URL:https://thecedarsproject.com/event/open-mic-comedy/2026-08-12/
LOCATION:MadWorld Art Collective\, 1678 East Mason St\, Green Bay\, WI\, 54302\, United States
CATEGORIES:Performance
ATTACH;FMTTYPE=image/jpeg:https://thecedarsproject.com/wp-content/uploads/2025/12/open-mic-comedy-MAD.jpg
ORGANIZER;CN="MadWorld Art Collective":MAILTO:Christian@thecannabisco.online
END:VEVENT
BEGIN:VEVENT
DTSTART;TZID=America/Chicago:20260819T190000
DTEND;TZID=America/Chicago:20260819T210000
DTSTAMP:20260423T145527
CREATED:20251219T233457Z
LAST-MODIFIED:20251219T233844Z
UID:10001337-1787166000-1787173200@thecedarsproject.com
SUMMARY:Open Mic Comedy - MadWorld Art Collective
DESCRIPTION:Join us for open mic comedy night!\nSign up starts at 7:15pm show starts at 8:15pm
URL:https://thecedarsproject.com/event/open-mic-comedy/2026-08-19/
LOCATION:MadWorld Art Collective\, 1678 East Mason St\, Green Bay\, WI\, 54302\, United States
CATEGORIES:Performance
ATTACH;FMTTYPE=image/jpeg:https://thecedarsproject.com/wp-content/uploads/2025/12/open-mic-comedy-MAD.jpg
ORGANIZER;CN="MadWorld Art Collective":MAILTO:Christian@thecannabisco.online
END:VEVENT
BEGIN:VEVENT
DTSTART;TZID=America/Chicago:20260826T190000
DTEND;TZID=America/Chicago:20260826T210000
DTSTAMP:20260423T145527
CREATED:20251219T233457Z
LAST-MODIFIED:20251219T233844Z
UID:10001338-1787770800-1787778000@thecedarsproject.com
SUMMARY:Open Mic Comedy - MadWorld Art Collective
DESCRIPTION:Join us for open mic comedy night!\nSign up starts at 7:15pm show starts at 8:15pm
URL:https://thecedarsproject.com/event/open-mic-comedy/2026-08-26/
LOCATION:MadWorld Art Collective\, 1678 East Mason St\, Green Bay\, WI\, 54302\, United States
CATEGORIES:Performance
ATTACH;FMTTYPE=image/jpeg:https://thecedarsproject.com/wp-content/uploads/2025/12/open-mic-comedy-MAD.jpg
ORGANIZER;CN="MadWorld Art Collective":MAILTO:Christian@thecannabisco.online
END:VEVENT
BEGIN:VEVENT
DTSTART;TZID=America/Chicago:20260902T190000
DTEND;TZID=America/Chicago:20260902T210000
DTSTAMP:20260423T145527
CREATED:20251219T233457Z
LAST-MODIFIED:20251219T233844Z
UID:10001339-1788375600-1788382800@thecedarsproject.com
SUMMARY:Open Mic Comedy - MadWorld Art Collective
DESCRIPTION:Join us for open mic comedy night!\nSign up starts at 7:15pm show starts at 8:15pm
URL:https://thecedarsproject.com/event/open-mic-comedy/2026-09-02/
LOCATION:MadWorld Art Collective\, 1678 East Mason St\, Green Bay\, WI\, 54302\, United States
CATEGORIES:Performance
ATTACH;FMTTYPE=image/jpeg:https://thecedarsproject.com/wp-content/uploads/2025/12/open-mic-comedy-MAD.jpg
ORGANIZER;CN="MadWorld Art Collective":MAILTO:Christian@thecannabisco.online
END:VEVENT
BEGIN:VEVENT
DTSTART;TZID=America/Chicago:20260909T190000
DTEND;TZID=America/Chicago:20260909T210000
DTSTAMP:20260423T145527
CREATED:20251219T233457Z
LAST-MODIFIED:20251219T233844Z
UID:10001340-1788980400-1788987600@thecedarsproject.com
SUMMARY:Open Mic Comedy - MadWorld Art Collective
DESCRIPTION:Join us for open mic comedy night!\nSign up starts at 7:15pm show starts at 8:15pm
URL:https://thecedarsproject.com/event/open-mic-comedy/2026-09-09/
LOCATION:MadWorld Art Collective\, 1678 East Mason St\, Green Bay\, WI\, 54302\, United States
CATEGORIES:Performance
ATTACH;FMTTYPE=image/jpeg:https://thecedarsproject.com/wp-content/uploads/2025/12/open-mic-comedy-MAD.jpg
ORGANIZER;CN="MadWorld Art Collective":MAILTO:Christian@thecannabisco.online
END:VEVENT
BEGIN:VEVENT
DTSTART;TZID=America/Chicago:20260916T190000
DTEND;TZID=America/Chicago:20260916T210000
DTSTAMP:20260423T145527
CREATED:20251219T233457Z
LAST-MODIFIED:20251219T233844Z
UID:10001341-1789585200-1789592400@thecedarsproject.com
SUMMARY:Open Mic Comedy - MadWorld Art Collective
DESCRIPTION:Join us for open mic comedy night!\nSign up starts at 7:15pm show starts at 8:15pm
URL:https://thecedarsproject.com/event/open-mic-comedy/2026-09-16/
LOCATION:MadWorld Art Collective\, 1678 East Mason St\, Green Bay\, WI\, 54302\, United States
CATEGORIES:Performance
ATTACH;FMTTYPE=image/jpeg:https://thecedarsproject.com/wp-content/uploads/2025/12/open-mic-comedy-MAD.jpg
ORGANIZER;CN="MadWorld Art Collective":MAILTO:Christian@thecannabisco.online
END:VEVENT
BEGIN:VEVENT
DTSTART;TZID=America/Chicago:20260923T190000
DTEND;TZID=America/Chicago:20260923T210000
DTSTAMP:20260423T145527
CREATED:20251219T233457Z
LAST-MODIFIED:20251219T233844Z
UID:10001342-1790190000-1790197200@thecedarsproject.com
SUMMARY:Open Mic Comedy - MadWorld Art Collective
DESCRIPTION:Join us for open mic comedy night!\nSign up starts at 7:15pm show starts at 8:15pm
URL:https://thecedarsproject.com/event/open-mic-comedy/2026-09-23/
LOCATION:MadWorld Art Collective\, 1678 East Mason St\, Green Bay\, WI\, 54302\, United States
CATEGORIES:Performance
ATTACH;FMTTYPE=image/jpeg:https://thecedarsproject.com/wp-content/uploads/2025/12/open-mic-comedy-MAD.jpg
ORGANIZER;CN="MadWorld Art Collective":MAILTO:Christian@thecannabisco.online
END:VEVENT
BEGIN:VEVENT
DTSTART;TZID=America/Chicago:20260930T190000
DTEND;TZID=America/Chicago:20260930T210000
DTSTAMP:20260423T145527
CREATED:20251219T233457Z
LAST-MODIFIED:20251219T233844Z
UID:10001343-1790794800-1790802000@thecedarsproject.com
SUMMARY:Open Mic Comedy - MadWorld Art Collective
DESCRIPTION:Join us for open mic comedy night!\nSign up starts at 7:15pm show starts at 8:15pm
URL:https://thecedarsproject.com/event/open-mic-comedy/2026-09-30/
LOCATION:MadWorld Art Collective\, 1678 East Mason St\, Green Bay\, WI\, 54302\, United States
CATEGORIES:Performance
ATTACH;FMTTYPE=image/jpeg:https://thecedarsproject.com/wp-content/uploads/2025/12/open-mic-comedy-MAD.jpg
ORGANIZER;CN="MadWorld Art Collective":MAILTO:Christian@thecannabisco.online
END:VEVENT
BEGIN:VEVENT
DTSTART;TZID=America/Chicago:20261007T190000
DTEND;TZID=America/Chicago:20261007T210000
DTSTAMP:20260423T145527
CREATED:20251219T233457Z
LAST-MODIFIED:20251219T233844Z
UID:10001344-1791399600-1791406800@thecedarsproject.com
SUMMARY:Open Mic Comedy - MadWorld Art Collective
DESCRIPTION:Join us for open mic comedy night!\nSign up starts at 7:15pm show starts at 8:15pm
URL:https://thecedarsproject.com/event/open-mic-comedy/2026-10-07/
LOCATION:MadWorld Art Collective\, 1678 East Mason St\, Green Bay\, WI\, 54302\, United States
CATEGORIES:Performance
ATTACH;FMTTYPE=image/jpeg:https://thecedarsproject.com/wp-content/uploads/2025/12/open-mic-comedy-MAD.jpg
ORGANIZER;CN="MadWorld Art Collective":MAILTO:Christian@thecannabisco.online
END:VEVENT
BEGIN:VEVENT
DTSTART;TZID=America/Chicago:20261014T190000
DTEND;TZID=America/Chicago:20261014T210000
DTSTAMP:20260423T145527
CREATED:20251219T233457Z
LAST-MODIFIED:20251219T233844Z
UID:10001345-1792004400-1792011600@thecedarsproject.com
SUMMARY:Open Mic Comedy - MadWorld Art Collective
DESCRIPTION:Join us for open mic comedy night!\nSign up starts at 7:15pm show starts at 8:15pm
URL:https://thecedarsproject.com/event/open-mic-comedy/2026-10-14/
LOCATION:MadWorld Art Collective\, 1678 East Mason St\, Green Bay\, WI\, 54302\, United States
CATEGORIES:Performance
ATTACH;FMTTYPE=image/jpeg:https://thecedarsproject.com/wp-content/uploads/2025/12/open-mic-comedy-MAD.jpg
ORGANIZER;CN="MadWorld Art Collective":MAILTO:Christian@thecannabisco.online
END:VEVENT
BEGIN:VEVENT
DTSTART;TZID=America/Chicago:20261021T190000
DTEND;TZID=America/Chicago:20261021T210000
DTSTAMP:20260423T145527
CREATED:20251219T233457Z
LAST-MODIFIED:20251219T233844Z
UID:10001346-1792609200-1792616400@thecedarsproject.com
SUMMARY:Open Mic Comedy - MadWorld Art Collective
DESCRIPTION:Join us for open mic comedy night!\nSign up starts at 7:15pm show starts at 8:15pm
URL:https://thecedarsproject.com/event/open-mic-comedy/2026-10-21/
LOCATION:MadWorld Art Collective\, 1678 East Mason St\, Green Bay\, WI\, 54302\, United States
CATEGORIES:Performance
ATTACH;FMTTYPE=image/jpeg:https://thecedarsproject.com/wp-content/uploads/2025/12/open-mic-comedy-MAD.jpg
ORGANIZER;CN="MadWorld Art Collective":MAILTO:Christian@thecannabisco.online
END:VEVENT
BEGIN:VEVENT
DTSTART;TZID=America/Chicago:20261028T190000
DTEND;TZID=America/Chicago:20261028T210000
DTSTAMP:20260423T145527
CREATED:20251219T233457Z
LAST-MODIFIED:20251219T233844Z
UID:10001347-1793214000-1793221200@thecedarsproject.com
SUMMARY:Open Mic Comedy - MadWorld Art Collective
DESCRIPTION:Join us for open mic comedy night!\nSign up starts at 7:15pm show starts at 8:15pm
URL:https://thecedarsproject.com/event/open-mic-comedy/2026-10-28/
LOCATION:MadWorld Art Collective\, 1678 East Mason St\, Green Bay\, WI\, 54302\, United States
CATEGORIES:Performance
ATTACH;FMTTYPE=image/jpeg:https://thecedarsproject.com/wp-content/uploads/2025/12/open-mic-comedy-MAD.jpg
ORGANIZER;CN="MadWorld Art Collective":MAILTO:Christian@thecannabisco.online
END:VEVENT
BEGIN:VEVENT
DTSTART;TZID=America/Chicago:20261104T190000
DTEND;TZID=America/Chicago:20261104T210000
DTSTAMP:20260423T145527
CREATED:20251219T233457Z
LAST-MODIFIED:20251219T233844Z
UID:10001348-1793818800-1793826000@thecedarsproject.com
SUMMARY:Open Mic Comedy - MadWorld Art Collective
DESCRIPTION:Join us for open mic comedy night!\nSign up starts at 7:15pm show starts at 8:15pm
URL:https://thecedarsproject.com/event/open-mic-comedy/2026-11-04/
LOCATION:MadWorld Art Collective\, 1678 East Mason St\, Green Bay\, WI\, 54302\, United States
CATEGORIES:Performance
ATTACH;FMTTYPE=image/jpeg:https://thecedarsproject.com/wp-content/uploads/2025/12/open-mic-comedy-MAD.jpg
ORGANIZER;CN="MadWorld Art Collective":MAILTO:Christian@thecannabisco.online
END:VEVENT
BEGIN:VEVENT
DTSTART;TZID=America/Chicago:20261111T190000
DTEND;TZID=America/Chicago:20261111T210000
DTSTAMP:20260423T145527
CREATED:20251219T233457Z
LAST-MODIFIED:20251219T233844Z
UID:10001349-1794423600-1794430800@thecedarsproject.com
SUMMARY:Open Mic Comedy - MadWorld Art Collective
DESCRIPTION:Join us for open mic comedy night!\nSign up starts at 7:15pm show starts at 8:15pm
URL:https://thecedarsproject.com/event/open-mic-comedy/2026-11-11/
LOCATION:MadWorld Art Collective\, 1678 East Mason St\, Green Bay\, WI\, 54302\, United States
CATEGORIES:Performance
ATTACH;FMTTYPE=image/jpeg:https://thecedarsproject.com/wp-content/uploads/2025/12/open-mic-comedy-MAD.jpg
ORGANIZER;CN="MadWorld Art Collective":MAILTO:Christian@thecannabisco.online
END:VEVENT
BEGIN:VEVENT
DTSTART;TZID=America/Chicago:20261118T190000
DTEND;TZID=America/Chicago:20261118T210000
DTSTAMP:20260423T145527
CREATED:20251219T233457Z
LAST-MODIFIED:20251219T233844Z
UID:10001350-1795028400-1795035600@thecedarsproject.com
SUMMARY:Open Mic Comedy - MadWorld Art Collective
DESCRIPTION:Join us for open mic comedy night!\nSign up starts at 7:15pm show starts at 8:15pm
URL:https://thecedarsproject.com/event/open-mic-comedy/2026-11-18/
LOCATION:MadWorld Art Collective\, 1678 East Mason St\, Green Bay\, WI\, 54302\, United States
CATEGORIES:Performance
ATTACH;FMTTYPE=image/jpeg:https://thecedarsproject.com/wp-content/uploads/2025/12/open-mic-comedy-MAD.jpg
ORGANIZER;CN="MadWorld Art Collective":MAILTO:Christian@thecannabisco.online
END:VEVENT
BEGIN:VEVENT
DTSTART;TZID=America/Chicago:20261125T190000
DTEND;TZID=America/Chicago:20261125T210000
DTSTAMP:20260423T145527
CREATED:20251219T233457Z
LAST-MODIFIED:20251219T233844Z
UID:10001351-1795633200-1795640400@thecedarsproject.com
SUMMARY:Open Mic Comedy - MadWorld Art Collective
DESCRIPTION:Join us for open mic comedy night!\nSign up starts at 7:15pm show starts at 8:15pm
URL:https://thecedarsproject.com/event/open-mic-comedy/2026-11-25/
LOCATION:MadWorld Art Collective\, 1678 East Mason St\, Green Bay\, WI\, 54302\, United States
CATEGORIES:Performance
ATTACH;FMTTYPE=image/jpeg:https://thecedarsproject.com/wp-content/uploads/2025/12/open-mic-comedy-MAD.jpg
ORGANIZER;CN="MadWorld Art Collective":MAILTO:Christian@thecannabisco.online
END:VEVENT
BEGIN:VEVENT
DTSTART;TZID=America/Chicago:20261202T190000
DTEND;TZID=America/Chicago:20261202T210000
DTSTAMP:20260423T145527
CREATED:20251219T233457Z
LAST-MODIFIED:20251219T233844Z
UID:10001352-1796238000-1796245200@thecedarsproject.com
SUMMARY:Open Mic Comedy - MadWorld Art Collective
DESCRIPTION:Join us for open mic comedy night!\nSign up starts at 7:15pm show starts at 8:15pm
URL:https://thecedarsproject.com/event/open-mic-comedy/2026-12-02/
LOCATION:MadWorld Art Collective\, 1678 East Mason St\, Green Bay\, WI\, 54302\, United States
CATEGORIES:Performance
ATTACH;FMTTYPE=image/jpeg:https://thecedarsproject.com/wp-content/uploads/2025/12/open-mic-comedy-MAD.jpg
ORGANIZER;CN="MadWorld Art Collective":MAILTO:Christian@thecannabisco.online
END:VEVENT
BEGIN:VEVENT
DTSTART;TZID=America/Chicago:20261209T190000
DTEND;TZID=America/Chicago:20261209T210000
DTSTAMP:20260423T145527
CREATED:20251219T233457Z
LAST-MODIFIED:20251219T233844Z
UID:10001353-1796842800-1796850000@thecedarsproject.com
SUMMARY:Open Mic Comedy - MadWorld Art Collective
DESCRIPTION:Join us for open mic comedy night!\nSign up starts at 7:15pm show starts at 8:15pm
URL:https://thecedarsproject.com/event/open-mic-comedy/2026-12-09/
LOCATION:MadWorld Art Collective\, 1678 East Mason St\, Green Bay\, WI\, 54302\, United States
CATEGORIES:Performance
ATTACH;FMTTYPE=image/jpeg:https://thecedarsproject.com/wp-content/uploads/2025/12/open-mic-comedy-MAD.jpg
ORGANIZER;CN="MadWorld Art Collective":MAILTO:Christian@thecannabisco.online
END:VEVENT
BEGIN:VEVENT
DTSTART;TZID=America/Chicago:20261216T190000
DTEND;TZID=America/Chicago:20261216T210000
DTSTAMP:20260423T145527
CREATED:20251219T233457Z
LAST-MODIFIED:20251219T233844Z
UID:10001354-1797447600-1797454800@thecedarsproject.com
SUMMARY:Open Mic Comedy - MadWorld Art Collective
DESCRIPTION:Join us for open mic comedy night!\nSign up starts at 7:15pm show starts at 8:15pm
URL:https://thecedarsproject.com/event/open-mic-comedy/2026-12-16/
LOCATION:MadWorld Art Collective\, 1678 East Mason St\, Green Bay\, WI\, 54302\, United States
CATEGORIES:Performance
ATTACH;FMTTYPE=image/jpeg:https://thecedarsproject.com/wp-content/uploads/2025/12/open-mic-comedy-MAD.jpg
ORGANIZER;CN="MadWorld Art Collective":MAILTO:Christian@thecannabisco.online
END:VEVENT
BEGIN:VEVENT
DTSTART;TZID=America/Chicago:20261223T190000
DTEND;TZID=America/Chicago:20261223T210000
DTSTAMP:20260423T145527
CREATED:20251219T233457Z
LAST-MODIFIED:20251219T233844Z
UID:10001355-1798052400-1798059600@thecedarsproject.com
SUMMARY:Open Mic Comedy - MadWorld Art Collective
DESCRIPTION:Join us for open mic comedy night!\nSign up starts at 7:15pm show starts at 8:15pm
URL:https://thecedarsproject.com/event/open-mic-comedy/2026-12-23/
LOCATION:MadWorld Art Collective\, 1678 East Mason St\, Green Bay\, WI\, 54302\, United States
CATEGORIES:Performance
ATTACH;FMTTYPE=image/jpeg:https://thecedarsproject.com/wp-content/uploads/2025/12/open-mic-comedy-MAD.jpg
ORGANIZER;CN="MadWorld Art Collective":MAILTO:Christian@thecannabisco.online
END:VEVENT
BEGIN:VEVENT
DTSTART;TZID=America/Chicago:20261230T190000
DTEND;TZID=America/Chicago:20261230T210000
DTSTAMP:20260423T145527
CREATED:20251219T233457Z
LAST-MODIFIED:20251219T233844Z
UID:10001356-1798657200-1798664400@thecedarsproject.com
SUMMARY:Open Mic Comedy - MadWorld Art Collective
DESCRIPTION:Join us for open mic comedy night!\nSign up starts at 7:15pm show starts at 8:15pm
URL:https://thecedarsproject.com/event/open-mic-comedy/2026-12-30/
LOCATION:MadWorld Art Collective\, 1678 East Mason St\, Green Bay\, WI\, 54302\, United States
CATEGORIES:Performance
ATTACH;FMTTYPE=image/jpeg:https://thecedarsproject.com/wp-content/uploads/2025/12/open-mic-comedy-MAD.jpg
ORGANIZER;CN="MadWorld Art Collective":MAILTO:Christian@thecannabisco.online
END:VEVENT
BEGIN:VEVENT
DTSTART;TZID=America/Chicago:20270106T190000
DTEND;TZID=America/Chicago:20270106T210000
DTSTAMP:20260423T145527
CREATED:20251219T233457Z
LAST-MODIFIED:20251219T233844Z
UID:10001357-1799262000-1799269200@thecedarsproject.com
SUMMARY:Open Mic Comedy - MadWorld Art Collective
DESCRIPTION:Join us for open mic comedy night!\nSign up starts at 7:15pm show starts at 8:15pm
URL:https://thecedarsproject.com/event/open-mic-comedy/2027-01-06/
LOCATION:MadWorld Art Collective\, 1678 East Mason St\, Green Bay\, WI\, 54302\, United States
CATEGORIES:Performance
ATTACH;FMTTYPE=image/jpeg:https://thecedarsproject.com/wp-content/uploads/2025/12/open-mic-comedy-MAD.jpg
ORGANIZER;CN="MadWorld Art Collective":MAILTO:Christian@thecannabisco.online
END:VEVENT
BEGIN:VEVENT
DTSTART;TZID=America/Chicago:20270113T190000
DTEND;TZID=America/Chicago:20270113T210000
DTSTAMP:20260423T145527
CREATED:20251219T233457Z
LAST-MODIFIED:20251219T233844Z
UID:10001358-1799866800-1799874000@thecedarsproject.com
SUMMARY:Open Mic Comedy - MadWorld Art Collective
DESCRIPTION:Join us for open mic comedy night!\nSign up starts at 7:15pm show starts at 8:15pm
URL:https://thecedarsproject.com/event/open-mic-comedy/2027-01-13/
LOCATION:MadWorld Art Collective\, 1678 East Mason St\, Green Bay\, WI\, 54302\, United States
CATEGORIES:Performance
ATTACH;FMTTYPE=image/jpeg:https://thecedarsproject.com/wp-content/uploads/2025/12/open-mic-comedy-MAD.jpg
ORGANIZER;CN="MadWorld Art Collective":MAILTO:Christian@thecannabisco.online
END:VEVENT
BEGIN:VEVENT
DTSTART;TZID=America/Chicago:20270120T190000
DTEND;TZID=America/Chicago:20270120T210000
DTSTAMP:20260423T145527
CREATED:20251219T233457Z
LAST-MODIFIED:20251219T233844Z
UID:10001359-1800471600-1800478800@thecedarsproject.com
SUMMARY:Open Mic Comedy - MadWorld Art Collective
DESCRIPTION:Join us for open mic comedy night!\nSign up starts at 7:15pm show starts at 8:15pm
URL:https://thecedarsproject.com/event/open-mic-comedy/2027-01-20/
LOCATION:MadWorld Art Collective\, 1678 East Mason St\, Green Bay\, WI\, 54302\, United States
CATEGORIES:Performance
ATTACH;FMTTYPE=image/jpeg:https://thecedarsproject.com/wp-content/uploads/2025/12/open-mic-comedy-MAD.jpg
ORGANIZER;CN="MadWorld Art Collective":MAILTO:Christian@thecannabisco.online
END:VEVENT
BEGIN:VEVENT
DTSTART;TZID=America/Chicago:20270127T190000
DTEND;TZID=America/Chicago:20270127T210000
DTSTAMP:20260423T145527
CREATED:20251219T233457Z
LAST-MODIFIED:20251219T233844Z
UID:10001360-1801076400-1801083600@thecedarsproject.com
SUMMARY:Open Mic Comedy - MadWorld Art Collective
DESCRIPTION:Join us for open mic comedy night!\nSign up starts at 7:15pm show starts at 8:15pm
URL:https://thecedarsproject.com/event/open-mic-comedy/2027-01-27/
LOCATION:MadWorld Art Collective\, 1678 East Mason St\, Green Bay\, WI\, 54302\, United States
CATEGORIES:Performance
ATTACH;FMTTYPE=image/jpeg:https://thecedarsproject.com/wp-content/uploads/2025/12/open-mic-comedy-MAD.jpg
ORGANIZER;CN="MadWorld Art Collective":MAILTO:Christian@thecannabisco.online
END:VEVENT
END:VCALENDAR