BEGIN:VCALENDAR
VERSION:2.0
PRODID:-// - ECPv6.15.20//NONSGML v1.0//EN
CALSCALE:GREGORIAN
METHOD:PUBLISH
X-ORIGINAL-URL:https://thecedarsproject.com
X-WR-CALDESC:Events for 
REFRESH-INTERVAL;VALUE=DURATION:PT1H
X-Robots-Tag:noindex
X-PUBLISHED-TTL:PT1H
BEGIN:VTIMEZONE
TZID:America/Chicago
BEGIN:DAYLIGHT
TZOFFSETFROM:-0600
TZOFFSETTO:-0500
TZNAME:CDT
DTSTART:20250309T080000
END:DAYLIGHT
BEGIN:STANDARD
TZOFFSETFROM:-0500
TZOFFSETTO:-0600
TZNAME:CST
DTSTART:20251102T070000
END:STANDARD
BEGIN:DAYLIGHT
TZOFFSETFROM:-0600
TZOFFSETTO:-0500
TZNAME:CDT
DTSTART:20260308T080000
END:DAYLIGHT
BEGIN:STANDARD
TZOFFSETFROM:-0500
TZOFFSETTO:-0600
TZNAME:CST
DTSTART:20261101T070000
END:STANDARD
BEGIN:DAYLIGHT
TZOFFSETFROM:-0600
TZOFFSETTO:-0500
TZNAME:CDT
DTSTART:20270314T080000
END:DAYLIGHT
BEGIN:STANDARD
TZOFFSETFROM:-0500
TZOFFSETTO:-0600
TZNAME:CST
DTSTART:20271107T070000
END:STANDARD
END:VTIMEZONE
BEGIN:VEVENT
DTSTART;TZID=America/Chicago:20260422T190000
DTEND;TZID=America/Chicago:20260422T210000
DTSTAMP:20260423T145459
CREATED:20251219T233457Z
LAST-MODIFIED:20251219T233844Z
UID:10001320-1776884400-1776891600@thecedarsproject.com
SUMMARY:Open Mic Comedy - MadWorld Art Collective
DESCRIPTION:Join us for open mic comedy night!\nSign up starts at 7:15pm show starts at 8:15pm
URL:https://thecedarsproject.com/event/open-mic-comedy/2026-04-22/
LOCATION:MadWorld Art Collective\, 1678 East Mason St\, Green Bay\, WI\, 54302\, United States
CATEGORIES:Performance
ATTACH;FMTTYPE=image/jpeg:https://thecedarsproject.com/wp-content/uploads/2025/12/open-mic-comedy-MAD.jpg
ORGANIZER;CN="MadWorld Art Collective":MAILTO:Christian@thecannabisco.online
END:VEVENT
BEGIN:VEVENT
DTSTART;TZID=America/Chicago:20260415T190000
DTEND;TZID=America/Chicago:20260415T210000
DTSTAMP:20260423T145459
CREATED:20251219T233457Z
LAST-MODIFIED:20251219T233844Z
UID:10001319-1776279600-1776286800@thecedarsproject.com
SUMMARY:Open Mic Comedy - MadWorld Art Collective
DESCRIPTION:Join us for open mic comedy night!\nSign up starts at 7:15pm show starts at 8:15pm
URL:https://thecedarsproject.com/event/open-mic-comedy/2026-04-15/
LOCATION:MadWorld Art Collective\, 1678 East Mason St\, Green Bay\, WI\, 54302\, United States
CATEGORIES:Performance
ATTACH;FMTTYPE=image/jpeg:https://thecedarsproject.com/wp-content/uploads/2025/12/open-mic-comedy-MAD.jpg
ORGANIZER;CN="MadWorld Art Collective":MAILTO:Christian@thecannabisco.online
END:VEVENT
BEGIN:VEVENT
DTSTART;TZID=America/Chicago:20260408T190000
DTEND;TZID=America/Chicago:20260408T210000
DTSTAMP:20260423T145459
CREATED:20251219T233457Z
LAST-MODIFIED:20251219T233844Z
UID:10001318-1775674800-1775682000@thecedarsproject.com
SUMMARY:Open Mic Comedy - MadWorld Art Collective
DESCRIPTION:Join us for open mic comedy night!\nSign up starts at 7:15pm show starts at 8:15pm
URL:https://thecedarsproject.com/event/open-mic-comedy/2026-04-08/
LOCATION:MadWorld Art Collective\, 1678 East Mason St\, Green Bay\, WI\, 54302\, United States
CATEGORIES:Performance
ATTACH;FMTTYPE=image/jpeg:https://thecedarsproject.com/wp-content/uploads/2025/12/open-mic-comedy-MAD.jpg
ORGANIZER;CN="MadWorld Art Collective":MAILTO:Christian@thecannabisco.online
END:VEVENT
BEGIN:VEVENT
DTSTART;TZID=America/Chicago:20260401T190000
DTEND;TZID=America/Chicago:20260401T210000
DTSTAMP:20260423T145459
CREATED:20251219T233457Z
LAST-MODIFIED:20251219T233844Z
UID:10001317-1775070000-1775077200@thecedarsproject.com
SUMMARY:Open Mic Comedy - MadWorld Art Collective
DESCRIPTION:Join us for open mic comedy night!\nSign up starts at 7:15pm show starts at 8:15pm
URL:https://thecedarsproject.com/event/open-mic-comedy/2026-04-01/
LOCATION:MadWorld Art Collective\, 1678 East Mason St\, Green Bay\, WI\, 54302\, United States
CATEGORIES:Performance
ATTACH;FMTTYPE=image/jpeg:https://thecedarsproject.com/wp-content/uploads/2025/12/open-mic-comedy-MAD.jpg
ORGANIZER;CN="MadWorld Art Collective":MAILTO:Christian@thecannabisco.online
END:VEVENT
BEGIN:VEVENT
DTSTART;TZID=America/Chicago:20260325T190000
DTEND;TZID=America/Chicago:20260325T210000
DTSTAMP:20260423T145459
CREATED:20251219T233457Z
LAST-MODIFIED:20251219T233844Z
UID:10001316-1774465200-1774472400@thecedarsproject.com
SUMMARY:Open Mic Comedy - MadWorld Art Collective
DESCRIPTION:Join us for open mic comedy night!\nSign up starts at 7:15pm show starts at 8:15pm
URL:https://thecedarsproject.com/event/open-mic-comedy/2026-03-25/
LOCATION:MadWorld Art Collective\, 1678 East Mason St\, Green Bay\, WI\, 54302\, United States
CATEGORIES:Performance
ATTACH;FMTTYPE=image/jpeg:https://thecedarsproject.com/wp-content/uploads/2025/12/open-mic-comedy-MAD.jpg
ORGANIZER;CN="MadWorld Art Collective":MAILTO:Christian@thecannabisco.online
END:VEVENT
BEGIN:VEVENT
DTSTART;TZID=America/Chicago:20260318T190000
DTEND;TZID=America/Chicago:20260318T210000
DTSTAMP:20260423T145459
CREATED:20251219T233457Z
LAST-MODIFIED:20251219T233844Z
UID:10001315-1773860400-1773867600@thecedarsproject.com
SUMMARY:Open Mic Comedy - MadWorld Art Collective
DESCRIPTION:Join us for open mic comedy night!\nSign up starts at 7:15pm show starts at 8:15pm
URL:https://thecedarsproject.com/event/open-mic-comedy/2026-03-18/
LOCATION:MadWorld Art Collective\, 1678 East Mason St\, Green Bay\, WI\, 54302\, United States
CATEGORIES:Performance
ATTACH;FMTTYPE=image/jpeg:https://thecedarsproject.com/wp-content/uploads/2025/12/open-mic-comedy-MAD.jpg
ORGANIZER;CN="MadWorld Art Collective":MAILTO:Christian@thecannabisco.online
END:VEVENT
BEGIN:VEVENT
DTSTART;TZID=America/Chicago:20260313T183000
DTEND;TZID=America/Chicago:20260313T200000
DTSTAMP:20260423T145459
CREATED:20260209T180607Z
LAST-MODIFIED:20260209T180607Z
UID:10001550-1773426600-1773432000@thecedarsproject.com
SUMMARY:Kirtan! Brilliant Bliss Mantra Music Journey
DESCRIPTION:When we sing in harmony together it just plain feels GOOD! AND… it creates a unified field of purpose\, power\, and love that amplifies our connection and collective presence. Come raise your voices in song with us! \nSinging together helps! It helps to give emotions a safe channel for release\, it helps to uplift our tired spirits and renew our souls\, it opens the heart and calms the mind\, it creates a deeper sense of belonging and unified connection\, it brings inner-harmony. Come sing with us! We need this!! \nSACRED SOUND MEDICINE FOR HEART AND SOUL ~ SING . LISTEN . BREATHE . CONNECT . BE .\nThese gatherings of singing ancient mantras + conscious lyrics are heart + soul medicine that support us now more than ever. Let’s GO! We need this!!\nYou don’t have to be a singer to join us … the collective voice creates a brilliantly beautiful sound that heals the heart and uplifts the spirit! Come! \nAbout Our CommUNITY Mantra Music Journeys\nDid you know that singing in community can increase inner-peace\, uplift your mind\, open your heart + leave you feeling more connected\, centered\, and alive? \nJoin our Family Band — Savi\, Mark\, Deann\, Denise\, Eliana + soul family friends — for an evening of Brilliant Bliss: a participatory\, co-creative music + sound healing journey. \nKarli from the amazing local duo\, Natural Satellite\, will be joining us on cello.
URL:https://thecedarsproject.com/event/kirtan-brilliant-bliss-mantra-music-journey-2/
LOCATION:Being Collective\, 109 S Appleton St\, Appleton\, WI\, 54911\, United States
CATEGORIES:Art and Culture,Live Music,Performance
ATTACH;FMTTYPE=image/png:https://thecedarsproject.com/wp-content/uploads/2026/02/Screenshot-2026-02-06-at-10.04.20-AM.png
END:VEVENT
BEGIN:VEVENT
DTSTART;TZID=America/Chicago:20260311T190000
DTEND;TZID=America/Chicago:20260311T210000
DTSTAMP:20260423T145459
CREATED:20251219T233457Z
LAST-MODIFIED:20251219T233844Z
UID:10001314-1773255600-1773262800@thecedarsproject.com
SUMMARY:Open Mic Comedy - MadWorld Art Collective
DESCRIPTION:Join us for open mic comedy night!\nSign up starts at 7:15pm show starts at 8:15pm
URL:https://thecedarsproject.com/event/open-mic-comedy/2026-03-11/
LOCATION:MadWorld Art Collective\, 1678 East Mason St\, Green Bay\, WI\, 54302\, United States
CATEGORIES:Performance
ATTACH;FMTTYPE=image/jpeg:https://thecedarsproject.com/wp-content/uploads/2025/12/open-mic-comedy-MAD.jpg
ORGANIZER;CN="MadWorld Art Collective":MAILTO:Christian@thecannabisco.online
END:VEVENT
BEGIN:VEVENT
DTSTART;TZID=America/Chicago:20260304T190000
DTEND;TZID=America/Chicago:20260304T210000
DTSTAMP:20260423T145459
CREATED:20251219T233457Z
LAST-MODIFIED:20251219T233844Z
UID:10001313-1772650800-1772658000@thecedarsproject.com
SUMMARY:Open Mic Comedy - MadWorld Art Collective
DESCRIPTION:Join us for open mic comedy night!\nSign up starts at 7:15pm show starts at 8:15pm
URL:https://thecedarsproject.com/event/open-mic-comedy/2026-03-04/
LOCATION:MadWorld Art Collective\, 1678 East Mason St\, Green Bay\, WI\, 54302\, United States
CATEGORIES:Performance
ATTACH;FMTTYPE=image/jpeg:https://thecedarsproject.com/wp-content/uploads/2025/12/open-mic-comedy-MAD.jpg
ORGANIZER;CN="MadWorld Art Collective":MAILTO:Christian@thecannabisco.online
END:VEVENT
BEGIN:VEVENT
DTSTART;TZID=America/Chicago:20260225T190000
DTEND;TZID=America/Chicago:20260225T210000
DTSTAMP:20260423T145459
CREATED:20251219T233457Z
LAST-MODIFIED:20251219T233844Z
UID:10001312-1772046000-1772053200@thecedarsproject.com
SUMMARY:Open Mic Comedy - MadWorld Art Collective
DESCRIPTION:Join us for open mic comedy night!\nSign up starts at 7:15pm show starts at 8:15pm
URL:https://thecedarsproject.com/event/open-mic-comedy/2026-02-25/
LOCATION:MadWorld Art Collective\, 1678 East Mason St\, Green Bay\, WI\, 54302\, United States
CATEGORIES:Performance
ATTACH;FMTTYPE=image/jpeg:https://thecedarsproject.com/wp-content/uploads/2025/12/open-mic-comedy-MAD.jpg
ORGANIZER;CN="MadWorld Art Collective":MAILTO:Christian@thecannabisco.online
END:VEVENT
BEGIN:VEVENT
DTSTART;TZID=America/Chicago:20260218T190000
DTEND;TZID=America/Chicago:20260218T210000
DTSTAMP:20260423T145459
CREATED:20251219T233457Z
LAST-MODIFIED:20251219T233844Z
UID:10001311-1771441200-1771448400@thecedarsproject.com
SUMMARY:Open Mic Comedy - MadWorld Art Collective
DESCRIPTION:Join us for open mic comedy night!\nSign up starts at 7:15pm show starts at 8:15pm
URL:https://thecedarsproject.com/event/open-mic-comedy/2026-02-18/
LOCATION:MadWorld Art Collective\, 1678 East Mason St\, Green Bay\, WI\, 54302\, United States
CATEGORIES:Performance
ATTACH;FMTTYPE=image/jpeg:https://thecedarsproject.com/wp-content/uploads/2025/12/open-mic-comedy-MAD.jpg
ORGANIZER;CN="MadWorld Art Collective":MAILTO:Christian@thecannabisco.online
END:VEVENT
BEGIN:VEVENT
DTSTART;TZID=America/Chicago:20260211T190000
DTEND;TZID=America/Chicago:20260211T210000
DTSTAMP:20260423T145459
CREATED:20251219T233457Z
LAST-MODIFIED:20251219T233844Z
UID:10001310-1770836400-1770843600@thecedarsproject.com
SUMMARY:Open Mic Comedy - MadWorld Art Collective
DESCRIPTION:Join us for open mic comedy night!\nSign up starts at 7:15pm show starts at 8:15pm
URL:https://thecedarsproject.com/event/open-mic-comedy/2026-02-11/
LOCATION:MadWorld Art Collective\, 1678 East Mason St\, Green Bay\, WI\, 54302\, United States
CATEGORIES:Performance
ATTACH;FMTTYPE=image/jpeg:https://thecedarsproject.com/wp-content/uploads/2025/12/open-mic-comedy-MAD.jpg
ORGANIZER;CN="MadWorld Art Collective":MAILTO:Christian@thecannabisco.online
END:VEVENT
BEGIN:VEVENT
DTSTART;TZID=America/Chicago:20260204T190000
DTEND;TZID=America/Chicago:20260204T210000
DTSTAMP:20260423T145459
CREATED:20251219T233457Z
LAST-MODIFIED:20251219T233844Z
UID:10001309-1770231600-1770238800@thecedarsproject.com
SUMMARY:Open Mic Comedy - MadWorld Art Collective
DESCRIPTION:Join us for open mic comedy night!\nSign up starts at 7:15pm show starts at 8:15pm
URL:https://thecedarsproject.com/event/open-mic-comedy/2026-02-04/
LOCATION:MadWorld Art Collective\, 1678 East Mason St\, Green Bay\, WI\, 54302\, United States
CATEGORIES:Performance
ATTACH;FMTTYPE=image/jpeg:https://thecedarsproject.com/wp-content/uploads/2025/12/open-mic-comedy-MAD.jpg
ORGANIZER;CN="MadWorld Art Collective":MAILTO:Christian@thecannabisco.online
END:VEVENT
BEGIN:VEVENT
DTSTART;TZID=America/Chicago:20260128T190000
DTEND;TZID=America/Chicago:20260128T210000
DTSTAMP:20260423T145459
CREATED:20251219T233457Z
LAST-MODIFIED:20251219T233844Z
UID:10001308-1769626800-1769634000@thecedarsproject.com
SUMMARY:Open Mic Comedy - MadWorld Art Collective
DESCRIPTION:Join us for open mic comedy night!\nSign up starts at 7:15pm show starts at 8:15pm
URL:https://thecedarsproject.com/event/open-mic-comedy/2026-01-28/
LOCATION:MadWorld Art Collective\, 1678 East Mason St\, Green Bay\, WI\, 54302\, United States
CATEGORIES:Performance
ATTACH;FMTTYPE=image/jpeg:https://thecedarsproject.com/wp-content/uploads/2025/12/open-mic-comedy-MAD.jpg
ORGANIZER;CN="MadWorld Art Collective":MAILTO:Christian@thecannabisco.online
END:VEVENT
BEGIN:VEVENT
DTSTART;TZID=America/Chicago:20260121T190000
DTEND;TZID=America/Chicago:20260121T210000
DTSTAMP:20260423T145459
CREATED:20251219T233457Z
LAST-MODIFIED:20251219T233844Z
UID:10001307-1769022000-1769029200@thecedarsproject.com
SUMMARY:Open Mic Comedy - MadWorld Art Collective
DESCRIPTION:Join us for open mic comedy night!\nSign up starts at 7:15pm show starts at 8:15pm
URL:https://thecedarsproject.com/event/open-mic-comedy/2026-01-21/
LOCATION:MadWorld Art Collective\, 1678 East Mason St\, Green Bay\, WI\, 54302\, United States
CATEGORIES:Performance
ATTACH;FMTTYPE=image/jpeg:https://thecedarsproject.com/wp-content/uploads/2025/12/open-mic-comedy-MAD.jpg
ORGANIZER;CN="MadWorld Art Collective":MAILTO:Christian@thecannabisco.online
END:VEVENT
BEGIN:VEVENT
DTSTART;TZID=America/Chicago:20260114T190000
DTEND;TZID=America/Chicago:20260114T210000
DTSTAMP:20260423T145459
CREATED:20251219T233457Z
LAST-MODIFIED:20251219T233844Z
UID:10001306-1768417200-1768424400@thecedarsproject.com
SUMMARY:Open Mic Comedy - MadWorld Art Collective
DESCRIPTION:Join us for open mic comedy night!\nSign up starts at 7:15pm show starts at 8:15pm
URL:https://thecedarsproject.com/event/open-mic-comedy/2026-01-14/
LOCATION:MadWorld Art Collective\, 1678 East Mason St\, Green Bay\, WI\, 54302\, United States
CATEGORIES:Performance
ATTACH;FMTTYPE=image/jpeg:https://thecedarsproject.com/wp-content/uploads/2025/12/open-mic-comedy-MAD.jpg
ORGANIZER;CN="MadWorld Art Collective":MAILTO:Christian@thecannabisco.online
END:VEVENT
BEGIN:VEVENT
DTSTART;TZID=America/Chicago:20260107T190000
DTEND;TZID=America/Chicago:20260107T210000
DTSTAMP:20260423T145500
CREATED:20251219T233457Z
LAST-MODIFIED:20251219T233844Z
UID:10001305-1767812400-1767819600@thecedarsproject.com
SUMMARY:Open Mic Comedy - MadWorld Art Collective
DESCRIPTION:Join us for open mic comedy night!\nSign up starts at 7:15pm show starts at 8:15pm
URL:https://thecedarsproject.com/event/open-mic-comedy/2026-01-07/
LOCATION:MadWorld Art Collective\, 1678 East Mason St\, Green Bay\, WI\, 54302\, United States
CATEGORIES:Performance
ATTACH;FMTTYPE=image/jpeg:https://thecedarsproject.com/wp-content/uploads/2025/12/open-mic-comedy-MAD.jpg
ORGANIZER;CN="MadWorld Art Collective":MAILTO:Christian@thecannabisco.online
END:VEVENT
END:VCALENDAR