BEGIN:VCALENDAR
VERSION:2.0
PRODID:-// - ECPv6.15.20//NONSGML v1.0//EN
CALSCALE:GREGORIAN
METHOD:PUBLISH
X-ORIGINAL-URL:https://thecedarsproject.com
X-WR-CALDESC:Events for 
REFRESH-INTERVAL;VALUE=DURATION:PT1H
X-Robots-Tag:noindex
X-PUBLISHED-TTL:PT1H
BEGIN:VTIMEZONE
TZID:America/Chicago
BEGIN:DAYLIGHT
TZOFFSETFROM:-0600
TZOFFSETTO:-0500
TZNAME:CDT
DTSTART:20250309T080000
END:DAYLIGHT
BEGIN:STANDARD
TZOFFSETFROM:-0500
TZOFFSETTO:-0600
TZNAME:CST
DTSTART:20251102T070000
END:STANDARD
BEGIN:DAYLIGHT
TZOFFSETFROM:-0600
TZOFFSETTO:-0500
TZNAME:CDT
DTSTART:20260308T080000
END:DAYLIGHT
BEGIN:STANDARD
TZOFFSETFROM:-0500
TZOFFSETTO:-0600
TZNAME:CST
DTSTART:20261101T070000
END:STANDARD
BEGIN:DAYLIGHT
TZOFFSETFROM:-0600
TZOFFSETTO:-0500
TZNAME:CDT
DTSTART:20270314T080000
END:DAYLIGHT
BEGIN:STANDARD
TZOFFSETFROM:-0500
TZOFFSETTO:-0600
TZNAME:CST
DTSTART:20271107T070000
END:STANDARD
BEGIN:DAYLIGHT
TZOFFSETFROM:-0600
TZOFFSETTO:-0500
TZNAME:CDT
DTSTART:20280312T080000
END:DAYLIGHT
BEGIN:STANDARD
TZOFFSETFROM:-0500
TZOFFSETTO:-0600
TZNAME:CST
DTSTART:20281105T070000
END:STANDARD
END:VTIMEZONE
BEGIN:VEVENT
DTSTART;TZID=America/Chicago:20260415T170000
DTEND;TZID=America/Chicago:20260415T200000
DTSTAMP:20260424T094354
CREATED:20251219T223340Z
LAST-MODIFIED:20251219T223340Z
UID:10001028-1776272400-1776283200@thecedarsproject.com
SUMMARY:Appleton Pickle Club
DESCRIPTION:Looking for a place where bold ideas\, weird questions\, and progressive minds can actually meet each other off the algorithm? \nSame. So we’re reviving something delightfully odd and historically scrappy.
URL:https://thecedarsproject.com/event/appleton-pickle-club/2026-04-15/
LOCATION:Tardigrade’s Bookshelf\, 501 N Richmond St\, Appleton\, WI\, 54911\, United States
CATEGORIES:Geek and Games
ATTACH;FMTTYPE=image/jpeg:https://thecedarsproject.com/wp-content/uploads/2025/12/american-pickle-club.jpg
END:VEVENT
BEGIN:VEVENT
DTSTART;TZID=America/Chicago:20260415T173000
DTEND;TZID=America/Chicago:20260415T193000
DTSTAMP:20260424T094355
CREATED:20251221T193625Z
LAST-MODIFIED:20251221T193625Z
UID:10001525-1776274200-1776281400@thecedarsproject.com
SUMMARY:Wine Bingo - 313 Dodge
DESCRIPTION:Join us for a fun evening of wine bingo! A ticket will get you signed up for two hours of bingo with the chance to win bottles of wine! Additional cards can be purchased for $1 – cash only. Grab your friends and join us for a fun night out! Please note\, we need at least 10 players for bingo – if we don’t have enough\, we will refund your ticket! \nGrab your tickets here!
URL:https://thecedarsproject.com/event/wine-bingo-313-dodge/2026-04-15/
LOCATION:313 Dodge\, 313 Dodge St\, Kaukauna\, WI\, 54130\, United States
CATEGORIES:Food and Drink,Geek and Games
ATTACH;FMTTYPE=image/jpeg:https://thecedarsproject.com/wp-content/uploads/2025/12/313-1.jpg
END:VEVENT
BEGIN:VEVENT
DTSTART;TZID=America/Chicago:20260422T173000
DTEND;TZID=America/Chicago:20260422T193000
DTSTAMP:20260424T094355
CREATED:20251221T193625Z
LAST-MODIFIED:20251221T193625Z
UID:10001526-1776879000-1776886200@thecedarsproject.com
SUMMARY:Wine Bingo - 313 Dodge
DESCRIPTION:Join us for a fun evening of wine bingo! A ticket will get you signed up for two hours of bingo with the chance to win bottles of wine! Additional cards can be purchased for $1 – cash only. Grab your friends and join us for a fun night out! Please note\, we need at least 10 players for bingo – if we don’t have enough\, we will refund your ticket! \nGrab your tickets here!
URL:https://thecedarsproject.com/event/wine-bingo-313-dodge/2026-04-22/
LOCATION:313 Dodge\, 313 Dodge St\, Kaukauna\, WI\, 54130\, United States
CATEGORIES:Food and Drink,Geek and Games
ATTACH;FMTTYPE=image/jpeg:https://thecedarsproject.com/wp-content/uploads/2025/12/313-1.jpg
END:VEVENT
BEGIN:VEVENT
DTSTART;TZID=America/Chicago:20260429T173000
DTEND;TZID=America/Chicago:20260429T193000
DTSTAMP:20260424T094355
CREATED:20251221T193625Z
LAST-MODIFIED:20251221T193625Z
UID:10001527-1777483800-1777491000@thecedarsproject.com
SUMMARY:Wine Bingo - 313 Dodge
DESCRIPTION:Join us for a fun evening of wine bingo! A ticket will get you signed up for two hours of bingo with the chance to win bottles of wine! Additional cards can be purchased for $1 – cash only. Grab your friends and join us for a fun night out! Please note\, we need at least 10 players for bingo – if we don’t have enough\, we will refund your ticket! \nGrab your tickets here!
URL:https://thecedarsproject.com/event/wine-bingo-313-dodge/2026-04-29/
LOCATION:313 Dodge\, 313 Dodge St\, Kaukauna\, WI\, 54130\, United States
CATEGORIES:Food and Drink,Geek and Games
ATTACH;FMTTYPE=image/jpeg:https://thecedarsproject.com/wp-content/uploads/2025/12/313-1.jpg
END:VEVENT
BEGIN:VEVENT
DTSTART;TZID=America/Chicago:20260520T170000
DTEND;TZID=America/Chicago:20260520T200000
DTSTAMP:20260424T094355
CREATED:20251219T223340Z
LAST-MODIFIED:20251219T223340Z
UID:10001029-1779296400-1779307200@thecedarsproject.com
SUMMARY:Appleton Pickle Club
DESCRIPTION:Looking for a place where bold ideas\, weird questions\, and progressive minds can actually meet each other off the algorithm? \nSame. So we’re reviving something delightfully odd and historically scrappy.
URL:https://thecedarsproject.com/event/appleton-pickle-club/2026-05-20/
LOCATION:Tardigrade’s Bookshelf\, 501 N Richmond St\, Appleton\, WI\, 54911\, United States
CATEGORIES:Geek and Games
ATTACH;FMTTYPE=image/jpeg:https://thecedarsproject.com/wp-content/uploads/2025/12/american-pickle-club.jpg
END:VEVENT
BEGIN:VEVENT
DTSTART;TZID=America/Chicago:20260617T170000
DTEND;TZID=America/Chicago:20260617T200000
DTSTAMP:20260424T094355
CREATED:20251219T223340Z
LAST-MODIFIED:20251219T223340Z
UID:10001030-1781715600-1781726400@thecedarsproject.com
SUMMARY:Appleton Pickle Club
DESCRIPTION:Looking for a place where bold ideas\, weird questions\, and progressive minds can actually meet each other off the algorithm? \nSame. So we’re reviving something delightfully odd and historically scrappy.
URL:https://thecedarsproject.com/event/appleton-pickle-club/2026-06-17/
LOCATION:Tardigrade’s Bookshelf\, 501 N Richmond St\, Appleton\, WI\, 54911\, United States
CATEGORIES:Geek and Games
ATTACH;FMTTYPE=image/jpeg:https://thecedarsproject.com/wp-content/uploads/2025/12/american-pickle-club.jpg
END:VEVENT
BEGIN:VEVENT
DTSTART;TZID=America/Chicago:20260715T170000
DTEND;TZID=America/Chicago:20260715T200000
DTSTAMP:20260424T094355
CREATED:20251219T223340Z
LAST-MODIFIED:20251219T223340Z
UID:10001031-1784134800-1784145600@thecedarsproject.com
SUMMARY:Appleton Pickle Club
DESCRIPTION:Looking for a place where bold ideas\, weird questions\, and progressive minds can actually meet each other off the algorithm? \nSame. So we’re reviving something delightfully odd and historically scrappy.
URL:https://thecedarsproject.com/event/appleton-pickle-club/2026-07-15/
LOCATION:Tardigrade’s Bookshelf\, 501 N Richmond St\, Appleton\, WI\, 54911\, United States
CATEGORIES:Geek and Games
ATTACH;FMTTYPE=image/jpeg:https://thecedarsproject.com/wp-content/uploads/2025/12/american-pickle-club.jpg
END:VEVENT
BEGIN:VEVENT
DTSTART;TZID=America/Chicago:20260819T170000
DTEND;TZID=America/Chicago:20260819T200000
DTSTAMP:20260424T094355
CREATED:20251219T223340Z
LAST-MODIFIED:20251219T223340Z
UID:10001032-1787158800-1787169600@thecedarsproject.com
SUMMARY:Appleton Pickle Club
DESCRIPTION:Looking for a place where bold ideas\, weird questions\, and progressive minds can actually meet each other off the algorithm? \nSame. So we’re reviving something delightfully odd and historically scrappy.
URL:https://thecedarsproject.com/event/appleton-pickle-club/2026-08-19/
LOCATION:Tardigrade’s Bookshelf\, 501 N Richmond St\, Appleton\, WI\, 54911\, United States
CATEGORIES:Geek and Games
ATTACH;FMTTYPE=image/jpeg:https://thecedarsproject.com/wp-content/uploads/2025/12/american-pickle-club.jpg
END:VEVENT
BEGIN:VEVENT
DTSTART;TZID=America/Chicago:20260916T170000
DTEND;TZID=America/Chicago:20260916T200000
DTSTAMP:20260424T094355
CREATED:20251219T223340Z
LAST-MODIFIED:20251219T223340Z
UID:10001033-1789578000-1789588800@thecedarsproject.com
SUMMARY:Appleton Pickle Club
DESCRIPTION:Looking for a place where bold ideas\, weird questions\, and progressive minds can actually meet each other off the algorithm? \nSame. So we’re reviving something delightfully odd and historically scrappy.
URL:https://thecedarsproject.com/event/appleton-pickle-club/2026-09-16/
LOCATION:Tardigrade’s Bookshelf\, 501 N Richmond St\, Appleton\, WI\, 54911\, United States
CATEGORIES:Geek and Games
ATTACH;FMTTYPE=image/jpeg:https://thecedarsproject.com/wp-content/uploads/2025/12/american-pickle-club.jpg
END:VEVENT
BEGIN:VEVENT
DTSTART;TZID=America/Chicago:20261021T170000
DTEND;TZID=America/Chicago:20261021T200000
DTSTAMP:20260424T094355
CREATED:20251219T223340Z
LAST-MODIFIED:20251219T223340Z
UID:10001034-1792602000-1792612800@thecedarsproject.com
SUMMARY:Appleton Pickle Club
DESCRIPTION:Looking for a place where bold ideas\, weird questions\, and progressive minds can actually meet each other off the algorithm? \nSame. So we’re reviving something delightfully odd and historically scrappy.
URL:https://thecedarsproject.com/event/appleton-pickle-club/2026-10-21/
LOCATION:Tardigrade’s Bookshelf\, 501 N Richmond St\, Appleton\, WI\, 54911\, United States
CATEGORIES:Geek and Games
ATTACH;FMTTYPE=image/jpeg:https://thecedarsproject.com/wp-content/uploads/2025/12/american-pickle-club.jpg
END:VEVENT
BEGIN:VEVENT
DTSTART;TZID=America/Chicago:20261118T170000
DTEND;TZID=America/Chicago:20261118T200000
DTSTAMP:20260424T094355
CREATED:20251219T223340Z
LAST-MODIFIED:20251219T223340Z
UID:10001035-1795021200-1795032000@thecedarsproject.com
SUMMARY:Appleton Pickle Club
DESCRIPTION:Looking for a place where bold ideas\, weird questions\, and progressive minds can actually meet each other off the algorithm? \nSame. So we’re reviving something delightfully odd and historically scrappy.
URL:https://thecedarsproject.com/event/appleton-pickle-club/2026-11-18/
LOCATION:Tardigrade’s Bookshelf\, 501 N Richmond St\, Appleton\, WI\, 54911\, United States
CATEGORIES:Geek and Games
ATTACH;FMTTYPE=image/jpeg:https://thecedarsproject.com/wp-content/uploads/2025/12/american-pickle-club.jpg
END:VEVENT
BEGIN:VEVENT
DTSTART;TZID=America/Chicago:20261216T170000
DTEND;TZID=America/Chicago:20261216T200000
DTSTAMP:20260424T094355
CREATED:20251219T223340Z
LAST-MODIFIED:20251219T223340Z
UID:10001036-1797440400-1797451200@thecedarsproject.com
SUMMARY:Appleton Pickle Club
DESCRIPTION:Looking for a place where bold ideas\, weird questions\, and progressive minds can actually meet each other off the algorithm? \nSame. So we’re reviving something delightfully odd and historically scrappy.
URL:https://thecedarsproject.com/event/appleton-pickle-club/2026-12-16/
LOCATION:Tardigrade’s Bookshelf\, 501 N Richmond St\, Appleton\, WI\, 54911\, United States
CATEGORIES:Geek and Games
ATTACH;FMTTYPE=image/jpeg:https://thecedarsproject.com/wp-content/uploads/2025/12/american-pickle-club.jpg
END:VEVENT
BEGIN:VEVENT
DTSTART;TZID=America/Chicago:20270120T170000
DTEND;TZID=America/Chicago:20270120T200000
DTSTAMP:20260424T094355
CREATED:20251219T223340Z
LAST-MODIFIED:20251219T223340Z
UID:10001037-1800464400-1800475200@thecedarsproject.com
SUMMARY:Appleton Pickle Club
DESCRIPTION:Looking for a place where bold ideas\, weird questions\, and progressive minds can actually meet each other off the algorithm? \nSame. So we’re reviving something delightfully odd and historically scrappy.
URL:https://thecedarsproject.com/event/appleton-pickle-club/2027-01-20/
LOCATION:Tardigrade’s Bookshelf\, 501 N Richmond St\, Appleton\, WI\, 54911\, United States
CATEGORIES:Geek and Games
ATTACH;FMTTYPE=image/jpeg:https://thecedarsproject.com/wp-content/uploads/2025/12/american-pickle-club.jpg
END:VEVENT
BEGIN:VEVENT
DTSTART;TZID=America/Chicago:20270217T170000
DTEND;TZID=America/Chicago:20270217T200000
DTSTAMP:20260424T094355
CREATED:20251219T223340Z
LAST-MODIFIED:20251219T223340Z
UID:10001038-1802883600-1802894400@thecedarsproject.com
SUMMARY:Appleton Pickle Club
DESCRIPTION:Looking for a place where bold ideas\, weird questions\, and progressive minds can actually meet each other off the algorithm? \nSame. So we’re reviving something delightfully odd and historically scrappy.
URL:https://thecedarsproject.com/event/appleton-pickle-club/2027-02-17/
LOCATION:Tardigrade’s Bookshelf\, 501 N Richmond St\, Appleton\, WI\, 54911\, United States
CATEGORIES:Geek and Games
ATTACH;FMTTYPE=image/jpeg:https://thecedarsproject.com/wp-content/uploads/2025/12/american-pickle-club.jpg
END:VEVENT
BEGIN:VEVENT
DTSTART;TZID=America/Chicago:20270317T170000
DTEND;TZID=America/Chicago:20270317T200000
DTSTAMP:20260424T094355
CREATED:20251219T223340Z
LAST-MODIFIED:20251219T223340Z
UID:10001039-1805302800-1805313600@thecedarsproject.com
SUMMARY:Appleton Pickle Club
DESCRIPTION:Looking for a place where bold ideas\, weird questions\, and progressive minds can actually meet each other off the algorithm? \nSame. So we’re reviving something delightfully odd and historically scrappy.
URL:https://thecedarsproject.com/event/appleton-pickle-club/2027-03-17/
LOCATION:Tardigrade’s Bookshelf\, 501 N Richmond St\, Appleton\, WI\, 54911\, United States
CATEGORIES:Geek and Games
ATTACH;FMTTYPE=image/jpeg:https://thecedarsproject.com/wp-content/uploads/2025/12/american-pickle-club.jpg
END:VEVENT
BEGIN:VEVENT
DTSTART;TZID=America/Chicago:20270421T170000
DTEND;TZID=America/Chicago:20270421T200000
DTSTAMP:20260424T094355
CREATED:20251219T223340Z
LAST-MODIFIED:20251219T223340Z
UID:10001040-1808326800-1808337600@thecedarsproject.com
SUMMARY:Appleton Pickle Club
DESCRIPTION:Looking for a place where bold ideas\, weird questions\, and progressive minds can actually meet each other off the algorithm? \nSame. So we’re reviving something delightfully odd and historically scrappy.
URL:https://thecedarsproject.com/event/appleton-pickle-club/2027-04-21/
LOCATION:Tardigrade’s Bookshelf\, 501 N Richmond St\, Appleton\, WI\, 54911\, United States
CATEGORIES:Geek and Games
ATTACH;FMTTYPE=image/jpeg:https://thecedarsproject.com/wp-content/uploads/2025/12/american-pickle-club.jpg
END:VEVENT
END:VCALENDAR