BEGIN:VCALENDAR
VERSION:2.0
PRODID:-// - ECPv6.15.20//NONSGML v1.0//EN
CALSCALE:GREGORIAN
METHOD:PUBLISH
X-ORIGINAL-URL:https://thecedarsproject.com
X-WR-CALDESC:Events for 
REFRESH-INTERVAL;VALUE=DURATION:PT1H
X-Robots-Tag:noindex
X-PUBLISHED-TTL:PT1H
BEGIN:VTIMEZONE
TZID:America/Chicago
BEGIN:DAYLIGHT
TZOFFSETFROM:-0600
TZOFFSETTO:-0500
TZNAME:CDT
DTSTART:20250309T080000
END:DAYLIGHT
BEGIN:STANDARD
TZOFFSETFROM:-0500
TZOFFSETTO:-0600
TZNAME:CST
DTSTART:20251102T070000
END:STANDARD
BEGIN:DAYLIGHT
TZOFFSETFROM:-0600
TZOFFSETTO:-0500
TZNAME:CDT
DTSTART:20260308T080000
END:DAYLIGHT
BEGIN:STANDARD
TZOFFSETFROM:-0500
TZOFFSETTO:-0600
TZNAME:CST
DTSTART:20261101T070000
END:STANDARD
BEGIN:DAYLIGHT
TZOFFSETFROM:-0600
TZOFFSETTO:-0500
TZNAME:CDT
DTSTART:20270314T080000
END:DAYLIGHT
BEGIN:STANDARD
TZOFFSETFROM:-0500
TZOFFSETTO:-0600
TZNAME:CST
DTSTART:20271107T070000
END:STANDARD
END:VTIMEZONE
BEGIN:VEVENT
DTSTART;TZID=America/Chicago:20260311T173000
DTEND;TZID=America/Chicago:20260311T193000
DTSTAMP:20260424T042158
CREATED:20251221T193625Z
LAST-MODIFIED:20251221T193625Z
UID:10001520-1773250200-1773257400@thecedarsproject.com
SUMMARY:Wine Bingo - 313 Dodge
DESCRIPTION:Join us for a fun evening of wine bingo! A ticket will get you signed up for two hours of bingo with the chance to win bottles of wine! Additional cards can be purchased for $1 – cash only. Grab your friends and join us for a fun night out! Please note\, we need at least 10 players for bingo – if we don’t have enough\, we will refund your ticket! \nGrab your tickets here!
URL:https://thecedarsproject.com/event/wine-bingo-313-dodge/2026-03-11/
LOCATION:313 Dodge\, 313 Dodge St\, Kaukauna\, WI\, 54130\, United States
CATEGORIES:Food and Drink,Geek and Games
ATTACH;FMTTYPE=image/jpeg:https://thecedarsproject.com/wp-content/uploads/2025/12/313-1.jpg
END:VEVENT
END:VCALENDAR