BEGIN:VCALENDAR
VERSION:2.0
PRODID:-// - ECPv6.15.20//NONSGML v1.0//EN
CALSCALE:GREGORIAN
METHOD:PUBLISH
X-ORIGINAL-URL:https://thecedarsproject.com
X-WR-CALDESC:Events for 
REFRESH-INTERVAL;VALUE=DURATION:PT1H
X-Robots-Tag:noindex
X-PUBLISHED-TTL:PT1H
BEGIN:VTIMEZONE
TZID:America/Chicago
BEGIN:DAYLIGHT
TZOFFSETFROM:-0600
TZOFFSETTO:-0500
TZNAME:CDT
DTSTART:20260308T080000
END:DAYLIGHT
BEGIN:STANDARD
TZOFFSETFROM:-0500
TZOFFSETTO:-0600
TZNAME:CST
DTSTART:20261101T070000
END:STANDARD
BEGIN:DAYLIGHT
TZOFFSETFROM:-0600
TZOFFSETTO:-0500
TZNAME:CDT
DTSTART:20270314T080000
END:DAYLIGHT
BEGIN:STANDARD
TZOFFSETFROM:-0500
TZOFFSETTO:-0600
TZNAME:CST
DTSTART:20271107T070000
END:STANDARD
BEGIN:DAYLIGHT
TZOFFSETFROM:-0600
TZOFFSETTO:-0500
TZNAME:CDT
DTSTART:20280312T080000
END:DAYLIGHT
BEGIN:STANDARD
TZOFFSETFROM:-0500
TZOFFSETTO:-0600
TZNAME:CST
DTSTART:20281105T070000
END:STANDARD
BEGIN:DAYLIGHT
TZOFFSETFROM:-0600
TZOFFSETTO:-0500
TZNAME:CDT
DTSTART:20290311T080000
END:DAYLIGHT
BEGIN:STANDARD
TZOFFSETFROM:-0500
TZOFFSETTO:-0600
TZNAME:CST
DTSTART:20291104T070000
END:STANDARD
END:VTIMEZONE
BEGIN:VEVENT
DTSTART;TZID=America/Chicago:20271102T160000
DTEND;TZID=America/Chicago:20271102T210000
DTSTAMP:20260424T190613
CREATED:20251219T225558Z
LAST-MODIFIED:20251219T225558Z
UID:10001138-1825171200-1825189200@thecedarsproject.com
SUMMARY:Meet The Brewer - Timber Taps
DESCRIPTION:Every Tuesday\, our brewer Aaron will be behind the bar at Timber Tap Taproom & Brewery. \n•He’ll be pouring pints and answering your questions about how our beers are made. \n​•Learn more about the brewing process and get to know the guy behind the craft. \n•Come on down\, grab a cold one\, and hang out with Aaron.🍻 See you Tuesday!
URL:https://thecedarsproject.com/event/meet-the-brewer-timber-taps/2027-11-02/
LOCATION:Timber Taps\, 100 S Birch St\, Kimberly\, WI\, 54136\, United States
CATEGORIES:Food and Drink
ATTACH;FMTTYPE=image/jpeg:https://thecedarsproject.com/wp-content/uploads/2025/12/taps.jpg
END:VEVENT
BEGIN:VEVENT
DTSTART;TZID=America/Chicago:20271109T160000
DTEND;TZID=America/Chicago:20271109T210000
DTSTAMP:20260424T190613
CREATED:20251219T225558Z
LAST-MODIFIED:20251219T225558Z
UID:10001139-1825776000-1825794000@thecedarsproject.com
SUMMARY:Meet The Brewer - Timber Taps
DESCRIPTION:Every Tuesday\, our brewer Aaron will be behind the bar at Timber Tap Taproom & Brewery. \n•He’ll be pouring pints and answering your questions about how our beers are made. \n​•Learn more about the brewing process and get to know the guy behind the craft. \n•Come on down\, grab a cold one\, and hang out with Aaron.🍻 See you Tuesday!
URL:https://thecedarsproject.com/event/meet-the-brewer-timber-taps/2027-11-09/
LOCATION:Timber Taps\, 100 S Birch St\, Kimberly\, WI\, 54136\, United States
CATEGORIES:Food and Drink
ATTACH;FMTTYPE=image/jpeg:https://thecedarsproject.com/wp-content/uploads/2025/12/taps.jpg
END:VEVENT
BEGIN:VEVENT
DTSTART;TZID=America/Chicago:20271116T160000
DTEND;TZID=America/Chicago:20271116T210000
DTSTAMP:20260424T190613
CREATED:20251219T225558Z
LAST-MODIFIED:20251219T225558Z
UID:10001140-1826380800-1826398800@thecedarsproject.com
SUMMARY:Meet The Brewer - Timber Taps
DESCRIPTION:Every Tuesday\, our brewer Aaron will be behind the bar at Timber Tap Taproom & Brewery. \n•He’ll be pouring pints and answering your questions about how our beers are made. \n​•Learn more about the brewing process and get to know the guy behind the craft. \n•Come on down\, grab a cold one\, and hang out with Aaron.🍻 See you Tuesday!
URL:https://thecedarsproject.com/event/meet-the-brewer-timber-taps/2027-11-16/
LOCATION:Timber Taps\, 100 S Birch St\, Kimberly\, WI\, 54136\, United States
CATEGORIES:Food and Drink
ATTACH;FMTTYPE=image/jpeg:https://thecedarsproject.com/wp-content/uploads/2025/12/taps.jpg
END:VEVENT
BEGIN:VEVENT
DTSTART;TZID=America/Chicago:20271123T160000
DTEND;TZID=America/Chicago:20271123T210000
DTSTAMP:20260424T190613
CREATED:20251219T225558Z
LAST-MODIFIED:20251219T225558Z
UID:10001141-1826985600-1827003600@thecedarsproject.com
SUMMARY:Meet The Brewer - Timber Taps
DESCRIPTION:Every Tuesday\, our brewer Aaron will be behind the bar at Timber Tap Taproom & Brewery. \n•He’ll be pouring pints and answering your questions about how our beers are made. \n​•Learn more about the brewing process and get to know the guy behind the craft. \n•Come on down\, grab a cold one\, and hang out with Aaron.🍻 See you Tuesday!
URL:https://thecedarsproject.com/event/meet-the-brewer-timber-taps/2027-11-23/
LOCATION:Timber Taps\, 100 S Birch St\, Kimberly\, WI\, 54136\, United States
CATEGORIES:Food and Drink
ATTACH;FMTTYPE=image/jpeg:https://thecedarsproject.com/wp-content/uploads/2025/12/taps.jpg
END:VEVENT
BEGIN:VEVENT
DTSTART;TZID=America/Chicago:20271130T160000
DTEND;TZID=America/Chicago:20271130T210000
DTSTAMP:20260424T190613
CREATED:20251219T225558Z
LAST-MODIFIED:20251219T225558Z
UID:10001142-1827590400-1827608400@thecedarsproject.com
SUMMARY:Meet The Brewer - Timber Taps
DESCRIPTION:Every Tuesday\, our brewer Aaron will be behind the bar at Timber Tap Taproom & Brewery. \n•He’ll be pouring pints and answering your questions about how our beers are made. \n​•Learn more about the brewing process and get to know the guy behind the craft. \n•Come on down\, grab a cold one\, and hang out with Aaron.🍻 See you Tuesday!
URL:https://thecedarsproject.com/event/meet-the-brewer-timber-taps/2027-11-30/
LOCATION:Timber Taps\, 100 S Birch St\, Kimberly\, WI\, 54136\, United States
CATEGORIES:Food and Drink
ATTACH;FMTTYPE=image/jpeg:https://thecedarsproject.com/wp-content/uploads/2025/12/taps.jpg
END:VEVENT
BEGIN:VEVENT
DTSTART;TZID=America/Chicago:20271207T160000
DTEND;TZID=America/Chicago:20271207T210000
DTSTAMP:20260424T190613
CREATED:20251219T225558Z
LAST-MODIFIED:20251219T225558Z
UID:10001143-1828195200-1828213200@thecedarsproject.com
SUMMARY:Meet The Brewer - Timber Taps
DESCRIPTION:Every Tuesday\, our brewer Aaron will be behind the bar at Timber Tap Taproom & Brewery. \n•He’ll be pouring pints and answering your questions about how our beers are made. \n​•Learn more about the brewing process and get to know the guy behind the craft. \n•Come on down\, grab a cold one\, and hang out with Aaron.🍻 See you Tuesday!
URL:https://thecedarsproject.com/event/meet-the-brewer-timber-taps/2027-12-07/
LOCATION:Timber Taps\, 100 S Birch St\, Kimberly\, WI\, 54136\, United States
CATEGORIES:Food and Drink
ATTACH;FMTTYPE=image/jpeg:https://thecedarsproject.com/wp-content/uploads/2025/12/taps.jpg
END:VEVENT
BEGIN:VEVENT
DTSTART;TZID=America/Chicago:20271214T160000
DTEND;TZID=America/Chicago:20271214T210000
DTSTAMP:20260424T190613
CREATED:20251219T225558Z
LAST-MODIFIED:20251219T225558Z
UID:10001144-1828800000-1828818000@thecedarsproject.com
SUMMARY:Meet The Brewer - Timber Taps
DESCRIPTION:Every Tuesday\, our brewer Aaron will be behind the bar at Timber Tap Taproom & Brewery. \n•He’ll be pouring pints and answering your questions about how our beers are made. \n​•Learn more about the brewing process and get to know the guy behind the craft. \n•Come on down\, grab a cold one\, and hang out with Aaron.🍻 See you Tuesday!
URL:https://thecedarsproject.com/event/meet-the-brewer-timber-taps/2027-12-14/
LOCATION:Timber Taps\, 100 S Birch St\, Kimberly\, WI\, 54136\, United States
CATEGORIES:Food and Drink
ATTACH;FMTTYPE=image/jpeg:https://thecedarsproject.com/wp-content/uploads/2025/12/taps.jpg
END:VEVENT
BEGIN:VEVENT
DTSTART;TZID=America/Chicago:20271221T160000
DTEND;TZID=America/Chicago:20271221T210000
DTSTAMP:20260424T190613
CREATED:20251219T225558Z
LAST-MODIFIED:20251219T225558Z
UID:10001145-1829404800-1829422800@thecedarsproject.com
SUMMARY:Meet The Brewer - Timber Taps
DESCRIPTION:Every Tuesday\, our brewer Aaron will be behind the bar at Timber Tap Taproom & Brewery. \n•He’ll be pouring pints and answering your questions about how our beers are made. \n​•Learn more about the brewing process and get to know the guy behind the craft. \n•Come on down\, grab a cold one\, and hang out with Aaron.🍻 See you Tuesday!
URL:https://thecedarsproject.com/event/meet-the-brewer-timber-taps/2027-12-21/
LOCATION:Timber Taps\, 100 S Birch St\, Kimberly\, WI\, 54136\, United States
CATEGORIES:Food and Drink
ATTACH;FMTTYPE=image/jpeg:https://thecedarsproject.com/wp-content/uploads/2025/12/taps.jpg
END:VEVENT
BEGIN:VEVENT
DTSTART;TZID=America/Chicago:20271228T160000
DTEND;TZID=America/Chicago:20271228T210000
DTSTAMP:20260424T190613
CREATED:20251219T225558Z
LAST-MODIFIED:20251219T225558Z
UID:10001146-1830009600-1830027600@thecedarsproject.com
SUMMARY:Meet The Brewer - Timber Taps
DESCRIPTION:Every Tuesday\, our brewer Aaron will be behind the bar at Timber Tap Taproom & Brewery. \n•He’ll be pouring pints and answering your questions about how our beers are made. \n​•Learn more about the brewing process and get to know the guy behind the craft. \n•Come on down\, grab a cold one\, and hang out with Aaron.🍻 See you Tuesday!
URL:https://thecedarsproject.com/event/meet-the-brewer-timber-taps/2027-12-28/
LOCATION:Timber Taps\, 100 S Birch St\, Kimberly\, WI\, 54136\, United States
CATEGORIES:Food and Drink
ATTACH;FMTTYPE=image/jpeg:https://thecedarsproject.com/wp-content/uploads/2025/12/taps.jpg
END:VEVENT
BEGIN:VEVENT
DTSTART;TZID=America/Chicago:20280104T160000
DTEND;TZID=America/Chicago:20280104T210000
DTSTAMP:20260424T190613
CREATED:20251219T225558Z
LAST-MODIFIED:20251219T225558Z
UID:10001147-1830614400-1830632400@thecedarsproject.com
SUMMARY:Meet The Brewer - Timber Taps
DESCRIPTION:Every Tuesday\, our brewer Aaron will be behind the bar at Timber Tap Taproom & Brewery. \n•He’ll be pouring pints and answering your questions about how our beers are made. \n​•Learn more about the brewing process and get to know the guy behind the craft. \n•Come on down\, grab a cold one\, and hang out with Aaron.🍻 See you Tuesday!
URL:https://thecedarsproject.com/event/meet-the-brewer-timber-taps/2028-01-04/
LOCATION:Timber Taps\, 100 S Birch St\, Kimberly\, WI\, 54136\, United States
CATEGORIES:Food and Drink
ATTACH;FMTTYPE=image/jpeg:https://thecedarsproject.com/wp-content/uploads/2025/12/taps.jpg
END:VEVENT
BEGIN:VEVENT
DTSTART;TZID=America/Chicago:20280111T160000
DTEND;TZID=America/Chicago:20280111T210000
DTSTAMP:20260424T190613
CREATED:20251219T225558Z
LAST-MODIFIED:20251219T225558Z
UID:10001148-1831219200-1831237200@thecedarsproject.com
SUMMARY:Meet The Brewer - Timber Taps
DESCRIPTION:Every Tuesday\, our brewer Aaron will be behind the bar at Timber Tap Taproom & Brewery. \n•He’ll be pouring pints and answering your questions about how our beers are made. \n​•Learn more about the brewing process and get to know the guy behind the craft. \n•Come on down\, grab a cold one\, and hang out with Aaron.🍻 See you Tuesday!
URL:https://thecedarsproject.com/event/meet-the-brewer-timber-taps/2028-01-11/
LOCATION:Timber Taps\, 100 S Birch St\, Kimberly\, WI\, 54136\, United States
CATEGORIES:Food and Drink
ATTACH;FMTTYPE=image/jpeg:https://thecedarsproject.com/wp-content/uploads/2025/12/taps.jpg
END:VEVENT
BEGIN:VEVENT
DTSTART;TZID=America/Chicago:20280118T160000
DTEND;TZID=America/Chicago:20280118T210000
DTSTAMP:20260424T190613
CREATED:20251219T225558Z
LAST-MODIFIED:20251219T225558Z
UID:10001149-1831824000-1831842000@thecedarsproject.com
SUMMARY:Meet The Brewer - Timber Taps
DESCRIPTION:Every Tuesday\, our brewer Aaron will be behind the bar at Timber Tap Taproom & Brewery. \n•He’ll be pouring pints and answering your questions about how our beers are made. \n​•Learn more about the brewing process and get to know the guy behind the craft. \n•Come on down\, grab a cold one\, and hang out with Aaron.🍻 See you Tuesday!
URL:https://thecedarsproject.com/event/meet-the-brewer-timber-taps/2028-01-18/
LOCATION:Timber Taps\, 100 S Birch St\, Kimberly\, WI\, 54136\, United States
CATEGORIES:Food and Drink
ATTACH;FMTTYPE=image/jpeg:https://thecedarsproject.com/wp-content/uploads/2025/12/taps.jpg
END:VEVENT
BEGIN:VEVENT
DTSTART;TZID=America/Chicago:20280125T160000
DTEND;TZID=America/Chicago:20280125T210000
DTSTAMP:20260424T190613
CREATED:20251219T225558Z
LAST-MODIFIED:20251219T225558Z
UID:10001150-1832428800-1832446800@thecedarsproject.com
SUMMARY:Meet The Brewer - Timber Taps
DESCRIPTION:Every Tuesday\, our brewer Aaron will be behind the bar at Timber Tap Taproom & Brewery. \n•He’ll be pouring pints and answering your questions about how our beers are made. \n​•Learn more about the brewing process and get to know the guy behind the craft. \n•Come on down\, grab a cold one\, and hang out with Aaron.🍻 See you Tuesday!
URL:https://thecedarsproject.com/event/meet-the-brewer-timber-taps/2028-01-25/
LOCATION:Timber Taps\, 100 S Birch St\, Kimberly\, WI\, 54136\, United States
CATEGORIES:Food and Drink
ATTACH;FMTTYPE=image/jpeg:https://thecedarsproject.com/wp-content/uploads/2025/12/taps.jpg
END:VEVENT
BEGIN:VEVENT
DTSTART;TZID=America/Chicago:20280201T160000
DTEND;TZID=America/Chicago:20280201T210000
DTSTAMP:20260424T190613
CREATED:20251219T225558Z
LAST-MODIFIED:20251219T225558Z
UID:10001151-1833033600-1833051600@thecedarsproject.com
SUMMARY:Meet The Brewer - Timber Taps
DESCRIPTION:Every Tuesday\, our brewer Aaron will be behind the bar at Timber Tap Taproom & Brewery. \n•He’ll be pouring pints and answering your questions about how our beers are made. \n​•Learn more about the brewing process and get to know the guy behind the craft. \n•Come on down\, grab a cold one\, and hang out with Aaron.🍻 See you Tuesday!
URL:https://thecedarsproject.com/event/meet-the-brewer-timber-taps/2028-02-01/
LOCATION:Timber Taps\, 100 S Birch St\, Kimberly\, WI\, 54136\, United States
CATEGORIES:Food and Drink
ATTACH;FMTTYPE=image/jpeg:https://thecedarsproject.com/wp-content/uploads/2025/12/taps.jpg
END:VEVENT
BEGIN:VEVENT
DTSTART;TZID=America/Chicago:20280208T160000
DTEND;TZID=America/Chicago:20280208T210000
DTSTAMP:20260424T190613
CREATED:20251219T225558Z
LAST-MODIFIED:20251219T225558Z
UID:10001152-1833638400-1833656400@thecedarsproject.com
SUMMARY:Meet The Brewer - Timber Taps
DESCRIPTION:Every Tuesday\, our brewer Aaron will be behind the bar at Timber Tap Taproom & Brewery. \n•He’ll be pouring pints and answering your questions about how our beers are made. \n​•Learn more about the brewing process and get to know the guy behind the craft. \n•Come on down\, grab a cold one\, and hang out with Aaron.🍻 See you Tuesday!
URL:https://thecedarsproject.com/event/meet-the-brewer-timber-taps/2028-02-08/
LOCATION:Timber Taps\, 100 S Birch St\, Kimberly\, WI\, 54136\, United States
CATEGORIES:Food and Drink
ATTACH;FMTTYPE=image/jpeg:https://thecedarsproject.com/wp-content/uploads/2025/12/taps.jpg
END:VEVENT
BEGIN:VEVENT
DTSTART;TZID=America/Chicago:20280215T160000
DTEND;TZID=America/Chicago:20280215T210000
DTSTAMP:20260424T190613
CREATED:20251219T225558Z
LAST-MODIFIED:20251219T225558Z
UID:10001153-1834243200-1834261200@thecedarsproject.com
SUMMARY:Meet The Brewer - Timber Taps
DESCRIPTION:Every Tuesday\, our brewer Aaron will be behind the bar at Timber Tap Taproom & Brewery. \n•He’ll be pouring pints and answering your questions about how our beers are made. \n​•Learn more about the brewing process and get to know the guy behind the craft. \n•Come on down\, grab a cold one\, and hang out with Aaron.🍻 See you Tuesday!
URL:https://thecedarsproject.com/event/meet-the-brewer-timber-taps/2028-02-15/
LOCATION:Timber Taps\, 100 S Birch St\, Kimberly\, WI\, 54136\, United States
CATEGORIES:Food and Drink
ATTACH;FMTTYPE=image/jpeg:https://thecedarsproject.com/wp-content/uploads/2025/12/taps.jpg
END:VEVENT
BEGIN:VEVENT
DTSTART;TZID=America/Chicago:20280222T160000
DTEND;TZID=America/Chicago:20280222T210000
DTSTAMP:20260424T190613
CREATED:20251219T225558Z
LAST-MODIFIED:20251219T225558Z
UID:10001154-1834848000-1834866000@thecedarsproject.com
SUMMARY:Meet The Brewer - Timber Taps
DESCRIPTION:Every Tuesday\, our brewer Aaron will be behind the bar at Timber Tap Taproom & Brewery. \n•He’ll be pouring pints and answering your questions about how our beers are made. \n​•Learn more about the brewing process and get to know the guy behind the craft. \n•Come on down\, grab a cold one\, and hang out with Aaron.🍻 See you Tuesday!
URL:https://thecedarsproject.com/event/meet-the-brewer-timber-taps/2028-02-22/
LOCATION:Timber Taps\, 100 S Birch St\, Kimberly\, WI\, 54136\, United States
CATEGORIES:Food and Drink
ATTACH;FMTTYPE=image/jpeg:https://thecedarsproject.com/wp-content/uploads/2025/12/taps.jpg
END:VEVENT
BEGIN:VEVENT
DTSTART;TZID=America/Chicago:20280229T160000
DTEND;TZID=America/Chicago:20280229T210000
DTSTAMP:20260424T190613
CREATED:20251219T225558Z
LAST-MODIFIED:20251219T225558Z
UID:10001155-1835452800-1835470800@thecedarsproject.com
SUMMARY:Meet The Brewer - Timber Taps
DESCRIPTION:Every Tuesday\, our brewer Aaron will be behind the bar at Timber Tap Taproom & Brewery. \n•He’ll be pouring pints and answering your questions about how our beers are made. \n​•Learn more about the brewing process and get to know the guy behind the craft. \n•Come on down\, grab a cold one\, and hang out with Aaron.🍻 See you Tuesday!
URL:https://thecedarsproject.com/event/meet-the-brewer-timber-taps/2028-02-29/
LOCATION:Timber Taps\, 100 S Birch St\, Kimberly\, WI\, 54136\, United States
CATEGORIES:Food and Drink
ATTACH;FMTTYPE=image/jpeg:https://thecedarsproject.com/wp-content/uploads/2025/12/taps.jpg
END:VEVENT
BEGIN:VEVENT
DTSTART;TZID=America/Chicago:20280307T160000
DTEND;TZID=America/Chicago:20280307T210000
DTSTAMP:20260424T190613
CREATED:20251219T225558Z
LAST-MODIFIED:20251219T225558Z
UID:10001156-1836057600-1836075600@thecedarsproject.com
SUMMARY:Meet The Brewer - Timber Taps
DESCRIPTION:Every Tuesday\, our brewer Aaron will be behind the bar at Timber Tap Taproom & Brewery. \n•He’ll be pouring pints and answering your questions about how our beers are made. \n​•Learn more about the brewing process and get to know the guy behind the craft. \n•Come on down\, grab a cold one\, and hang out with Aaron.🍻 See you Tuesday!
URL:https://thecedarsproject.com/event/meet-the-brewer-timber-taps/2028-03-07/
LOCATION:Timber Taps\, 100 S Birch St\, Kimberly\, WI\, 54136\, United States
CATEGORIES:Food and Drink
ATTACH;FMTTYPE=image/jpeg:https://thecedarsproject.com/wp-content/uploads/2025/12/taps.jpg
END:VEVENT
BEGIN:VEVENT
DTSTART;TZID=America/Chicago:20280314T160000
DTEND;TZID=America/Chicago:20280314T210000
DTSTAMP:20260424T190613
CREATED:20251219T225558Z
LAST-MODIFIED:20251219T225558Z
UID:10001157-1836662400-1836680400@thecedarsproject.com
SUMMARY:Meet The Brewer - Timber Taps
DESCRIPTION:Every Tuesday\, our brewer Aaron will be behind the bar at Timber Tap Taproom & Brewery. \n•He’ll be pouring pints and answering your questions about how our beers are made. \n​•Learn more about the brewing process and get to know the guy behind the craft. \n•Come on down\, grab a cold one\, and hang out with Aaron.🍻 See you Tuesday!
URL:https://thecedarsproject.com/event/meet-the-brewer-timber-taps/2028-03-14/
LOCATION:Timber Taps\, 100 S Birch St\, Kimberly\, WI\, 54136\, United States
CATEGORIES:Food and Drink
ATTACH;FMTTYPE=image/jpeg:https://thecedarsproject.com/wp-content/uploads/2025/12/taps.jpg
END:VEVENT
BEGIN:VEVENT
DTSTART;TZID=America/Chicago:20280321T160000
DTEND;TZID=America/Chicago:20280321T210000
DTSTAMP:20260424T190613
CREATED:20251219T225558Z
LAST-MODIFIED:20251219T225558Z
UID:10001158-1837267200-1837285200@thecedarsproject.com
SUMMARY:Meet The Brewer - Timber Taps
DESCRIPTION:Every Tuesday\, our brewer Aaron will be behind the bar at Timber Tap Taproom & Brewery. \n•He’ll be pouring pints and answering your questions about how our beers are made. \n​•Learn more about the brewing process and get to know the guy behind the craft. \n•Come on down\, grab a cold one\, and hang out with Aaron.🍻 See you Tuesday!
URL:https://thecedarsproject.com/event/meet-the-brewer-timber-taps/2028-03-21/
LOCATION:Timber Taps\, 100 S Birch St\, Kimberly\, WI\, 54136\, United States
CATEGORIES:Food and Drink
ATTACH;FMTTYPE=image/jpeg:https://thecedarsproject.com/wp-content/uploads/2025/12/taps.jpg
END:VEVENT
BEGIN:VEVENT
DTSTART;TZID=America/Chicago:20280328T160000
DTEND;TZID=America/Chicago:20280328T210000
DTSTAMP:20260424T190613
CREATED:20251219T225558Z
LAST-MODIFIED:20251219T225558Z
UID:10001159-1837872000-1837890000@thecedarsproject.com
SUMMARY:Meet The Brewer - Timber Taps
DESCRIPTION:Every Tuesday\, our brewer Aaron will be behind the bar at Timber Tap Taproom & Brewery. \n•He’ll be pouring pints and answering your questions about how our beers are made. \n​•Learn more about the brewing process and get to know the guy behind the craft. \n•Come on down\, grab a cold one\, and hang out with Aaron.🍻 See you Tuesday!
URL:https://thecedarsproject.com/event/meet-the-brewer-timber-taps/2028-03-28/
LOCATION:Timber Taps\, 100 S Birch St\, Kimberly\, WI\, 54136\, United States
CATEGORIES:Food and Drink
ATTACH;FMTTYPE=image/jpeg:https://thecedarsproject.com/wp-content/uploads/2025/12/taps.jpg
END:VEVENT
BEGIN:VEVENT
DTSTART;TZID=America/Chicago:20280404T160000
DTEND;TZID=America/Chicago:20280404T210000
DTSTAMP:20260424T190613
CREATED:20251219T225558Z
LAST-MODIFIED:20251219T225558Z
UID:10001160-1838476800-1838494800@thecedarsproject.com
SUMMARY:Meet The Brewer - Timber Taps
DESCRIPTION:Every Tuesday\, our brewer Aaron will be behind the bar at Timber Tap Taproom & Brewery. \n•He’ll be pouring pints and answering your questions about how our beers are made. \n​•Learn more about the brewing process and get to know the guy behind the craft. \n•Come on down\, grab a cold one\, and hang out with Aaron.🍻 See you Tuesday!
URL:https://thecedarsproject.com/event/meet-the-brewer-timber-taps/2028-04-04/
LOCATION:Timber Taps\, 100 S Birch St\, Kimberly\, WI\, 54136\, United States
CATEGORIES:Food and Drink
ATTACH;FMTTYPE=image/jpeg:https://thecedarsproject.com/wp-content/uploads/2025/12/taps.jpg
END:VEVENT
BEGIN:VEVENT
DTSTART;TZID=America/Chicago:20280411T160000
DTEND;TZID=America/Chicago:20280411T210000
DTSTAMP:20260424T190613
CREATED:20251219T225558Z
LAST-MODIFIED:20251219T225558Z
UID:10001161-1839081600-1839099600@thecedarsproject.com
SUMMARY:Meet The Brewer - Timber Taps
DESCRIPTION:Every Tuesday\, our brewer Aaron will be behind the bar at Timber Tap Taproom & Brewery. \n•He’ll be pouring pints and answering your questions about how our beers are made. \n​•Learn more about the brewing process and get to know the guy behind the craft. \n•Come on down\, grab a cold one\, and hang out with Aaron.🍻 See you Tuesday!
URL:https://thecedarsproject.com/event/meet-the-brewer-timber-taps/2028-04-11/
LOCATION:Timber Taps\, 100 S Birch St\, Kimberly\, WI\, 54136\, United States
CATEGORIES:Food and Drink
ATTACH;FMTTYPE=image/jpeg:https://thecedarsproject.com/wp-content/uploads/2025/12/taps.jpg
END:VEVENT
BEGIN:VEVENT
DTSTART;TZID=America/Chicago:20280418T160000
DTEND;TZID=America/Chicago:20280418T210000
DTSTAMP:20260424T190613
CREATED:20251219T225558Z
LAST-MODIFIED:20251219T225558Z
UID:10001162-1839686400-1839704400@thecedarsproject.com
SUMMARY:Meet The Brewer - Timber Taps
DESCRIPTION:Every Tuesday\, our brewer Aaron will be behind the bar at Timber Tap Taproom & Brewery. \n•He’ll be pouring pints and answering your questions about how our beers are made. \n​•Learn more about the brewing process and get to know the guy behind the craft. \n•Come on down\, grab a cold one\, and hang out with Aaron.🍻 See you Tuesday!
URL:https://thecedarsproject.com/event/meet-the-brewer-timber-taps/2028-04-18/
LOCATION:Timber Taps\, 100 S Birch St\, Kimberly\, WI\, 54136\, United States
CATEGORIES:Food and Drink
ATTACH;FMTTYPE=image/jpeg:https://thecedarsproject.com/wp-content/uploads/2025/12/taps.jpg
END:VEVENT
BEGIN:VEVENT
DTSTART;TZID=America/Chicago:20280425T160000
DTEND;TZID=America/Chicago:20280425T210000
DTSTAMP:20260424T190613
CREATED:20251219T225558Z
LAST-MODIFIED:20251219T225558Z
UID:10001163-1840291200-1840309200@thecedarsproject.com
SUMMARY:Meet The Brewer - Timber Taps
DESCRIPTION:Every Tuesday\, our brewer Aaron will be behind the bar at Timber Tap Taproom & Brewery. \n•He’ll be pouring pints and answering your questions about how our beers are made. \n​•Learn more about the brewing process and get to know the guy behind the craft. \n•Come on down\, grab a cold one\, and hang out with Aaron.🍻 See you Tuesday!
URL:https://thecedarsproject.com/event/meet-the-brewer-timber-taps/2028-04-25/
LOCATION:Timber Taps\, 100 S Birch St\, Kimberly\, WI\, 54136\, United States
CATEGORIES:Food and Drink
ATTACH;FMTTYPE=image/jpeg:https://thecedarsproject.com/wp-content/uploads/2025/12/taps.jpg
END:VEVENT
BEGIN:VEVENT
DTSTART;TZID=America/Chicago:20280502T160000
DTEND;TZID=America/Chicago:20280502T210000
DTSTAMP:20260424T190613
CREATED:20251219T225558Z
LAST-MODIFIED:20251219T225558Z
UID:10001164-1840896000-1840914000@thecedarsproject.com
SUMMARY:Meet The Brewer - Timber Taps
DESCRIPTION:Every Tuesday\, our brewer Aaron will be behind the bar at Timber Tap Taproom & Brewery. \n•He’ll be pouring pints and answering your questions about how our beers are made. \n​•Learn more about the brewing process and get to know the guy behind the craft. \n•Come on down\, grab a cold one\, and hang out with Aaron.🍻 See you Tuesday!
URL:https://thecedarsproject.com/event/meet-the-brewer-timber-taps/2028-05-02/
LOCATION:Timber Taps\, 100 S Birch St\, Kimberly\, WI\, 54136\, United States
CATEGORIES:Food and Drink
ATTACH;FMTTYPE=image/jpeg:https://thecedarsproject.com/wp-content/uploads/2025/12/taps.jpg
END:VEVENT
BEGIN:VEVENT
DTSTART;TZID=America/Chicago:20280509T160000
DTEND;TZID=America/Chicago:20280509T210000
DTSTAMP:20260424T190613
CREATED:20251219T225558Z
LAST-MODIFIED:20251219T225558Z
UID:10001165-1841500800-1841518800@thecedarsproject.com
SUMMARY:Meet The Brewer - Timber Taps
DESCRIPTION:Every Tuesday\, our brewer Aaron will be behind the bar at Timber Tap Taproom & Brewery. \n•He’ll be pouring pints and answering your questions about how our beers are made. \n​•Learn more about the brewing process and get to know the guy behind the craft. \n•Come on down\, grab a cold one\, and hang out with Aaron.🍻 See you Tuesday!
URL:https://thecedarsproject.com/event/meet-the-brewer-timber-taps/2028-05-09/
LOCATION:Timber Taps\, 100 S Birch St\, Kimberly\, WI\, 54136\, United States
CATEGORIES:Food and Drink
ATTACH;FMTTYPE=image/jpeg:https://thecedarsproject.com/wp-content/uploads/2025/12/taps.jpg
END:VEVENT
BEGIN:VEVENT
DTSTART;TZID=America/Chicago:20280516T160000
DTEND;TZID=America/Chicago:20280516T210000
DTSTAMP:20260424T190613
CREATED:20251219T225558Z
LAST-MODIFIED:20251219T225558Z
UID:10001166-1842105600-1842123600@thecedarsproject.com
SUMMARY:Meet The Brewer - Timber Taps
DESCRIPTION:Every Tuesday\, our brewer Aaron will be behind the bar at Timber Tap Taproom & Brewery. \n•He’ll be pouring pints and answering your questions about how our beers are made. \n​•Learn more about the brewing process and get to know the guy behind the craft. \n•Come on down\, grab a cold one\, and hang out with Aaron.🍻 See you Tuesday!
URL:https://thecedarsproject.com/event/meet-the-brewer-timber-taps/2028-05-16/
LOCATION:Timber Taps\, 100 S Birch St\, Kimberly\, WI\, 54136\, United States
CATEGORIES:Food and Drink
ATTACH;FMTTYPE=image/jpeg:https://thecedarsproject.com/wp-content/uploads/2025/12/taps.jpg
END:VEVENT
BEGIN:VEVENT
DTSTART;TZID=America/Chicago:20280523T160000
DTEND;TZID=America/Chicago:20280523T210000
DTSTAMP:20260424T190613
CREATED:20251219T225558Z
LAST-MODIFIED:20251219T225558Z
UID:10001167-1842710400-1842728400@thecedarsproject.com
SUMMARY:Meet The Brewer - Timber Taps
DESCRIPTION:Every Tuesday\, our brewer Aaron will be behind the bar at Timber Tap Taproom & Brewery. \n•He’ll be pouring pints and answering your questions about how our beers are made. \n​•Learn more about the brewing process and get to know the guy behind the craft. \n•Come on down\, grab a cold one\, and hang out with Aaron.🍻 See you Tuesday!
URL:https://thecedarsproject.com/event/meet-the-brewer-timber-taps/2028-05-23/
LOCATION:Timber Taps\, 100 S Birch St\, Kimberly\, WI\, 54136\, United States
CATEGORIES:Food and Drink
ATTACH;FMTTYPE=image/jpeg:https://thecedarsproject.com/wp-content/uploads/2025/12/taps.jpg
END:VEVENT
END:VCALENDAR