BEGIN:VCALENDAR
VERSION:2.0
PRODID:-// - ECPv6.15.20//NONSGML v1.0//EN
CALSCALE:GREGORIAN
METHOD:PUBLISH
X-ORIGINAL-URL:https://thecedarsproject.com
X-WR-CALDESC:Events for 
REFRESH-INTERVAL;VALUE=DURATION:PT1H
X-Robots-Tag:noindex
X-PUBLISHED-TTL:PT1H
BEGIN:VTIMEZONE
TZID:America/Chicago
BEGIN:DAYLIGHT
TZOFFSETFROM:-0600
TZOFFSETTO:-0500
TZNAME:CDT
DTSTART:20250309T080000
END:DAYLIGHT
BEGIN:STANDARD
TZOFFSETFROM:-0500
TZOFFSETTO:-0600
TZNAME:CST
DTSTART:20251102T070000
END:STANDARD
BEGIN:DAYLIGHT
TZOFFSETFROM:-0600
TZOFFSETTO:-0500
TZNAME:CDT
DTSTART:20260308T080000
END:DAYLIGHT
BEGIN:STANDARD
TZOFFSETFROM:-0500
TZOFFSETTO:-0600
TZNAME:CST
DTSTART:20261101T070000
END:STANDARD
BEGIN:DAYLIGHT
TZOFFSETFROM:-0600
TZOFFSETTO:-0500
TZNAME:CDT
DTSTART:20270314T080000
END:DAYLIGHT
BEGIN:STANDARD
TZOFFSETFROM:-0500
TZOFFSETTO:-0600
TZNAME:CST
DTSTART:20271107T070000
END:STANDARD
END:VTIMEZONE
BEGIN:VEVENT
DTSTART;TZID=America/Chicago:20260422T173000
DTEND;TZID=America/Chicago:20260422T193000
DTSTAMP:20260423T200548
CREATED:20251221T193625Z
LAST-MODIFIED:20251221T193625Z
UID:10001526-1776879000-1776886200@thecedarsproject.com
SUMMARY:Wine Bingo - 313 Dodge
DESCRIPTION:Join us for a fun evening of wine bingo! A ticket will get you signed up for two hours of bingo with the chance to win bottles of wine! Additional cards can be purchased for $1 – cash only. Grab your friends and join us for a fun night out! Please note\, we need at least 10 players for bingo – if we don’t have enough\, we will refund your ticket! \nGrab your tickets here!
URL:https://thecedarsproject.com/event/wine-bingo-313-dodge/2026-04-22/
LOCATION:313 Dodge\, 313 Dodge St\, Kaukauna\, WI\, 54130\, United States
CATEGORIES:Food and Drink,Geek and Games
ATTACH;FMTTYPE=image/jpeg:https://thecedarsproject.com/wp-content/uploads/2025/12/313-1.jpg
END:VEVENT
BEGIN:VEVENT
DTSTART;TZID=America/Chicago:20260421T160000
DTEND;TZID=America/Chicago:20260421T210000
DTSTAMP:20260423T200548
CREATED:20251219T225558Z
LAST-MODIFIED:20251219T225558Z
UID:10001058-1776787200-1776805200@thecedarsproject.com
SUMMARY:Meet The Brewer - Timber Taps
DESCRIPTION:Every Tuesday\, our brewer Aaron will be behind the bar at Timber Tap Taproom & Brewery. \n•He’ll be pouring pints and answering your questions about how our beers are made. \n​•Learn more about the brewing process and get to know the guy behind the craft. \n•Come on down\, grab a cold one\, and hang out with Aaron.🍻 See you Tuesday!
URL:https://thecedarsproject.com/event/meet-the-brewer-timber-taps/2026-04-21/
LOCATION:Timber Taps\, 100 S Birch St\, Kimberly\, WI\, 54136\, United States
CATEGORIES:Food and Drink
ATTACH;FMTTYPE=image/jpeg:https://thecedarsproject.com/wp-content/uploads/2025/12/taps.jpg
END:VEVENT
BEGIN:VEVENT
DTSTART;TZID=America/Chicago:20260415T173000
DTEND;TZID=America/Chicago:20260415T193000
DTSTAMP:20260423T200548
CREATED:20251221T193625Z
LAST-MODIFIED:20251221T193625Z
UID:10001525-1776274200-1776281400@thecedarsproject.com
SUMMARY:Wine Bingo - 313 Dodge
DESCRIPTION:Join us for a fun evening of wine bingo! A ticket will get you signed up for two hours of bingo with the chance to win bottles of wine! Additional cards can be purchased for $1 – cash only. Grab your friends and join us for a fun night out! Please note\, we need at least 10 players for bingo – if we don’t have enough\, we will refund your ticket! \nGrab your tickets here!
URL:https://thecedarsproject.com/event/wine-bingo-313-dodge/2026-04-15/
LOCATION:313 Dodge\, 313 Dodge St\, Kaukauna\, WI\, 54130\, United States
CATEGORIES:Food and Drink,Geek and Games
ATTACH;FMTTYPE=image/jpeg:https://thecedarsproject.com/wp-content/uploads/2025/12/313-1.jpg
END:VEVENT
BEGIN:VEVENT
DTSTART;TZID=America/Chicago:20260414T160000
DTEND;TZID=America/Chicago:20260414T210000
DTSTAMP:20260423T200548
CREATED:20251219T225558Z
LAST-MODIFIED:20251219T225558Z
UID:10001057-1776182400-1776200400@thecedarsproject.com
SUMMARY:Meet The Brewer - Timber Taps
DESCRIPTION:Every Tuesday\, our brewer Aaron will be behind the bar at Timber Tap Taproom & Brewery. \n•He’ll be pouring pints and answering your questions about how our beers are made. \n​•Learn more about the brewing process and get to know the guy behind the craft. \n•Come on down\, grab a cold one\, and hang out with Aaron.🍻 See you Tuesday!
URL:https://thecedarsproject.com/event/meet-the-brewer-timber-taps/2026-04-14/
LOCATION:Timber Taps\, 100 S Birch St\, Kimberly\, WI\, 54136\, United States
CATEGORIES:Food and Drink
ATTACH;FMTTYPE=image/jpeg:https://thecedarsproject.com/wp-content/uploads/2025/12/taps.jpg
END:VEVENT
BEGIN:VEVENT
DTSTART;TZID=America/Chicago:20260408T173000
DTEND;TZID=America/Chicago:20260408T193000
DTSTAMP:20260423T200548
CREATED:20251221T193625Z
LAST-MODIFIED:20251221T193625Z
UID:10001524-1775669400-1775676600@thecedarsproject.com
SUMMARY:Wine Bingo - 313 Dodge
DESCRIPTION:Join us for a fun evening of wine bingo! A ticket will get you signed up for two hours of bingo with the chance to win bottles of wine! Additional cards can be purchased for $1 – cash only. Grab your friends and join us for a fun night out! Please note\, we need at least 10 players for bingo – if we don’t have enough\, we will refund your ticket! \nGrab your tickets here!
URL:https://thecedarsproject.com/event/wine-bingo-313-dodge/2026-04-08/
LOCATION:313 Dodge\, 313 Dodge St\, Kaukauna\, WI\, 54130\, United States
CATEGORIES:Food and Drink,Geek and Games
ATTACH;FMTTYPE=image/jpeg:https://thecedarsproject.com/wp-content/uploads/2025/12/313-1.jpg
END:VEVENT
BEGIN:VEVENT
DTSTART;TZID=America/Chicago:20260407T160000
DTEND;TZID=America/Chicago:20260407T210000
DTSTAMP:20260423T200548
CREATED:20251219T225558Z
LAST-MODIFIED:20251219T225558Z
UID:10001056-1775577600-1775595600@thecedarsproject.com
SUMMARY:Meet The Brewer - Timber Taps
DESCRIPTION:Every Tuesday\, our brewer Aaron will be behind the bar at Timber Tap Taproom & Brewery. \n•He’ll be pouring pints and answering your questions about how our beers are made. \n​•Learn more about the brewing process and get to know the guy behind the craft. \n•Come on down\, grab a cold one\, and hang out with Aaron.🍻 See you Tuesday!
URL:https://thecedarsproject.com/event/meet-the-brewer-timber-taps/2026-04-07/
LOCATION:Timber Taps\, 100 S Birch St\, Kimberly\, WI\, 54136\, United States
CATEGORIES:Food and Drink
ATTACH;FMTTYPE=image/jpeg:https://thecedarsproject.com/wp-content/uploads/2025/12/taps.jpg
END:VEVENT
BEGIN:VEVENT
DTSTART;TZID=America/Chicago:20260401T173000
DTEND;TZID=America/Chicago:20260401T193000
DTSTAMP:20260423T200548
CREATED:20251221T193625Z
LAST-MODIFIED:20251221T193625Z
UID:10001523-1775064600-1775071800@thecedarsproject.com
SUMMARY:Wine Bingo - 313 Dodge
DESCRIPTION:Join us for a fun evening of wine bingo! A ticket will get you signed up for two hours of bingo with the chance to win bottles of wine! Additional cards can be purchased for $1 – cash only. Grab your friends and join us for a fun night out! Please note\, we need at least 10 players for bingo – if we don’t have enough\, we will refund your ticket! \nGrab your tickets here!
URL:https://thecedarsproject.com/event/wine-bingo-313-dodge/2026-04-01/
LOCATION:313 Dodge\, 313 Dodge St\, Kaukauna\, WI\, 54130\, United States
CATEGORIES:Food and Drink,Geek and Games
ATTACH;FMTTYPE=image/jpeg:https://thecedarsproject.com/wp-content/uploads/2025/12/313-1.jpg
END:VEVENT
BEGIN:VEVENT
DTSTART;TZID=America/Chicago:20260331T160000
DTEND;TZID=America/Chicago:20260331T210000
DTSTAMP:20260423T200548
CREATED:20251219T225558Z
LAST-MODIFIED:20251219T225558Z
UID:10001055-1774972800-1774990800@thecedarsproject.com
SUMMARY:Meet The Brewer - Timber Taps
DESCRIPTION:Every Tuesday\, our brewer Aaron will be behind the bar at Timber Tap Taproom & Brewery. \n•He’ll be pouring pints and answering your questions about how our beers are made. \n​•Learn more about the brewing process and get to know the guy behind the craft. \n•Come on down\, grab a cold one\, and hang out with Aaron.🍻 See you Tuesday!
URL:https://thecedarsproject.com/event/meet-the-brewer-timber-taps/2026-03-31/
LOCATION:Timber Taps\, 100 S Birch St\, Kimberly\, WI\, 54136\, United States
CATEGORIES:Food and Drink
ATTACH;FMTTYPE=image/jpeg:https://thecedarsproject.com/wp-content/uploads/2025/12/taps.jpg
END:VEVENT
BEGIN:VEVENT
DTSTART;TZID=America/Chicago:20260325T173000
DTEND;TZID=America/Chicago:20260325T193000
DTSTAMP:20260423T200548
CREATED:20251221T193625Z
LAST-MODIFIED:20251221T193625Z
UID:10001522-1774459800-1774467000@thecedarsproject.com
SUMMARY:Wine Bingo - 313 Dodge
DESCRIPTION:Join us for a fun evening of wine bingo! A ticket will get you signed up for two hours of bingo with the chance to win bottles of wine! Additional cards can be purchased for $1 – cash only. Grab your friends and join us for a fun night out! Please note\, we need at least 10 players for bingo – if we don’t have enough\, we will refund your ticket! \nGrab your tickets here!
URL:https://thecedarsproject.com/event/wine-bingo-313-dodge/2026-03-25/
LOCATION:313 Dodge\, 313 Dodge St\, Kaukauna\, WI\, 54130\, United States
CATEGORIES:Food and Drink,Geek and Games
ATTACH;FMTTYPE=image/jpeg:https://thecedarsproject.com/wp-content/uploads/2025/12/313-1.jpg
END:VEVENT
BEGIN:VEVENT
DTSTART;TZID=America/Chicago:20260324T160000
DTEND;TZID=America/Chicago:20260324T210000
DTSTAMP:20260423T200548
CREATED:20251219T225558Z
LAST-MODIFIED:20251219T225558Z
UID:10001054-1774368000-1774386000@thecedarsproject.com
SUMMARY:Meet The Brewer - Timber Taps
DESCRIPTION:Every Tuesday\, our brewer Aaron will be behind the bar at Timber Tap Taproom & Brewery. \n•He’ll be pouring pints and answering your questions about how our beers are made. \n​•Learn more about the brewing process and get to know the guy behind the craft. \n•Come on down\, grab a cold one\, and hang out with Aaron.🍻 See you Tuesday!
URL:https://thecedarsproject.com/event/meet-the-brewer-timber-taps/2026-03-24/
LOCATION:Timber Taps\, 100 S Birch St\, Kimberly\, WI\, 54136\, United States
CATEGORIES:Food and Drink
ATTACH;FMTTYPE=image/jpeg:https://thecedarsproject.com/wp-content/uploads/2025/12/taps.jpg
END:VEVENT
BEGIN:VEVENT
DTSTART;TZID=America/Chicago:20260318T173000
DTEND;TZID=America/Chicago:20260318T193000
DTSTAMP:20260423T200548
CREATED:20251221T193625Z
LAST-MODIFIED:20251221T193625Z
UID:10001521-1773855000-1773862200@thecedarsproject.com
SUMMARY:Wine Bingo - 313 Dodge
DESCRIPTION:Join us for a fun evening of wine bingo! A ticket will get you signed up for two hours of bingo with the chance to win bottles of wine! Additional cards can be purchased for $1 – cash only. Grab your friends and join us for a fun night out! Please note\, we need at least 10 players for bingo – if we don’t have enough\, we will refund your ticket! \nGrab your tickets here!
URL:https://thecedarsproject.com/event/wine-bingo-313-dodge/2026-03-18/
LOCATION:313 Dodge\, 313 Dodge St\, Kaukauna\, WI\, 54130\, United States
CATEGORIES:Food and Drink,Geek and Games
ATTACH;FMTTYPE=image/jpeg:https://thecedarsproject.com/wp-content/uploads/2025/12/313-1.jpg
END:VEVENT
BEGIN:VEVENT
DTSTART;TZID=America/Chicago:20260317T160000
DTEND;TZID=America/Chicago:20260317T210000
DTSTAMP:20260423T200548
CREATED:20251219T225558Z
LAST-MODIFIED:20251219T225558Z
UID:10001053-1773763200-1773781200@thecedarsproject.com
SUMMARY:Meet The Brewer - Timber Taps
DESCRIPTION:Every Tuesday\, our brewer Aaron will be behind the bar at Timber Tap Taproom & Brewery. \n•He’ll be pouring pints and answering your questions about how our beers are made. \n​•Learn more about the brewing process and get to know the guy behind the craft. \n•Come on down\, grab a cold one\, and hang out with Aaron.🍻 See you Tuesday!
URL:https://thecedarsproject.com/event/meet-the-brewer-timber-taps/2026-03-17/
LOCATION:Timber Taps\, 100 S Birch St\, Kimberly\, WI\, 54136\, United States
CATEGORIES:Food and Drink
ATTACH;FMTTYPE=image/jpeg:https://thecedarsproject.com/wp-content/uploads/2025/12/taps.jpg
END:VEVENT
BEGIN:VEVENT
DTSTART;TZID=America/Chicago:20260311T173000
DTEND;TZID=America/Chicago:20260311T193000
DTSTAMP:20260423T200549
CREATED:20251221T193625Z
LAST-MODIFIED:20251221T193625Z
UID:10001520-1773250200-1773257400@thecedarsproject.com
SUMMARY:Wine Bingo - 313 Dodge
DESCRIPTION:Join us for a fun evening of wine bingo! A ticket will get you signed up for two hours of bingo with the chance to win bottles of wine! Additional cards can be purchased for $1 – cash only. Grab your friends and join us for a fun night out! Please note\, we need at least 10 players for bingo – if we don’t have enough\, we will refund your ticket! \nGrab your tickets here!
URL:https://thecedarsproject.com/event/wine-bingo-313-dodge/2026-03-11/
LOCATION:313 Dodge\, 313 Dodge St\, Kaukauna\, WI\, 54130\, United States
CATEGORIES:Food and Drink,Geek and Games
ATTACH;FMTTYPE=image/jpeg:https://thecedarsproject.com/wp-content/uploads/2025/12/313-1.jpg
END:VEVENT
BEGIN:VEVENT
DTSTART;TZID=America/Chicago:20260310T160000
DTEND;TZID=America/Chicago:20260310T210000
DTSTAMP:20260423T200549
CREATED:20251219T225558Z
LAST-MODIFIED:20251219T225558Z
UID:10001052-1773158400-1773176400@thecedarsproject.com
SUMMARY:Meet The Brewer - Timber Taps
DESCRIPTION:Every Tuesday\, our brewer Aaron will be behind the bar at Timber Tap Taproom & Brewery. \n•He’ll be pouring pints and answering your questions about how our beers are made. \n​•Learn more about the brewing process and get to know the guy behind the craft. \n•Come on down\, grab a cold one\, and hang out with Aaron.🍻 See you Tuesday!
URL:https://thecedarsproject.com/event/meet-the-brewer-timber-taps/2026-03-10/
LOCATION:Timber Taps\, 100 S Birch St\, Kimberly\, WI\, 54136\, United States
CATEGORIES:Food and Drink
ATTACH;FMTTYPE=image/jpeg:https://thecedarsproject.com/wp-content/uploads/2025/12/taps.jpg
END:VEVENT
BEGIN:VEVENT
DTSTART;TZID=America/Chicago:20260304T173000
DTEND;TZID=America/Chicago:20260304T193000
DTSTAMP:20260423T200549
CREATED:20251221T193625Z
LAST-MODIFIED:20251221T193625Z
UID:10001519-1772645400-1772652600@thecedarsproject.com
SUMMARY:Wine Bingo - 313 Dodge
DESCRIPTION:Join us for a fun evening of wine bingo! A ticket will get you signed up for two hours of bingo with the chance to win bottles of wine! Additional cards can be purchased for $1 – cash only. Grab your friends and join us for a fun night out! Please note\, we need at least 10 players for bingo – if we don’t have enough\, we will refund your ticket! \nGrab your tickets here!
URL:https://thecedarsproject.com/event/wine-bingo-313-dodge/2026-03-04/
LOCATION:313 Dodge\, 313 Dodge St\, Kaukauna\, WI\, 54130\, United States
CATEGORIES:Food and Drink,Geek and Games
ATTACH;FMTTYPE=image/jpeg:https://thecedarsproject.com/wp-content/uploads/2025/12/313-1.jpg
END:VEVENT
BEGIN:VEVENT
DTSTART;TZID=America/Chicago:20260303T160000
DTEND;TZID=America/Chicago:20260303T210000
DTSTAMP:20260423T200549
CREATED:20251219T225558Z
LAST-MODIFIED:20251219T225558Z
UID:10001051-1772553600-1772571600@thecedarsproject.com
SUMMARY:Meet The Brewer - Timber Taps
DESCRIPTION:Every Tuesday\, our brewer Aaron will be behind the bar at Timber Tap Taproom & Brewery. \n•He’ll be pouring pints and answering your questions about how our beers are made. \n​•Learn more about the brewing process and get to know the guy behind the craft. \n•Come on down\, grab a cold one\, and hang out with Aaron.🍻 See you Tuesday!
URL:https://thecedarsproject.com/event/meet-the-brewer-timber-taps/2026-03-03/
LOCATION:Timber Taps\, 100 S Birch St\, Kimberly\, WI\, 54136\, United States
CATEGORIES:Food and Drink
ATTACH;FMTTYPE=image/jpeg:https://thecedarsproject.com/wp-content/uploads/2025/12/taps.jpg
END:VEVENT
BEGIN:VEVENT
DTSTART;TZID=America/Chicago:20260225T173000
DTEND;TZID=America/Chicago:20260225T193000
DTSTAMP:20260423T200549
CREATED:20251221T193625Z
LAST-MODIFIED:20251221T193625Z
UID:10001518-1772040600-1772047800@thecedarsproject.com
SUMMARY:Wine Bingo - 313 Dodge
DESCRIPTION:Join us for a fun evening of wine bingo! A ticket will get you signed up for two hours of bingo with the chance to win bottles of wine! Additional cards can be purchased for $1 – cash only. Grab your friends and join us for a fun night out! Please note\, we need at least 10 players for bingo – if we don’t have enough\, we will refund your ticket! \nGrab your tickets here!
URL:https://thecedarsproject.com/event/wine-bingo-313-dodge/2026-02-25/
LOCATION:313 Dodge\, 313 Dodge St\, Kaukauna\, WI\, 54130\, United States
CATEGORIES:Food and Drink,Geek and Games
ATTACH;FMTTYPE=image/jpeg:https://thecedarsproject.com/wp-content/uploads/2025/12/313-1.jpg
END:VEVENT
BEGIN:VEVENT
DTSTART;TZID=America/Chicago:20260224T160000
DTEND;TZID=America/Chicago:20260224T210000
DTSTAMP:20260423T200549
CREATED:20251219T225558Z
LAST-MODIFIED:20251219T225558Z
UID:10001050-1771948800-1771966800@thecedarsproject.com
SUMMARY:Meet The Brewer - Timber Taps
DESCRIPTION:Every Tuesday\, our brewer Aaron will be behind the bar at Timber Tap Taproom & Brewery. \n•He’ll be pouring pints and answering your questions about how our beers are made. \n​•Learn more about the brewing process and get to know the guy behind the craft. \n•Come on down\, grab a cold one\, and hang out with Aaron.🍻 See you Tuesday!
URL:https://thecedarsproject.com/event/meet-the-brewer-timber-taps/2026-02-24/
LOCATION:Timber Taps\, 100 S Birch St\, Kimberly\, WI\, 54136\, United States
CATEGORIES:Food and Drink
ATTACH;FMTTYPE=image/jpeg:https://thecedarsproject.com/wp-content/uploads/2025/12/taps.jpg
END:VEVENT
BEGIN:VEVENT
DTSTART;TZID=America/Chicago:20260218T173000
DTEND;TZID=America/Chicago:20260218T193000
DTSTAMP:20260423T200549
CREATED:20251221T193625Z
LAST-MODIFIED:20251221T193625Z
UID:10001517-1771435800-1771443000@thecedarsproject.com
SUMMARY:Wine Bingo - 313 Dodge
DESCRIPTION:Join us for a fun evening of wine bingo! A ticket will get you signed up for two hours of bingo with the chance to win bottles of wine! Additional cards can be purchased for $1 – cash only. Grab your friends and join us for a fun night out! Please note\, we need at least 10 players for bingo – if we don’t have enough\, we will refund your ticket! \nGrab your tickets here!
URL:https://thecedarsproject.com/event/wine-bingo-313-dodge/2026-02-18/
LOCATION:313 Dodge\, 313 Dodge St\, Kaukauna\, WI\, 54130\, United States
CATEGORIES:Food and Drink,Geek and Games
ATTACH;FMTTYPE=image/jpeg:https://thecedarsproject.com/wp-content/uploads/2025/12/313-1.jpg
END:VEVENT
BEGIN:VEVENT
DTSTART;TZID=America/Chicago:20260217T160000
DTEND;TZID=America/Chicago:20260217T210000
DTSTAMP:20260423T200549
CREATED:20251219T225558Z
LAST-MODIFIED:20251219T225558Z
UID:10001049-1771344000-1771362000@thecedarsproject.com
SUMMARY:Meet The Brewer - Timber Taps
DESCRIPTION:Every Tuesday\, our brewer Aaron will be behind the bar at Timber Tap Taproom & Brewery. \n•He’ll be pouring pints and answering your questions about how our beers are made. \n​•Learn more about the brewing process and get to know the guy behind the craft. \n•Come on down\, grab a cold one\, and hang out with Aaron.🍻 See you Tuesday!
URL:https://thecedarsproject.com/event/meet-the-brewer-timber-taps/2026-02-17/
LOCATION:Timber Taps\, 100 S Birch St\, Kimberly\, WI\, 54136\, United States
CATEGORIES:Food and Drink
ATTACH;FMTTYPE=image/jpeg:https://thecedarsproject.com/wp-content/uploads/2025/12/taps.jpg
END:VEVENT
BEGIN:VEVENT
DTSTART;TZID=America/Chicago:20260211T173000
DTEND;TZID=America/Chicago:20260211T193000
DTSTAMP:20260423T200549
CREATED:20251221T193625Z
LAST-MODIFIED:20251221T193625Z
UID:10001516-1770831000-1770838200@thecedarsproject.com
SUMMARY:Wine Bingo - 313 Dodge
DESCRIPTION:Join us for a fun evening of wine bingo! A ticket will get you signed up for two hours of bingo with the chance to win bottles of wine! Additional cards can be purchased for $1 – cash only. Grab your friends and join us for a fun night out! Please note\, we need at least 10 players for bingo – if we don’t have enough\, we will refund your ticket! \nGrab your tickets here!
URL:https://thecedarsproject.com/event/wine-bingo-313-dodge/2026-02-11/
LOCATION:313 Dodge\, 313 Dodge St\, Kaukauna\, WI\, 54130\, United States
CATEGORIES:Food and Drink,Geek and Games
ATTACH;FMTTYPE=image/jpeg:https://thecedarsproject.com/wp-content/uploads/2025/12/313-1.jpg
END:VEVENT
BEGIN:VEVENT
DTSTART;TZID=America/Chicago:20260210T160000
DTEND;TZID=America/Chicago:20260210T210000
DTSTAMP:20260423T200549
CREATED:20251219T225558Z
LAST-MODIFIED:20251219T225558Z
UID:10001048-1770739200-1770757200@thecedarsproject.com
SUMMARY:Meet The Brewer - Timber Taps
DESCRIPTION:Every Tuesday\, our brewer Aaron will be behind the bar at Timber Tap Taproom & Brewery. \n•He’ll be pouring pints and answering your questions about how our beers are made. \n​•Learn more about the brewing process and get to know the guy behind the craft. \n•Come on down\, grab a cold one\, and hang out with Aaron.🍻 See you Tuesday!
URL:https://thecedarsproject.com/event/meet-the-brewer-timber-taps/2026-02-10/
LOCATION:Timber Taps\, 100 S Birch St\, Kimberly\, WI\, 54136\, United States
CATEGORIES:Food and Drink
ATTACH;FMTTYPE=image/jpeg:https://thecedarsproject.com/wp-content/uploads/2025/12/taps.jpg
END:VEVENT
BEGIN:VEVENT
DTSTART;TZID=America/Chicago:20260204T173000
DTEND;TZID=America/Chicago:20260204T193000
DTSTAMP:20260423T200549
CREATED:20251221T193625Z
LAST-MODIFIED:20251221T193625Z
UID:10001515-1770226200-1770233400@thecedarsproject.com
SUMMARY:Wine Bingo - 313 Dodge
DESCRIPTION:Join us for a fun evening of wine bingo! A ticket will get you signed up for two hours of bingo with the chance to win bottles of wine! Additional cards can be purchased for $1 – cash only. Grab your friends and join us for a fun night out! Please note\, we need at least 10 players for bingo – if we don’t have enough\, we will refund your ticket! \nGrab your tickets here!
URL:https://thecedarsproject.com/event/wine-bingo-313-dodge/2026-02-04/
LOCATION:313 Dodge\, 313 Dodge St\, Kaukauna\, WI\, 54130\, United States
CATEGORIES:Food and Drink,Geek and Games
ATTACH;FMTTYPE=image/jpeg:https://thecedarsproject.com/wp-content/uploads/2025/12/313-1.jpg
END:VEVENT
BEGIN:VEVENT
DTSTART;TZID=America/Chicago:20260203T160000
DTEND;TZID=America/Chicago:20260203T210000
DTSTAMP:20260423T200549
CREATED:20251219T225558Z
LAST-MODIFIED:20251219T225558Z
UID:10001047-1770134400-1770152400@thecedarsproject.com
SUMMARY:Meet The Brewer - Timber Taps
DESCRIPTION:Every Tuesday\, our brewer Aaron will be behind the bar at Timber Tap Taproom & Brewery. \n•He’ll be pouring pints and answering your questions about how our beers are made. \n​•Learn more about the brewing process and get to know the guy behind the craft. \n•Come on down\, grab a cold one\, and hang out with Aaron.🍻 See you Tuesday!
URL:https://thecedarsproject.com/event/meet-the-brewer-timber-taps/2026-02-03/
LOCATION:Timber Taps\, 100 S Birch St\, Kimberly\, WI\, 54136\, United States
CATEGORIES:Food and Drink
ATTACH;FMTTYPE=image/jpeg:https://thecedarsproject.com/wp-content/uploads/2025/12/taps.jpg
END:VEVENT
BEGIN:VEVENT
DTSTART;TZID=America/Chicago:20260128T173000
DTEND;TZID=America/Chicago:20260128T193000
DTSTAMP:20260423T200549
CREATED:20251221T193625Z
LAST-MODIFIED:20251221T193625Z
UID:10001510-1769621400-1769628600@thecedarsproject.com
SUMMARY:Wine Bingo - 313 Dodge
DESCRIPTION:Join us for a fun evening of wine bingo! A ticket will get you signed up for two hours of bingo with the chance to win bottles of wine! Additional cards can be purchased for $1 – cash only. Grab your friends and join us for a fun night out! Please note\, we need at least 10 players for bingo – if we don’t have enough\, we will refund your ticket! \nGrab your tickets here!
URL:https://thecedarsproject.com/event/wine-bingo-313-dodge/2026-01-28/
LOCATION:313 Dodge\, 313 Dodge St\, Kaukauna\, WI\, 54130\, United States
CATEGORIES:Food and Drink,Geek and Games
ATTACH;FMTTYPE=image/jpeg:https://thecedarsproject.com/wp-content/uploads/2025/12/313-1.jpg
END:VEVENT
BEGIN:VEVENT
DTSTART;TZID=America/Chicago:20260127T160000
DTEND;TZID=America/Chicago:20260127T210000
DTSTAMP:20260423T200549
CREATED:20251219T225558Z
LAST-MODIFIED:20251219T225558Z
UID:10001046-1769529600-1769547600@thecedarsproject.com
SUMMARY:Meet The Brewer - Timber Taps
DESCRIPTION:Every Tuesday\, our brewer Aaron will be behind the bar at Timber Tap Taproom & Brewery. \n•He’ll be pouring pints and answering your questions about how our beers are made. \n​•Learn more about the brewing process and get to know the guy behind the craft. \n•Come on down\, grab a cold one\, and hang out with Aaron.🍻 See you Tuesday!
URL:https://thecedarsproject.com/event/meet-the-brewer-timber-taps/2026-01-27/
LOCATION:Timber Taps\, 100 S Birch St\, Kimberly\, WI\, 54136\, United States
CATEGORIES:Food and Drink
ATTACH;FMTTYPE=image/jpeg:https://thecedarsproject.com/wp-content/uploads/2025/12/taps.jpg
END:VEVENT
BEGIN:VEVENT
DTSTART;TZID=America/Chicago:20260121T173000
DTEND;TZID=America/Chicago:20260121T193000
DTSTAMP:20260423T200549
CREATED:20251221T193625Z
LAST-MODIFIED:20251221T193625Z
UID:10001509-1769016600-1769023800@thecedarsproject.com
SUMMARY:Wine Bingo - 313 Dodge
DESCRIPTION:Join us for a fun evening of wine bingo! A ticket will get you signed up for two hours of bingo with the chance to win bottles of wine! Additional cards can be purchased for $1 – cash only. Grab your friends and join us for a fun night out! Please note\, we need at least 10 players for bingo – if we don’t have enough\, we will refund your ticket! \nGrab your tickets here!
URL:https://thecedarsproject.com/event/wine-bingo-313-dodge/2026-01-21/
LOCATION:313 Dodge\, 313 Dodge St\, Kaukauna\, WI\, 54130\, United States
CATEGORIES:Food and Drink,Geek and Games
ATTACH;FMTTYPE=image/jpeg:https://thecedarsproject.com/wp-content/uploads/2025/12/313-1.jpg
END:VEVENT
BEGIN:VEVENT
DTSTART;TZID=America/Chicago:20260120T160000
DTEND;TZID=America/Chicago:20260120T210000
DTSTAMP:20260423T200549
CREATED:20251219T225558Z
LAST-MODIFIED:20251219T225558Z
UID:10001045-1768924800-1768942800@thecedarsproject.com
SUMMARY:Meet The Brewer - Timber Taps
DESCRIPTION:Every Tuesday\, our brewer Aaron will be behind the bar at Timber Tap Taproom & Brewery. \n•He’ll be pouring pints and answering your questions about how our beers are made. \n​•Learn more about the brewing process and get to know the guy behind the craft. \n•Come on down\, grab a cold one\, and hang out with Aaron.🍻 See you Tuesday!
URL:https://thecedarsproject.com/event/meet-the-brewer-timber-taps/2026-01-20/
LOCATION:Timber Taps\, 100 S Birch St\, Kimberly\, WI\, 54136\, United States
CATEGORIES:Food and Drink
ATTACH;FMTTYPE=image/jpeg:https://thecedarsproject.com/wp-content/uploads/2025/12/taps.jpg
END:VEVENT
BEGIN:VEVENT
DTSTART;TZID=America/Chicago:20260117T130000
DTEND;TZID=America/Chicago:20260117T160000
DTSTAMP:20260423T200549
CREATED:20251219T221230Z
LAST-MODIFIED:20251219T221335Z
UID:10000900-1768654800-1768665600@thecedarsproject.com
SUMMARY:1st Annual Hop Yard Employee Chili Cook-Off
DESCRIPTION:Our talented Hop Yard Ale Works employees will battle it out for bragging rights and the coveted title of Chili Champion!\nGet ready for the ultimate chili showdown!\nJoin us for the Hop Yard Employee Chili Cook-Off\, where 10 of our talented Hop Yard Ale Works employees will battle it out for bragging rights and the coveted title of Chili Champion!\nYour ticket includes:\n-A refreshing Hop Yard beer to wash down all that deliciousness\n-10 chili samples to taste and judge (one from each competitor)\n-An official score card\, YOU decide who takes home the crown\n-Entry into our raffle for awesome prizes\nCome hungry\, bring your appetite for flavor\, and help us crown our chili champion. Whether you like it mild\, spicy\, traditional\, or totally unique\, there’s something for every palate. Plus\, you’ll get to see our team’s competitive side in the kitchen!\nLimited tickets available\, grab yours before they’re gone!\nTickets: https://www.eventbrite.com/…/1st-annual-hop-yard…
URL:https://thecedarsproject.com/event/hop-yard-ale-works/
LOCATION:Hop Yard Ale Works\, 512 W Northland Ave\, Appleton\, WI\, 54140\, United States
CATEGORIES:Food and Drink
ATTACH;FMTTYPE=image/jpeg:https://thecedarsproject.com/wp-content/uploads/2025/12/hopyard.jpeg
END:VEVENT
BEGIN:VEVENT
DTSTART;TZID=America/Chicago:20260114T173000
DTEND;TZID=America/Chicago:20260114T193000
DTSTAMP:20260423T200549
CREATED:20251221T193625Z
LAST-MODIFIED:20251221T193625Z
UID:10001508-1768411800-1768419000@thecedarsproject.com
SUMMARY:Wine Bingo - 313 Dodge
DESCRIPTION:Join us for a fun evening of wine bingo! A ticket will get you signed up for two hours of bingo with the chance to win bottles of wine! Additional cards can be purchased for $1 – cash only. Grab your friends and join us for a fun night out! Please note\, we need at least 10 players for bingo – if we don’t have enough\, we will refund your ticket! \nGrab your tickets here!
URL:https://thecedarsproject.com/event/wine-bingo-313-dodge/2026-01-14/
LOCATION:313 Dodge\, 313 Dodge St\, Kaukauna\, WI\, 54130\, United States
CATEGORIES:Food and Drink,Geek and Games
ATTACH;FMTTYPE=image/jpeg:https://thecedarsproject.com/wp-content/uploads/2025/12/313-1.jpg
END:VEVENT
END:VCALENDAR