BEGIN:VCALENDAR
VERSION:2.0
PRODID:-// - ECPv6.15.20//NONSGML v1.0//EN
CALSCALE:GREGORIAN
METHOD:PUBLISH
X-ORIGINAL-URL:https://thecedarsproject.com
X-WR-CALDESC:Events for 
REFRESH-INTERVAL;VALUE=DURATION:PT1H
X-Robots-Tag:noindex
X-PUBLISHED-TTL:PT1H
BEGIN:VTIMEZONE
TZID:America/Chicago
BEGIN:DAYLIGHT
TZOFFSETFROM:-0600
TZOFFSETTO:-0500
TZNAME:CDT
DTSTART:20250309T080000
END:DAYLIGHT
BEGIN:STANDARD
TZOFFSETFROM:-0500
TZOFFSETTO:-0600
TZNAME:CST
DTSTART:20251102T070000
END:STANDARD
BEGIN:DAYLIGHT
TZOFFSETFROM:-0600
TZOFFSETTO:-0500
TZNAME:CDT
DTSTART:20260308T080000
END:DAYLIGHT
BEGIN:STANDARD
TZOFFSETFROM:-0500
TZOFFSETTO:-0600
TZNAME:CST
DTSTART:20261101T070000
END:STANDARD
BEGIN:DAYLIGHT
TZOFFSETFROM:-0600
TZOFFSETTO:-0500
TZNAME:CDT
DTSTART:20270314T080000
END:DAYLIGHT
BEGIN:STANDARD
TZOFFSETFROM:-0500
TZOFFSETTO:-0600
TZNAME:CST
DTSTART:20271107T070000
END:STANDARD
END:VTIMEZONE
BEGIN:VEVENT
DTSTART;TZID=America/Chicago:20260205T180000
DTEND;TZID=America/Chicago:20260205T200000
DTSTAMP:20260423T225123
CREATED:20251219T222515Z
LAST-MODIFIED:20251219T222515Z
UID:10000905-1770314400-1770321600@thecedarsproject.com
SUMMARY:Knitting Circle (Hookers & Stitchers Welcome!)
DESCRIPTION:Join us (almost) every Thursday for a cozy evening of stitches\, conversation\, and chill vibes. All fiber arts are welcome—knitters\, hookers\, and stitchers alike. There’s no cover\, but we do ask that you consider purchasing a drink from either side of the building. Between us and Tardigrade’s Bookshelf\, your drink options are everything from bottled water to craft cocktails to coffee and espresso drinks. \nBring your current project or cast on anew\, and settle in for a relaxing night surrounded by yarn\, laughter\, and creative energy. Snacks\, sweets\, and charcuterie boxes will be available for purchase to keep you fueled while you craft.
URL:https://thecedarsproject.com/event/knitting-circle-hookers-stitchers-welcome/2026-02-05/
LOCATION:Tardigrade’s Bookshelf\, 501 N Richmond St\, Appleton\, WI\, 54911\, United States
CATEGORIES:Arts & Crafts
ATTACH;FMTTYPE=image/png:https://thecedarsproject.com/wp-content/uploads/2025/12/knitcircle.png
END:VEVENT
BEGIN:VEVENT
DTSTART;TZID=America/Chicago:20260212T180000
DTEND;TZID=America/Chicago:20260212T200000
DTSTAMP:20260423T225123
CREATED:20251219T222515Z
LAST-MODIFIED:20251219T222515Z
UID:10000906-1770919200-1770926400@thecedarsproject.com
SUMMARY:Knitting Circle (Hookers & Stitchers Welcome!)
DESCRIPTION:Join us (almost) every Thursday for a cozy evening of stitches\, conversation\, and chill vibes. All fiber arts are welcome—knitters\, hookers\, and stitchers alike. There’s no cover\, but we do ask that you consider purchasing a drink from either side of the building. Between us and Tardigrade’s Bookshelf\, your drink options are everything from bottled water to craft cocktails to coffee and espresso drinks. \nBring your current project or cast on anew\, and settle in for a relaxing night surrounded by yarn\, laughter\, and creative energy. Snacks\, sweets\, and charcuterie boxes will be available for purchase to keep you fueled while you craft.
URL:https://thecedarsproject.com/event/knitting-circle-hookers-stitchers-welcome/2026-02-12/
LOCATION:Tardigrade’s Bookshelf\, 501 N Richmond St\, Appleton\, WI\, 54911\, United States
CATEGORIES:Arts & Crafts
ATTACH;FMTTYPE=image/png:https://thecedarsproject.com/wp-content/uploads/2025/12/knitcircle.png
END:VEVENT
BEGIN:VEVENT
DTSTART;TZID=America/Chicago:20260219T180000
DTEND;TZID=America/Chicago:20260219T200000
DTSTAMP:20260423T225123
CREATED:20251219T222515Z
LAST-MODIFIED:20251219T222515Z
UID:10000907-1771524000-1771531200@thecedarsproject.com
SUMMARY:Knitting Circle (Hookers & Stitchers Welcome!)
DESCRIPTION:Join us (almost) every Thursday for a cozy evening of stitches\, conversation\, and chill vibes. All fiber arts are welcome—knitters\, hookers\, and stitchers alike. There’s no cover\, but we do ask that you consider purchasing a drink from either side of the building. Between us and Tardigrade’s Bookshelf\, your drink options are everything from bottled water to craft cocktails to coffee and espresso drinks. \nBring your current project or cast on anew\, and settle in for a relaxing night surrounded by yarn\, laughter\, and creative energy. Snacks\, sweets\, and charcuterie boxes will be available for purchase to keep you fueled while you craft.
URL:https://thecedarsproject.com/event/knitting-circle-hookers-stitchers-welcome/2026-02-19/
LOCATION:Tardigrade’s Bookshelf\, 501 N Richmond St\, Appleton\, WI\, 54911\, United States
CATEGORIES:Arts & Crafts
ATTACH;FMTTYPE=image/png:https://thecedarsproject.com/wp-content/uploads/2025/12/knitcircle.png
END:VEVENT
BEGIN:VEVENT
DTSTART;TZID=America/Chicago:20260226T180000
DTEND;TZID=America/Chicago:20260226T200000
DTSTAMP:20260423T225123
CREATED:20251219T222515Z
LAST-MODIFIED:20251219T222515Z
UID:10000908-1772128800-1772136000@thecedarsproject.com
SUMMARY:Knitting Circle (Hookers & Stitchers Welcome!)
DESCRIPTION:Join us (almost) every Thursday for a cozy evening of stitches\, conversation\, and chill vibes. All fiber arts are welcome—knitters\, hookers\, and stitchers alike. There’s no cover\, but we do ask that you consider purchasing a drink from either side of the building. Between us and Tardigrade’s Bookshelf\, your drink options are everything from bottled water to craft cocktails to coffee and espresso drinks. \nBring your current project or cast on anew\, and settle in for a relaxing night surrounded by yarn\, laughter\, and creative energy. Snacks\, sweets\, and charcuterie boxes will be available for purchase to keep you fueled while you craft.
URL:https://thecedarsproject.com/event/knitting-circle-hookers-stitchers-welcome/2026-02-26/
LOCATION:Tardigrade’s Bookshelf\, 501 N Richmond St\, Appleton\, WI\, 54911\, United States
CATEGORIES:Arts & Crafts
ATTACH;FMTTYPE=image/png:https://thecedarsproject.com/wp-content/uploads/2025/12/knitcircle.png
END:VEVENT
END:VCALENDAR