BEGIN:VCALENDAR
VERSION:2.0
PRODID:-// - ECPv6.15.20//NONSGML v1.0//EN
CALSCALE:GREGORIAN
METHOD:PUBLISH
X-ORIGINAL-URL:https://thecedarsproject.com
X-WR-CALDESC:Events for 
REFRESH-INTERVAL;VALUE=DURATION:PT1H
X-Robots-Tag:noindex
X-PUBLISHED-TTL:PT1H
BEGIN:VTIMEZONE
TZID:America/Chicago
BEGIN:DAYLIGHT
TZOFFSETFROM:-0600
TZOFFSETTO:-0500
TZNAME:CDT
DTSTART:20260308T080000
END:DAYLIGHT
BEGIN:STANDARD
TZOFFSETFROM:-0500
TZOFFSETTO:-0600
TZNAME:CST
DTSTART:20261101T070000
END:STANDARD
BEGIN:DAYLIGHT
TZOFFSETFROM:-0600
TZOFFSETTO:-0500
TZNAME:CDT
DTSTART:20270314T080000
END:DAYLIGHT
BEGIN:STANDARD
TZOFFSETFROM:-0500
TZOFFSETTO:-0600
TZNAME:CST
DTSTART:20271107T070000
END:STANDARD
BEGIN:DAYLIGHT
TZOFFSETFROM:-0600
TZOFFSETTO:-0500
TZNAME:CDT
DTSTART:20280312T080000
END:DAYLIGHT
BEGIN:STANDARD
TZOFFSETFROM:-0500
TZOFFSETTO:-0600
TZNAME:CST
DTSTART:20281105T070000
END:STANDARD
END:VTIMEZONE
BEGIN:VEVENT
DTSTART;TZID=America/Chicago:20270324T190000
DTEND;TZID=America/Chicago:20270324T210000
DTSTAMP:20260424T102611
CREATED:20251218T215036Z
LAST-MODIFIED:20251218T215036Z
UID:10000446-1805914800-1805922000@thecedarsproject.com
SUMMARY:Community Drum Circle
DESCRIPTION:The Oshkosh Rhythm Institute exists to promote well-being in the community through recreational music making.\nCommunity Drum Circle\nAll ages and skill levels welcome\nEvery Wednesday 7-9pm\nAt the Sundial in nice weather or\n803 Waugoo Ave Oshkosh WI
URL:https://thecedarsproject.com/event/community-drum-circle/2027-03-24/
LOCATION:Oshkosh Rhythm Institute\, 803 Waugoo Ave.\, Oshkosh\, WI\, 54901\, United States
CATEGORIES:Art and Culture
ATTACH;FMTTYPE=image/jpeg:https://thecedarsproject.com/wp-content/uploads/2025/12/ori.jpg
ORGANIZER;CN="Oshkosh Rhythm Institue":MAILTO:robinc@oshkoshrhythm.com
END:VEVENT
BEGIN:VEVENT
DTSTART;TZID=America/Chicago:20270331T190000
DTEND;TZID=America/Chicago:20270331T210000
DTSTAMP:20260424T102611
CREATED:20251218T215036Z
LAST-MODIFIED:20251218T215036Z
UID:10000447-1806519600-1806526800@thecedarsproject.com
SUMMARY:Community Drum Circle
DESCRIPTION:The Oshkosh Rhythm Institute exists to promote well-being in the community through recreational music making.\nCommunity Drum Circle\nAll ages and skill levels welcome\nEvery Wednesday 7-9pm\nAt the Sundial in nice weather or\n803 Waugoo Ave Oshkosh WI
URL:https://thecedarsproject.com/event/community-drum-circle/2027-03-31/
LOCATION:Oshkosh Rhythm Institute\, 803 Waugoo Ave.\, Oshkosh\, WI\, 54901\, United States
CATEGORIES:Art and Culture
ATTACH;FMTTYPE=image/jpeg:https://thecedarsproject.com/wp-content/uploads/2025/12/ori.jpg
ORGANIZER;CN="Oshkosh Rhythm Institue":MAILTO:robinc@oshkoshrhythm.com
END:VEVENT
BEGIN:VEVENT
DTSTART;TZID=America/Chicago:20270407T190000
DTEND;TZID=America/Chicago:20270407T210000
DTSTAMP:20260424T102611
CREATED:20251218T215036Z
LAST-MODIFIED:20251218T215036Z
UID:10000448-1807124400-1807131600@thecedarsproject.com
SUMMARY:Community Drum Circle
DESCRIPTION:The Oshkosh Rhythm Institute exists to promote well-being in the community through recreational music making.\nCommunity Drum Circle\nAll ages and skill levels welcome\nEvery Wednesday 7-9pm\nAt the Sundial in nice weather or\n803 Waugoo Ave Oshkosh WI
URL:https://thecedarsproject.com/event/community-drum-circle/2027-04-07/
LOCATION:Oshkosh Rhythm Institute\, 803 Waugoo Ave.\, Oshkosh\, WI\, 54901\, United States
CATEGORIES:Art and Culture
ATTACH;FMTTYPE=image/jpeg:https://thecedarsproject.com/wp-content/uploads/2025/12/ori.jpg
ORGANIZER;CN="Oshkosh Rhythm Institue":MAILTO:robinc@oshkoshrhythm.com
END:VEVENT
BEGIN:VEVENT
DTSTART;TZID=America/Chicago:20270414T190000
DTEND;TZID=America/Chicago:20270414T210000
DTSTAMP:20260424T102611
CREATED:20251218T215036Z
LAST-MODIFIED:20251218T215036Z
UID:10000449-1807729200-1807736400@thecedarsproject.com
SUMMARY:Community Drum Circle
DESCRIPTION:The Oshkosh Rhythm Institute exists to promote well-being in the community through recreational music making.\nCommunity Drum Circle\nAll ages and skill levels welcome\nEvery Wednesday 7-9pm\nAt the Sundial in nice weather or\n803 Waugoo Ave Oshkosh WI
URL:https://thecedarsproject.com/event/community-drum-circle/2027-04-14/
LOCATION:Oshkosh Rhythm Institute\, 803 Waugoo Ave.\, Oshkosh\, WI\, 54901\, United States
CATEGORIES:Art and Culture
ATTACH;FMTTYPE=image/jpeg:https://thecedarsproject.com/wp-content/uploads/2025/12/ori.jpg
ORGANIZER;CN="Oshkosh Rhythm Institue":MAILTO:robinc@oshkoshrhythm.com
END:VEVENT
BEGIN:VEVENT
DTSTART;TZID=America/Chicago:20270421T190000
DTEND;TZID=America/Chicago:20270421T210000
DTSTAMP:20260424T102611
CREATED:20251218T215036Z
LAST-MODIFIED:20251218T215036Z
UID:10000450-1808334000-1808341200@thecedarsproject.com
SUMMARY:Community Drum Circle
DESCRIPTION:The Oshkosh Rhythm Institute exists to promote well-being in the community through recreational music making.\nCommunity Drum Circle\nAll ages and skill levels welcome\nEvery Wednesday 7-9pm\nAt the Sundial in nice weather or\n803 Waugoo Ave Oshkosh WI
URL:https://thecedarsproject.com/event/community-drum-circle/2027-04-21/
LOCATION:Oshkosh Rhythm Institute\, 803 Waugoo Ave.\, Oshkosh\, WI\, 54901\, United States
CATEGORIES:Art and Culture
ATTACH;FMTTYPE=image/jpeg:https://thecedarsproject.com/wp-content/uploads/2025/12/ori.jpg
ORGANIZER;CN="Oshkosh Rhythm Institue":MAILTO:robinc@oshkoshrhythm.com
END:VEVENT
BEGIN:VEVENT
DTSTART;TZID=America/Chicago:20270428T190000
DTEND;TZID=America/Chicago:20270428T210000
DTSTAMP:20260424T102611
CREATED:20251218T215036Z
LAST-MODIFIED:20251218T215036Z
UID:10000451-1808938800-1808946000@thecedarsproject.com
SUMMARY:Community Drum Circle
DESCRIPTION:The Oshkosh Rhythm Institute exists to promote well-being in the community through recreational music making.\nCommunity Drum Circle\nAll ages and skill levels welcome\nEvery Wednesday 7-9pm\nAt the Sundial in nice weather or\n803 Waugoo Ave Oshkosh WI
URL:https://thecedarsproject.com/event/community-drum-circle/2027-04-28/
LOCATION:Oshkosh Rhythm Institute\, 803 Waugoo Ave.\, Oshkosh\, WI\, 54901\, United States
CATEGORIES:Art and Culture
ATTACH;FMTTYPE=image/jpeg:https://thecedarsproject.com/wp-content/uploads/2025/12/ori.jpg
ORGANIZER;CN="Oshkosh Rhythm Institue":MAILTO:robinc@oshkoshrhythm.com
END:VEVENT
BEGIN:VEVENT
DTSTART;TZID=America/Chicago:20270505T190000
DTEND;TZID=America/Chicago:20270505T210000
DTSTAMP:20260424T102611
CREATED:20251218T215036Z
LAST-MODIFIED:20251218T215036Z
UID:10000452-1809543600-1809550800@thecedarsproject.com
SUMMARY:Community Drum Circle
DESCRIPTION:The Oshkosh Rhythm Institute exists to promote well-being in the community through recreational music making.\nCommunity Drum Circle\nAll ages and skill levels welcome\nEvery Wednesday 7-9pm\nAt the Sundial in nice weather or\n803 Waugoo Ave Oshkosh WI
URL:https://thecedarsproject.com/event/community-drum-circle/2027-05-05/
LOCATION:Oshkosh Rhythm Institute\, 803 Waugoo Ave.\, Oshkosh\, WI\, 54901\, United States
CATEGORIES:Art and Culture
ATTACH;FMTTYPE=image/jpeg:https://thecedarsproject.com/wp-content/uploads/2025/12/ori.jpg
ORGANIZER;CN="Oshkosh Rhythm Institue":MAILTO:robinc@oshkoshrhythm.com
END:VEVENT
BEGIN:VEVENT
DTSTART;TZID=America/Chicago:20270512T190000
DTEND;TZID=America/Chicago:20270512T210000
DTSTAMP:20260424T102611
CREATED:20251218T215036Z
LAST-MODIFIED:20251218T215036Z
UID:10000453-1810148400-1810155600@thecedarsproject.com
SUMMARY:Community Drum Circle
DESCRIPTION:The Oshkosh Rhythm Institute exists to promote well-being in the community through recreational music making.\nCommunity Drum Circle\nAll ages and skill levels welcome\nEvery Wednesday 7-9pm\nAt the Sundial in nice weather or\n803 Waugoo Ave Oshkosh WI
URL:https://thecedarsproject.com/event/community-drum-circle/2027-05-12/
LOCATION:Oshkosh Rhythm Institute\, 803 Waugoo Ave.\, Oshkosh\, WI\, 54901\, United States
CATEGORIES:Art and Culture
ATTACH;FMTTYPE=image/jpeg:https://thecedarsproject.com/wp-content/uploads/2025/12/ori.jpg
ORGANIZER;CN="Oshkosh Rhythm Institue":MAILTO:robinc@oshkoshrhythm.com
END:VEVENT
BEGIN:VEVENT
DTSTART;TZID=America/Chicago:20270519T190000
DTEND;TZID=America/Chicago:20270519T210000
DTSTAMP:20260424T102611
CREATED:20251218T215036Z
LAST-MODIFIED:20251218T215036Z
UID:10000454-1810753200-1810760400@thecedarsproject.com
SUMMARY:Community Drum Circle
DESCRIPTION:The Oshkosh Rhythm Institute exists to promote well-being in the community through recreational music making.\nCommunity Drum Circle\nAll ages and skill levels welcome\nEvery Wednesday 7-9pm\nAt the Sundial in nice weather or\n803 Waugoo Ave Oshkosh WI
URL:https://thecedarsproject.com/event/community-drum-circle/2027-05-19/
LOCATION:Oshkosh Rhythm Institute\, 803 Waugoo Ave.\, Oshkosh\, WI\, 54901\, United States
CATEGORIES:Art and Culture
ATTACH;FMTTYPE=image/jpeg:https://thecedarsproject.com/wp-content/uploads/2025/12/ori.jpg
ORGANIZER;CN="Oshkosh Rhythm Institue":MAILTO:robinc@oshkoshrhythm.com
END:VEVENT
BEGIN:VEVENT
DTSTART;TZID=America/Chicago:20270526T190000
DTEND;TZID=America/Chicago:20270526T210000
DTSTAMP:20260424T102611
CREATED:20251218T215036Z
LAST-MODIFIED:20251218T215036Z
UID:10000455-1811358000-1811365200@thecedarsproject.com
SUMMARY:Community Drum Circle
DESCRIPTION:The Oshkosh Rhythm Institute exists to promote well-being in the community through recreational music making.\nCommunity Drum Circle\nAll ages and skill levels welcome\nEvery Wednesday 7-9pm\nAt the Sundial in nice weather or\n803 Waugoo Ave Oshkosh WI
URL:https://thecedarsproject.com/event/community-drum-circle/2027-05-26/
LOCATION:Oshkosh Rhythm Institute\, 803 Waugoo Ave.\, Oshkosh\, WI\, 54901\, United States
CATEGORIES:Art and Culture
ATTACH;FMTTYPE=image/jpeg:https://thecedarsproject.com/wp-content/uploads/2025/12/ori.jpg
ORGANIZER;CN="Oshkosh Rhythm Institue":MAILTO:robinc@oshkoshrhythm.com
END:VEVENT
BEGIN:VEVENT
DTSTART;TZID=America/Chicago:20270602T190000
DTEND;TZID=America/Chicago:20270602T210000
DTSTAMP:20260424T102611
CREATED:20251218T215036Z
LAST-MODIFIED:20251218T215036Z
UID:10000456-1811962800-1811970000@thecedarsproject.com
SUMMARY:Community Drum Circle
DESCRIPTION:The Oshkosh Rhythm Institute exists to promote well-being in the community through recreational music making.\nCommunity Drum Circle\nAll ages and skill levels welcome\nEvery Wednesday 7-9pm\nAt the Sundial in nice weather or\n803 Waugoo Ave Oshkosh WI
URL:https://thecedarsproject.com/event/community-drum-circle/2027-06-02/
LOCATION:Oshkosh Rhythm Institute\, 803 Waugoo Ave.\, Oshkosh\, WI\, 54901\, United States
CATEGORIES:Art and Culture
ATTACH;FMTTYPE=image/jpeg:https://thecedarsproject.com/wp-content/uploads/2025/12/ori.jpg
ORGANIZER;CN="Oshkosh Rhythm Institue":MAILTO:robinc@oshkoshrhythm.com
END:VEVENT
BEGIN:VEVENT
DTSTART;TZID=America/Chicago:20270609T190000
DTEND;TZID=America/Chicago:20270609T210000
DTSTAMP:20260424T102611
CREATED:20251218T215036Z
LAST-MODIFIED:20251218T215036Z
UID:10000457-1812567600-1812574800@thecedarsproject.com
SUMMARY:Community Drum Circle
DESCRIPTION:The Oshkosh Rhythm Institute exists to promote well-being in the community through recreational music making.\nCommunity Drum Circle\nAll ages and skill levels welcome\nEvery Wednesday 7-9pm\nAt the Sundial in nice weather or\n803 Waugoo Ave Oshkosh WI
URL:https://thecedarsproject.com/event/community-drum-circle/2027-06-09/
LOCATION:Oshkosh Rhythm Institute\, 803 Waugoo Ave.\, Oshkosh\, WI\, 54901\, United States
CATEGORIES:Art and Culture
ATTACH;FMTTYPE=image/jpeg:https://thecedarsproject.com/wp-content/uploads/2025/12/ori.jpg
ORGANIZER;CN="Oshkosh Rhythm Institue":MAILTO:robinc@oshkoshrhythm.com
END:VEVENT
BEGIN:VEVENT
DTSTART;TZID=America/Chicago:20270616T190000
DTEND;TZID=America/Chicago:20270616T210000
DTSTAMP:20260424T102611
CREATED:20251218T215036Z
LAST-MODIFIED:20251218T215036Z
UID:10000458-1813172400-1813179600@thecedarsproject.com
SUMMARY:Community Drum Circle
DESCRIPTION:The Oshkosh Rhythm Institute exists to promote well-being in the community through recreational music making.\nCommunity Drum Circle\nAll ages and skill levels welcome\nEvery Wednesday 7-9pm\nAt the Sundial in nice weather or\n803 Waugoo Ave Oshkosh WI
URL:https://thecedarsproject.com/event/community-drum-circle/2027-06-16/
LOCATION:Oshkosh Rhythm Institute\, 803 Waugoo Ave.\, Oshkosh\, WI\, 54901\, United States
CATEGORIES:Art and Culture
ATTACH;FMTTYPE=image/jpeg:https://thecedarsproject.com/wp-content/uploads/2025/12/ori.jpg
ORGANIZER;CN="Oshkosh Rhythm Institue":MAILTO:robinc@oshkoshrhythm.com
END:VEVENT
BEGIN:VEVENT
DTSTART;TZID=America/Chicago:20270623T190000
DTEND;TZID=America/Chicago:20270623T210000
DTSTAMP:20260424T102611
CREATED:20251218T215036Z
LAST-MODIFIED:20251218T215036Z
UID:10000459-1813777200-1813784400@thecedarsproject.com
SUMMARY:Community Drum Circle
DESCRIPTION:The Oshkosh Rhythm Institute exists to promote well-being in the community through recreational music making.\nCommunity Drum Circle\nAll ages and skill levels welcome\nEvery Wednesday 7-9pm\nAt the Sundial in nice weather or\n803 Waugoo Ave Oshkosh WI
URL:https://thecedarsproject.com/event/community-drum-circle/2027-06-23/
LOCATION:Oshkosh Rhythm Institute\, 803 Waugoo Ave.\, Oshkosh\, WI\, 54901\, United States
CATEGORIES:Art and Culture
ATTACH;FMTTYPE=image/jpeg:https://thecedarsproject.com/wp-content/uploads/2025/12/ori.jpg
ORGANIZER;CN="Oshkosh Rhythm Institue":MAILTO:robinc@oshkoshrhythm.com
END:VEVENT
BEGIN:VEVENT
DTSTART;TZID=America/Chicago:20270630T190000
DTEND;TZID=America/Chicago:20270630T210000
DTSTAMP:20260424T102611
CREATED:20251218T215036Z
LAST-MODIFIED:20251218T215036Z
UID:10000460-1814382000-1814389200@thecedarsproject.com
SUMMARY:Community Drum Circle
DESCRIPTION:The Oshkosh Rhythm Institute exists to promote well-being in the community through recreational music making.\nCommunity Drum Circle\nAll ages and skill levels welcome\nEvery Wednesday 7-9pm\nAt the Sundial in nice weather or\n803 Waugoo Ave Oshkosh WI
URL:https://thecedarsproject.com/event/community-drum-circle/2027-06-30/
LOCATION:Oshkosh Rhythm Institute\, 803 Waugoo Ave.\, Oshkosh\, WI\, 54901\, United States
CATEGORIES:Art and Culture
ATTACH;FMTTYPE=image/jpeg:https://thecedarsproject.com/wp-content/uploads/2025/12/ori.jpg
ORGANIZER;CN="Oshkosh Rhythm Institue":MAILTO:robinc@oshkoshrhythm.com
END:VEVENT
BEGIN:VEVENT
DTSTART;TZID=America/Chicago:20270707T190000
DTEND;TZID=America/Chicago:20270707T210000
DTSTAMP:20260424T102611
CREATED:20251218T215036Z
LAST-MODIFIED:20251218T215036Z
UID:10000461-1814986800-1814994000@thecedarsproject.com
SUMMARY:Community Drum Circle
DESCRIPTION:The Oshkosh Rhythm Institute exists to promote well-being in the community through recreational music making.\nCommunity Drum Circle\nAll ages and skill levels welcome\nEvery Wednesday 7-9pm\nAt the Sundial in nice weather or\n803 Waugoo Ave Oshkosh WI
URL:https://thecedarsproject.com/event/community-drum-circle/2027-07-07/
LOCATION:Oshkosh Rhythm Institute\, 803 Waugoo Ave.\, Oshkosh\, WI\, 54901\, United States
CATEGORIES:Art and Culture
ATTACH;FMTTYPE=image/jpeg:https://thecedarsproject.com/wp-content/uploads/2025/12/ori.jpg
ORGANIZER;CN="Oshkosh Rhythm Institue":MAILTO:robinc@oshkoshrhythm.com
END:VEVENT
BEGIN:VEVENT
DTSTART;TZID=America/Chicago:20270714T190000
DTEND;TZID=America/Chicago:20270714T210000
DTSTAMP:20260424T102611
CREATED:20251218T215036Z
LAST-MODIFIED:20251218T215036Z
UID:10000462-1815591600-1815598800@thecedarsproject.com
SUMMARY:Community Drum Circle
DESCRIPTION:The Oshkosh Rhythm Institute exists to promote well-being in the community through recreational music making.\nCommunity Drum Circle\nAll ages and skill levels welcome\nEvery Wednesday 7-9pm\nAt the Sundial in nice weather or\n803 Waugoo Ave Oshkosh WI
URL:https://thecedarsproject.com/event/community-drum-circle/2027-07-14/
LOCATION:Oshkosh Rhythm Institute\, 803 Waugoo Ave.\, Oshkosh\, WI\, 54901\, United States
CATEGORIES:Art and Culture
ATTACH;FMTTYPE=image/jpeg:https://thecedarsproject.com/wp-content/uploads/2025/12/ori.jpg
ORGANIZER;CN="Oshkosh Rhythm Institue":MAILTO:robinc@oshkoshrhythm.com
END:VEVENT
BEGIN:VEVENT
DTSTART;TZID=America/Chicago:20270721T190000
DTEND;TZID=America/Chicago:20270721T210000
DTSTAMP:20260424T102611
CREATED:20251218T215036Z
LAST-MODIFIED:20251218T215036Z
UID:10000463-1816196400-1816203600@thecedarsproject.com
SUMMARY:Community Drum Circle
DESCRIPTION:The Oshkosh Rhythm Institute exists to promote well-being in the community through recreational music making.\nCommunity Drum Circle\nAll ages and skill levels welcome\nEvery Wednesday 7-9pm\nAt the Sundial in nice weather or\n803 Waugoo Ave Oshkosh WI
URL:https://thecedarsproject.com/event/community-drum-circle/2027-07-21/
LOCATION:Oshkosh Rhythm Institute\, 803 Waugoo Ave.\, Oshkosh\, WI\, 54901\, United States
CATEGORIES:Art and Culture
ATTACH;FMTTYPE=image/jpeg:https://thecedarsproject.com/wp-content/uploads/2025/12/ori.jpg
ORGANIZER;CN="Oshkosh Rhythm Institue":MAILTO:robinc@oshkoshrhythm.com
END:VEVENT
BEGIN:VEVENT
DTSTART;TZID=America/Chicago:20270728T190000
DTEND;TZID=America/Chicago:20270728T210000
DTSTAMP:20260424T102611
CREATED:20251218T215036Z
LAST-MODIFIED:20251218T215036Z
UID:10000464-1816801200-1816808400@thecedarsproject.com
SUMMARY:Community Drum Circle
DESCRIPTION:The Oshkosh Rhythm Institute exists to promote well-being in the community through recreational music making.\nCommunity Drum Circle\nAll ages and skill levels welcome\nEvery Wednesday 7-9pm\nAt the Sundial in nice weather or\n803 Waugoo Ave Oshkosh WI
URL:https://thecedarsproject.com/event/community-drum-circle/2027-07-28/
LOCATION:Oshkosh Rhythm Institute\, 803 Waugoo Ave.\, Oshkosh\, WI\, 54901\, United States
CATEGORIES:Art and Culture
ATTACH;FMTTYPE=image/jpeg:https://thecedarsproject.com/wp-content/uploads/2025/12/ori.jpg
ORGANIZER;CN="Oshkosh Rhythm Institue":MAILTO:robinc@oshkoshrhythm.com
END:VEVENT
BEGIN:VEVENT
DTSTART;TZID=America/Chicago:20270804T190000
DTEND;TZID=America/Chicago:20270804T210000
DTSTAMP:20260424T102611
CREATED:20251218T215036Z
LAST-MODIFIED:20251218T215036Z
UID:10000465-1817406000-1817413200@thecedarsproject.com
SUMMARY:Community Drum Circle
DESCRIPTION:The Oshkosh Rhythm Institute exists to promote well-being in the community through recreational music making.\nCommunity Drum Circle\nAll ages and skill levels welcome\nEvery Wednesday 7-9pm\nAt the Sundial in nice weather or\n803 Waugoo Ave Oshkosh WI
URL:https://thecedarsproject.com/event/community-drum-circle/2027-08-04/
LOCATION:Oshkosh Rhythm Institute\, 803 Waugoo Ave.\, Oshkosh\, WI\, 54901\, United States
CATEGORIES:Art and Culture
ATTACH;FMTTYPE=image/jpeg:https://thecedarsproject.com/wp-content/uploads/2025/12/ori.jpg
ORGANIZER;CN="Oshkosh Rhythm Institue":MAILTO:robinc@oshkoshrhythm.com
END:VEVENT
BEGIN:VEVENT
DTSTART;TZID=America/Chicago:20270811T190000
DTEND;TZID=America/Chicago:20270811T210000
DTSTAMP:20260424T102611
CREATED:20251218T215036Z
LAST-MODIFIED:20251218T215036Z
UID:10000466-1818010800-1818018000@thecedarsproject.com
SUMMARY:Community Drum Circle
DESCRIPTION:The Oshkosh Rhythm Institute exists to promote well-being in the community through recreational music making.\nCommunity Drum Circle\nAll ages and skill levels welcome\nEvery Wednesday 7-9pm\nAt the Sundial in nice weather or\n803 Waugoo Ave Oshkosh WI
URL:https://thecedarsproject.com/event/community-drum-circle/2027-08-11/
LOCATION:Oshkosh Rhythm Institute\, 803 Waugoo Ave.\, Oshkosh\, WI\, 54901\, United States
CATEGORIES:Art and Culture
ATTACH;FMTTYPE=image/jpeg:https://thecedarsproject.com/wp-content/uploads/2025/12/ori.jpg
ORGANIZER;CN="Oshkosh Rhythm Institue":MAILTO:robinc@oshkoshrhythm.com
END:VEVENT
BEGIN:VEVENT
DTSTART;TZID=America/Chicago:20270818T190000
DTEND;TZID=America/Chicago:20270818T210000
DTSTAMP:20260424T102611
CREATED:20251218T215036Z
LAST-MODIFIED:20251218T215036Z
UID:10000467-1818615600-1818622800@thecedarsproject.com
SUMMARY:Community Drum Circle
DESCRIPTION:The Oshkosh Rhythm Institute exists to promote well-being in the community through recreational music making.\nCommunity Drum Circle\nAll ages and skill levels welcome\nEvery Wednesday 7-9pm\nAt the Sundial in nice weather or\n803 Waugoo Ave Oshkosh WI
URL:https://thecedarsproject.com/event/community-drum-circle/2027-08-18/
LOCATION:Oshkosh Rhythm Institute\, 803 Waugoo Ave.\, Oshkosh\, WI\, 54901\, United States
CATEGORIES:Art and Culture
ATTACH;FMTTYPE=image/jpeg:https://thecedarsproject.com/wp-content/uploads/2025/12/ori.jpg
ORGANIZER;CN="Oshkosh Rhythm Institue":MAILTO:robinc@oshkoshrhythm.com
END:VEVENT
BEGIN:VEVENT
DTSTART;TZID=America/Chicago:20270825T190000
DTEND;TZID=America/Chicago:20270825T210000
DTSTAMP:20260424T102611
CREATED:20251218T215036Z
LAST-MODIFIED:20251218T215036Z
UID:10000468-1819220400-1819227600@thecedarsproject.com
SUMMARY:Community Drum Circle
DESCRIPTION:The Oshkosh Rhythm Institute exists to promote well-being in the community through recreational music making.\nCommunity Drum Circle\nAll ages and skill levels welcome\nEvery Wednesday 7-9pm\nAt the Sundial in nice weather or\n803 Waugoo Ave Oshkosh WI
URL:https://thecedarsproject.com/event/community-drum-circle/2027-08-25/
LOCATION:Oshkosh Rhythm Institute\, 803 Waugoo Ave.\, Oshkosh\, WI\, 54901\, United States
CATEGORIES:Art and Culture
ATTACH;FMTTYPE=image/jpeg:https://thecedarsproject.com/wp-content/uploads/2025/12/ori.jpg
ORGANIZER;CN="Oshkosh Rhythm Institue":MAILTO:robinc@oshkoshrhythm.com
END:VEVENT
BEGIN:VEVENT
DTSTART;TZID=America/Chicago:20270901T190000
DTEND;TZID=America/Chicago:20270901T210000
DTSTAMP:20260424T102611
CREATED:20251218T215036Z
LAST-MODIFIED:20251218T215036Z
UID:10000469-1819825200-1819832400@thecedarsproject.com
SUMMARY:Community Drum Circle
DESCRIPTION:The Oshkosh Rhythm Institute exists to promote well-being in the community through recreational music making.\nCommunity Drum Circle\nAll ages and skill levels welcome\nEvery Wednesday 7-9pm\nAt the Sundial in nice weather or\n803 Waugoo Ave Oshkosh WI
URL:https://thecedarsproject.com/event/community-drum-circle/2027-09-01/
LOCATION:Oshkosh Rhythm Institute\, 803 Waugoo Ave.\, Oshkosh\, WI\, 54901\, United States
CATEGORIES:Art and Culture
ATTACH;FMTTYPE=image/jpeg:https://thecedarsproject.com/wp-content/uploads/2025/12/ori.jpg
ORGANIZER;CN="Oshkosh Rhythm Institue":MAILTO:robinc@oshkoshrhythm.com
END:VEVENT
BEGIN:VEVENT
DTSTART;TZID=America/Chicago:20270908T190000
DTEND;TZID=America/Chicago:20270908T210000
DTSTAMP:20260424T102611
CREATED:20251218T215036Z
LAST-MODIFIED:20251218T215036Z
UID:10000470-1820430000-1820437200@thecedarsproject.com
SUMMARY:Community Drum Circle
DESCRIPTION:The Oshkosh Rhythm Institute exists to promote well-being in the community through recreational music making.\nCommunity Drum Circle\nAll ages and skill levels welcome\nEvery Wednesday 7-9pm\nAt the Sundial in nice weather or\n803 Waugoo Ave Oshkosh WI
URL:https://thecedarsproject.com/event/community-drum-circle/2027-09-08/
LOCATION:Oshkosh Rhythm Institute\, 803 Waugoo Ave.\, Oshkosh\, WI\, 54901\, United States
CATEGORIES:Art and Culture
ATTACH;FMTTYPE=image/jpeg:https://thecedarsproject.com/wp-content/uploads/2025/12/ori.jpg
ORGANIZER;CN="Oshkosh Rhythm Institue":MAILTO:robinc@oshkoshrhythm.com
END:VEVENT
BEGIN:VEVENT
DTSTART;TZID=America/Chicago:20270915T190000
DTEND;TZID=America/Chicago:20270915T210000
DTSTAMP:20260424T102611
CREATED:20251218T215036Z
LAST-MODIFIED:20251218T215036Z
UID:10000471-1821034800-1821042000@thecedarsproject.com
SUMMARY:Community Drum Circle
DESCRIPTION:The Oshkosh Rhythm Institute exists to promote well-being in the community through recreational music making.\nCommunity Drum Circle\nAll ages and skill levels welcome\nEvery Wednesday 7-9pm\nAt the Sundial in nice weather or\n803 Waugoo Ave Oshkosh WI
URL:https://thecedarsproject.com/event/community-drum-circle/2027-09-15/
LOCATION:Oshkosh Rhythm Institute\, 803 Waugoo Ave.\, Oshkosh\, WI\, 54901\, United States
CATEGORIES:Art and Culture
ATTACH;FMTTYPE=image/jpeg:https://thecedarsproject.com/wp-content/uploads/2025/12/ori.jpg
ORGANIZER;CN="Oshkosh Rhythm Institue":MAILTO:robinc@oshkoshrhythm.com
END:VEVENT
BEGIN:VEVENT
DTSTART;TZID=America/Chicago:20270922T190000
DTEND;TZID=America/Chicago:20270922T210000
DTSTAMP:20260424T102611
CREATED:20251218T215036Z
LAST-MODIFIED:20251218T215036Z
UID:10000472-1821639600-1821646800@thecedarsproject.com
SUMMARY:Community Drum Circle
DESCRIPTION:The Oshkosh Rhythm Institute exists to promote well-being in the community through recreational music making.\nCommunity Drum Circle\nAll ages and skill levels welcome\nEvery Wednesday 7-9pm\nAt the Sundial in nice weather or\n803 Waugoo Ave Oshkosh WI
URL:https://thecedarsproject.com/event/community-drum-circle/2027-09-22/
LOCATION:Oshkosh Rhythm Institute\, 803 Waugoo Ave.\, Oshkosh\, WI\, 54901\, United States
CATEGORIES:Art and Culture
ATTACH;FMTTYPE=image/jpeg:https://thecedarsproject.com/wp-content/uploads/2025/12/ori.jpg
ORGANIZER;CN="Oshkosh Rhythm Institue":MAILTO:robinc@oshkoshrhythm.com
END:VEVENT
BEGIN:VEVENT
DTSTART;TZID=America/Chicago:20270929T190000
DTEND;TZID=America/Chicago:20270929T210000
DTSTAMP:20260424T102611
CREATED:20251218T215036Z
LAST-MODIFIED:20251218T215036Z
UID:10000473-1822244400-1822251600@thecedarsproject.com
SUMMARY:Community Drum Circle
DESCRIPTION:The Oshkosh Rhythm Institute exists to promote well-being in the community through recreational music making.\nCommunity Drum Circle\nAll ages and skill levels welcome\nEvery Wednesday 7-9pm\nAt the Sundial in nice weather or\n803 Waugoo Ave Oshkosh WI
URL:https://thecedarsproject.com/event/community-drum-circle/2027-09-29/
LOCATION:Oshkosh Rhythm Institute\, 803 Waugoo Ave.\, Oshkosh\, WI\, 54901\, United States
CATEGORIES:Art and Culture
ATTACH;FMTTYPE=image/jpeg:https://thecedarsproject.com/wp-content/uploads/2025/12/ori.jpg
ORGANIZER;CN="Oshkosh Rhythm Institue":MAILTO:robinc@oshkoshrhythm.com
END:VEVENT
BEGIN:VEVENT
DTSTART;TZID=America/Chicago:20271006T190000
DTEND;TZID=America/Chicago:20271006T210000
DTSTAMP:20260424T102611
CREATED:20251218T215036Z
LAST-MODIFIED:20251218T215036Z
UID:10000474-1822849200-1822856400@thecedarsproject.com
SUMMARY:Community Drum Circle
DESCRIPTION:The Oshkosh Rhythm Institute exists to promote well-being in the community through recreational music making.\nCommunity Drum Circle\nAll ages and skill levels welcome\nEvery Wednesday 7-9pm\nAt the Sundial in nice weather or\n803 Waugoo Ave Oshkosh WI
URL:https://thecedarsproject.com/event/community-drum-circle/2027-10-06/
LOCATION:Oshkosh Rhythm Institute\, 803 Waugoo Ave.\, Oshkosh\, WI\, 54901\, United States
CATEGORIES:Art and Culture
ATTACH;FMTTYPE=image/jpeg:https://thecedarsproject.com/wp-content/uploads/2025/12/ori.jpg
ORGANIZER;CN="Oshkosh Rhythm Institue":MAILTO:robinc@oshkoshrhythm.com
END:VEVENT
BEGIN:VEVENT
DTSTART;TZID=America/Chicago:20271013T190000
DTEND;TZID=America/Chicago:20271013T210000
DTSTAMP:20260424T102611
CREATED:20251218T215036Z
LAST-MODIFIED:20251218T215036Z
UID:10000475-1823454000-1823461200@thecedarsproject.com
SUMMARY:Community Drum Circle
DESCRIPTION:The Oshkosh Rhythm Institute exists to promote well-being in the community through recreational music making.\nCommunity Drum Circle\nAll ages and skill levels welcome\nEvery Wednesday 7-9pm\nAt the Sundial in nice weather or\n803 Waugoo Ave Oshkosh WI
URL:https://thecedarsproject.com/event/community-drum-circle/2027-10-13/
LOCATION:Oshkosh Rhythm Institute\, 803 Waugoo Ave.\, Oshkosh\, WI\, 54901\, United States
CATEGORIES:Art and Culture
ATTACH;FMTTYPE=image/jpeg:https://thecedarsproject.com/wp-content/uploads/2025/12/ori.jpg
ORGANIZER;CN="Oshkosh Rhythm Institue":MAILTO:robinc@oshkoshrhythm.com
END:VEVENT
END:VCALENDAR