BEGIN:VCALENDAR
VERSION:2.0
PRODID:-// - ECPv6.15.20//NONSGML v1.0//EN
CALSCALE:GREGORIAN
METHOD:PUBLISH
X-ORIGINAL-URL:https://thecedarsproject.com
X-WR-CALDESC:Events for 
REFRESH-INTERVAL;VALUE=DURATION:PT1H
X-Robots-Tag:noindex
X-PUBLISHED-TTL:PT1H
BEGIN:VTIMEZONE
TZID:America/Chicago
BEGIN:DAYLIGHT
TZOFFSETFROM:-0600
TZOFFSETTO:-0500
TZNAME:CDT
DTSTART:20250309T080000
END:DAYLIGHT
BEGIN:STANDARD
TZOFFSETFROM:-0500
TZOFFSETTO:-0600
TZNAME:CST
DTSTART:20251102T070000
END:STANDARD
BEGIN:DAYLIGHT
TZOFFSETFROM:-0600
TZOFFSETTO:-0500
TZNAME:CDT
DTSTART:20260308T080000
END:DAYLIGHT
BEGIN:STANDARD
TZOFFSETFROM:-0500
TZOFFSETTO:-0600
TZNAME:CST
DTSTART:20261101T070000
END:STANDARD
BEGIN:DAYLIGHT
TZOFFSETFROM:-0600
TZOFFSETTO:-0500
TZNAME:CDT
DTSTART:20270314T080000
END:DAYLIGHT
BEGIN:STANDARD
TZOFFSETFROM:-0500
TZOFFSETTO:-0600
TZNAME:CST
DTSTART:20271107T070000
END:STANDARD
BEGIN:DAYLIGHT
TZOFFSETFROM:-0600
TZOFFSETTO:-0500
TZNAME:CDT
DTSTART:20280312T080000
END:DAYLIGHT
BEGIN:STANDARD
TZOFFSETFROM:-0500
TZOFFSETTO:-0600
TZNAME:CST
DTSTART:20281105T070000
END:STANDARD
END:VTIMEZONE
BEGIN:VEVENT
DTSTART;TZID=America/Chicago:20260826T190000
DTEND;TZID=America/Chicago:20260826T210000
DTSTAMP:20260424T043508
CREATED:20251218T215036Z
LAST-MODIFIED:20251218T215036Z
UID:10000416-1787770800-1787778000@thecedarsproject.com
SUMMARY:Community Drum Circle
DESCRIPTION:The Oshkosh Rhythm Institute exists to promote well-being in the community through recreational music making.\nCommunity Drum Circle\nAll ages and skill levels welcome\nEvery Wednesday 7-9pm\nAt the Sundial in nice weather or\n803 Waugoo Ave Oshkosh WI
URL:https://thecedarsproject.com/event/community-drum-circle/2026-08-26/
LOCATION:Oshkosh Rhythm Institute\, 803 Waugoo Ave.\, Oshkosh\, WI\, 54901\, United States
CATEGORIES:Art and Culture
ATTACH;FMTTYPE=image/jpeg:https://thecedarsproject.com/wp-content/uploads/2025/12/ori.jpg
ORGANIZER;CN="Oshkosh Rhythm Institue":MAILTO:robinc@oshkoshrhythm.com
END:VEVENT
BEGIN:VEVENT
DTSTART;TZID=America/Chicago:20260902T190000
DTEND;TZID=America/Chicago:20260902T210000
DTSTAMP:20260424T043508
CREATED:20251218T215036Z
LAST-MODIFIED:20251218T215036Z
UID:10000417-1788375600-1788382800@thecedarsproject.com
SUMMARY:Community Drum Circle
DESCRIPTION:The Oshkosh Rhythm Institute exists to promote well-being in the community through recreational music making.\nCommunity Drum Circle\nAll ages and skill levels welcome\nEvery Wednesday 7-9pm\nAt the Sundial in nice weather or\n803 Waugoo Ave Oshkosh WI
URL:https://thecedarsproject.com/event/community-drum-circle/2026-09-02/
LOCATION:Oshkosh Rhythm Institute\, 803 Waugoo Ave.\, Oshkosh\, WI\, 54901\, United States
CATEGORIES:Art and Culture
ATTACH;FMTTYPE=image/jpeg:https://thecedarsproject.com/wp-content/uploads/2025/12/ori.jpg
ORGANIZER;CN="Oshkosh Rhythm Institue":MAILTO:robinc@oshkoshrhythm.com
END:VEVENT
BEGIN:VEVENT
DTSTART;TZID=America/Chicago:20260909T190000
DTEND;TZID=America/Chicago:20260909T210000
DTSTAMP:20260424T043508
CREATED:20251218T215036Z
LAST-MODIFIED:20251218T215036Z
UID:10000418-1788980400-1788987600@thecedarsproject.com
SUMMARY:Community Drum Circle
DESCRIPTION:The Oshkosh Rhythm Institute exists to promote well-being in the community through recreational music making.\nCommunity Drum Circle\nAll ages and skill levels welcome\nEvery Wednesday 7-9pm\nAt the Sundial in nice weather or\n803 Waugoo Ave Oshkosh WI
URL:https://thecedarsproject.com/event/community-drum-circle/2026-09-09/
LOCATION:Oshkosh Rhythm Institute\, 803 Waugoo Ave.\, Oshkosh\, WI\, 54901\, United States
CATEGORIES:Art and Culture
ATTACH;FMTTYPE=image/jpeg:https://thecedarsproject.com/wp-content/uploads/2025/12/ori.jpg
ORGANIZER;CN="Oshkosh Rhythm Institue":MAILTO:robinc@oshkoshrhythm.com
END:VEVENT
BEGIN:VEVENT
DTSTART;TZID=America/Chicago:20260916T190000
DTEND;TZID=America/Chicago:20260916T210000
DTSTAMP:20260424T043508
CREATED:20251218T215036Z
LAST-MODIFIED:20251218T215036Z
UID:10000419-1789585200-1789592400@thecedarsproject.com
SUMMARY:Community Drum Circle
DESCRIPTION:The Oshkosh Rhythm Institute exists to promote well-being in the community through recreational music making.\nCommunity Drum Circle\nAll ages and skill levels welcome\nEvery Wednesday 7-9pm\nAt the Sundial in nice weather or\n803 Waugoo Ave Oshkosh WI
URL:https://thecedarsproject.com/event/community-drum-circle/2026-09-16/
LOCATION:Oshkosh Rhythm Institute\, 803 Waugoo Ave.\, Oshkosh\, WI\, 54901\, United States
CATEGORIES:Art and Culture
ATTACH;FMTTYPE=image/jpeg:https://thecedarsproject.com/wp-content/uploads/2025/12/ori.jpg
ORGANIZER;CN="Oshkosh Rhythm Institue":MAILTO:robinc@oshkoshrhythm.com
END:VEVENT
BEGIN:VEVENT
DTSTART;TZID=America/Chicago:20260923T190000
DTEND;TZID=America/Chicago:20260923T210000
DTSTAMP:20260424T043508
CREATED:20251218T215036Z
LAST-MODIFIED:20251218T215036Z
UID:10000420-1790190000-1790197200@thecedarsproject.com
SUMMARY:Community Drum Circle
DESCRIPTION:The Oshkosh Rhythm Institute exists to promote well-being in the community through recreational music making.\nCommunity Drum Circle\nAll ages and skill levels welcome\nEvery Wednesday 7-9pm\nAt the Sundial in nice weather or\n803 Waugoo Ave Oshkosh WI
URL:https://thecedarsproject.com/event/community-drum-circle/2026-09-23/
LOCATION:Oshkosh Rhythm Institute\, 803 Waugoo Ave.\, Oshkosh\, WI\, 54901\, United States
CATEGORIES:Art and Culture
ATTACH;FMTTYPE=image/jpeg:https://thecedarsproject.com/wp-content/uploads/2025/12/ori.jpg
ORGANIZER;CN="Oshkosh Rhythm Institue":MAILTO:robinc@oshkoshrhythm.com
END:VEVENT
BEGIN:VEVENT
DTSTART;TZID=America/Chicago:20260930T190000
DTEND;TZID=America/Chicago:20260930T210000
DTSTAMP:20260424T043508
CREATED:20251218T215036Z
LAST-MODIFIED:20251218T215036Z
UID:10000421-1790794800-1790802000@thecedarsproject.com
SUMMARY:Community Drum Circle
DESCRIPTION:The Oshkosh Rhythm Institute exists to promote well-being in the community through recreational music making.\nCommunity Drum Circle\nAll ages and skill levels welcome\nEvery Wednesday 7-9pm\nAt the Sundial in nice weather or\n803 Waugoo Ave Oshkosh WI
URL:https://thecedarsproject.com/event/community-drum-circle/2026-09-30/
LOCATION:Oshkosh Rhythm Institute\, 803 Waugoo Ave.\, Oshkosh\, WI\, 54901\, United States
CATEGORIES:Art and Culture
ATTACH;FMTTYPE=image/jpeg:https://thecedarsproject.com/wp-content/uploads/2025/12/ori.jpg
ORGANIZER;CN="Oshkosh Rhythm Institue":MAILTO:robinc@oshkoshrhythm.com
END:VEVENT
BEGIN:VEVENT
DTSTART;TZID=America/Chicago:20261007T190000
DTEND;TZID=America/Chicago:20261007T210000
DTSTAMP:20260424T043508
CREATED:20251218T215036Z
LAST-MODIFIED:20251218T215036Z
UID:10000422-1791399600-1791406800@thecedarsproject.com
SUMMARY:Community Drum Circle
DESCRIPTION:The Oshkosh Rhythm Institute exists to promote well-being in the community through recreational music making.\nCommunity Drum Circle\nAll ages and skill levels welcome\nEvery Wednesday 7-9pm\nAt the Sundial in nice weather or\n803 Waugoo Ave Oshkosh WI
URL:https://thecedarsproject.com/event/community-drum-circle/2026-10-07/
LOCATION:Oshkosh Rhythm Institute\, 803 Waugoo Ave.\, Oshkosh\, WI\, 54901\, United States
CATEGORIES:Art and Culture
ATTACH;FMTTYPE=image/jpeg:https://thecedarsproject.com/wp-content/uploads/2025/12/ori.jpg
ORGANIZER;CN="Oshkosh Rhythm Institue":MAILTO:robinc@oshkoshrhythm.com
END:VEVENT
BEGIN:VEVENT
DTSTART;TZID=America/Chicago:20261014T190000
DTEND;TZID=America/Chicago:20261014T210000
DTSTAMP:20260424T043508
CREATED:20251218T215036Z
LAST-MODIFIED:20251218T215036Z
UID:10000423-1792004400-1792011600@thecedarsproject.com
SUMMARY:Community Drum Circle
DESCRIPTION:The Oshkosh Rhythm Institute exists to promote well-being in the community through recreational music making.\nCommunity Drum Circle\nAll ages and skill levels welcome\nEvery Wednesday 7-9pm\nAt the Sundial in nice weather or\n803 Waugoo Ave Oshkosh WI
URL:https://thecedarsproject.com/event/community-drum-circle/2026-10-14/
LOCATION:Oshkosh Rhythm Institute\, 803 Waugoo Ave.\, Oshkosh\, WI\, 54901\, United States
CATEGORIES:Art and Culture
ATTACH;FMTTYPE=image/jpeg:https://thecedarsproject.com/wp-content/uploads/2025/12/ori.jpg
ORGANIZER;CN="Oshkosh Rhythm Institue":MAILTO:robinc@oshkoshrhythm.com
END:VEVENT
BEGIN:VEVENT
DTSTART;TZID=America/Chicago:20261021T190000
DTEND;TZID=America/Chicago:20261021T210000
DTSTAMP:20260424T043508
CREATED:20251218T215036Z
LAST-MODIFIED:20251218T215036Z
UID:10000424-1792609200-1792616400@thecedarsproject.com
SUMMARY:Community Drum Circle
DESCRIPTION:The Oshkosh Rhythm Institute exists to promote well-being in the community through recreational music making.\nCommunity Drum Circle\nAll ages and skill levels welcome\nEvery Wednesday 7-9pm\nAt the Sundial in nice weather or\n803 Waugoo Ave Oshkosh WI
URL:https://thecedarsproject.com/event/community-drum-circle/2026-10-21/
LOCATION:Oshkosh Rhythm Institute\, 803 Waugoo Ave.\, Oshkosh\, WI\, 54901\, United States
CATEGORIES:Art and Culture
ATTACH;FMTTYPE=image/jpeg:https://thecedarsproject.com/wp-content/uploads/2025/12/ori.jpg
ORGANIZER;CN="Oshkosh Rhythm Institue":MAILTO:robinc@oshkoshrhythm.com
END:VEVENT
BEGIN:VEVENT
DTSTART;TZID=America/Chicago:20261028T190000
DTEND;TZID=America/Chicago:20261028T210000
DTSTAMP:20260424T043508
CREATED:20251218T215036Z
LAST-MODIFIED:20251218T215036Z
UID:10000425-1793214000-1793221200@thecedarsproject.com
SUMMARY:Community Drum Circle
DESCRIPTION:The Oshkosh Rhythm Institute exists to promote well-being in the community through recreational music making.\nCommunity Drum Circle\nAll ages and skill levels welcome\nEvery Wednesday 7-9pm\nAt the Sundial in nice weather or\n803 Waugoo Ave Oshkosh WI
URL:https://thecedarsproject.com/event/community-drum-circle/2026-10-28/
LOCATION:Oshkosh Rhythm Institute\, 803 Waugoo Ave.\, Oshkosh\, WI\, 54901\, United States
CATEGORIES:Art and Culture
ATTACH;FMTTYPE=image/jpeg:https://thecedarsproject.com/wp-content/uploads/2025/12/ori.jpg
ORGANIZER;CN="Oshkosh Rhythm Institue":MAILTO:robinc@oshkoshrhythm.com
END:VEVENT
BEGIN:VEVENT
DTSTART;TZID=America/Chicago:20261104T190000
DTEND;TZID=America/Chicago:20261104T210000
DTSTAMP:20260424T043508
CREATED:20251218T215036Z
LAST-MODIFIED:20251218T215036Z
UID:10000426-1793818800-1793826000@thecedarsproject.com
SUMMARY:Community Drum Circle
DESCRIPTION:The Oshkosh Rhythm Institute exists to promote well-being in the community through recreational music making.\nCommunity Drum Circle\nAll ages and skill levels welcome\nEvery Wednesday 7-9pm\nAt the Sundial in nice weather or\n803 Waugoo Ave Oshkosh WI
URL:https://thecedarsproject.com/event/community-drum-circle/2026-11-04/
LOCATION:Oshkosh Rhythm Institute\, 803 Waugoo Ave.\, Oshkosh\, WI\, 54901\, United States
CATEGORIES:Art and Culture
ATTACH;FMTTYPE=image/jpeg:https://thecedarsproject.com/wp-content/uploads/2025/12/ori.jpg
ORGANIZER;CN="Oshkosh Rhythm Institue":MAILTO:robinc@oshkoshrhythm.com
END:VEVENT
BEGIN:VEVENT
DTSTART;TZID=America/Chicago:20261111T190000
DTEND;TZID=America/Chicago:20261111T210000
DTSTAMP:20260424T043508
CREATED:20251218T215036Z
LAST-MODIFIED:20251218T215036Z
UID:10000427-1794423600-1794430800@thecedarsproject.com
SUMMARY:Community Drum Circle
DESCRIPTION:The Oshkosh Rhythm Institute exists to promote well-being in the community through recreational music making.\nCommunity Drum Circle\nAll ages and skill levels welcome\nEvery Wednesday 7-9pm\nAt the Sundial in nice weather or\n803 Waugoo Ave Oshkosh WI
URL:https://thecedarsproject.com/event/community-drum-circle/2026-11-11/
LOCATION:Oshkosh Rhythm Institute\, 803 Waugoo Ave.\, Oshkosh\, WI\, 54901\, United States
CATEGORIES:Art and Culture
ATTACH;FMTTYPE=image/jpeg:https://thecedarsproject.com/wp-content/uploads/2025/12/ori.jpg
ORGANIZER;CN="Oshkosh Rhythm Institue":MAILTO:robinc@oshkoshrhythm.com
END:VEVENT
BEGIN:VEVENT
DTSTART;TZID=America/Chicago:20261118T190000
DTEND;TZID=America/Chicago:20261118T210000
DTSTAMP:20260424T043508
CREATED:20251218T215036Z
LAST-MODIFIED:20251218T215036Z
UID:10000428-1795028400-1795035600@thecedarsproject.com
SUMMARY:Community Drum Circle
DESCRIPTION:The Oshkosh Rhythm Institute exists to promote well-being in the community through recreational music making.\nCommunity Drum Circle\nAll ages and skill levels welcome\nEvery Wednesday 7-9pm\nAt the Sundial in nice weather or\n803 Waugoo Ave Oshkosh WI
URL:https://thecedarsproject.com/event/community-drum-circle/2026-11-18/
LOCATION:Oshkosh Rhythm Institute\, 803 Waugoo Ave.\, Oshkosh\, WI\, 54901\, United States
CATEGORIES:Art and Culture
ATTACH;FMTTYPE=image/jpeg:https://thecedarsproject.com/wp-content/uploads/2025/12/ori.jpg
ORGANIZER;CN="Oshkosh Rhythm Institue":MAILTO:robinc@oshkoshrhythm.com
END:VEVENT
BEGIN:VEVENT
DTSTART;TZID=America/Chicago:20261125T190000
DTEND;TZID=America/Chicago:20261125T210000
DTSTAMP:20260424T043508
CREATED:20251218T215036Z
LAST-MODIFIED:20251218T215036Z
UID:10000429-1795633200-1795640400@thecedarsproject.com
SUMMARY:Community Drum Circle
DESCRIPTION:The Oshkosh Rhythm Institute exists to promote well-being in the community through recreational music making.\nCommunity Drum Circle\nAll ages and skill levels welcome\nEvery Wednesday 7-9pm\nAt the Sundial in nice weather or\n803 Waugoo Ave Oshkosh WI
URL:https://thecedarsproject.com/event/community-drum-circle/2026-11-25/
LOCATION:Oshkosh Rhythm Institute\, 803 Waugoo Ave.\, Oshkosh\, WI\, 54901\, United States
CATEGORIES:Art and Culture
ATTACH;FMTTYPE=image/jpeg:https://thecedarsproject.com/wp-content/uploads/2025/12/ori.jpg
ORGANIZER;CN="Oshkosh Rhythm Institue":MAILTO:robinc@oshkoshrhythm.com
END:VEVENT
BEGIN:VEVENT
DTSTART;TZID=America/Chicago:20261202T190000
DTEND;TZID=America/Chicago:20261202T210000
DTSTAMP:20260424T043508
CREATED:20251218T215036Z
LAST-MODIFIED:20251218T215036Z
UID:10000430-1796238000-1796245200@thecedarsproject.com
SUMMARY:Community Drum Circle
DESCRIPTION:The Oshkosh Rhythm Institute exists to promote well-being in the community through recreational music making.\nCommunity Drum Circle\nAll ages and skill levels welcome\nEvery Wednesday 7-9pm\nAt the Sundial in nice weather or\n803 Waugoo Ave Oshkosh WI
URL:https://thecedarsproject.com/event/community-drum-circle/2026-12-02/
LOCATION:Oshkosh Rhythm Institute\, 803 Waugoo Ave.\, Oshkosh\, WI\, 54901\, United States
CATEGORIES:Art and Culture
ATTACH;FMTTYPE=image/jpeg:https://thecedarsproject.com/wp-content/uploads/2025/12/ori.jpg
ORGANIZER;CN="Oshkosh Rhythm Institue":MAILTO:robinc@oshkoshrhythm.com
END:VEVENT
BEGIN:VEVENT
DTSTART;TZID=America/Chicago:20261209T190000
DTEND;TZID=America/Chicago:20261209T210000
DTSTAMP:20260424T043508
CREATED:20251218T215036Z
LAST-MODIFIED:20251218T215036Z
UID:10000431-1796842800-1796850000@thecedarsproject.com
SUMMARY:Community Drum Circle
DESCRIPTION:The Oshkosh Rhythm Institute exists to promote well-being in the community through recreational music making.\nCommunity Drum Circle\nAll ages and skill levels welcome\nEvery Wednesday 7-9pm\nAt the Sundial in nice weather or\n803 Waugoo Ave Oshkosh WI
URL:https://thecedarsproject.com/event/community-drum-circle/2026-12-09/
LOCATION:Oshkosh Rhythm Institute\, 803 Waugoo Ave.\, Oshkosh\, WI\, 54901\, United States
CATEGORIES:Art and Culture
ATTACH;FMTTYPE=image/jpeg:https://thecedarsproject.com/wp-content/uploads/2025/12/ori.jpg
ORGANIZER;CN="Oshkosh Rhythm Institue":MAILTO:robinc@oshkoshrhythm.com
END:VEVENT
BEGIN:VEVENT
DTSTART;TZID=America/Chicago:20261216T190000
DTEND;TZID=America/Chicago:20261216T210000
DTSTAMP:20260424T043508
CREATED:20251218T215036Z
LAST-MODIFIED:20251218T215036Z
UID:10000432-1797447600-1797454800@thecedarsproject.com
SUMMARY:Community Drum Circle
DESCRIPTION:The Oshkosh Rhythm Institute exists to promote well-being in the community through recreational music making.\nCommunity Drum Circle\nAll ages and skill levels welcome\nEvery Wednesday 7-9pm\nAt the Sundial in nice weather or\n803 Waugoo Ave Oshkosh WI
URL:https://thecedarsproject.com/event/community-drum-circle/2026-12-16/
LOCATION:Oshkosh Rhythm Institute\, 803 Waugoo Ave.\, Oshkosh\, WI\, 54901\, United States
CATEGORIES:Art and Culture
ATTACH;FMTTYPE=image/jpeg:https://thecedarsproject.com/wp-content/uploads/2025/12/ori.jpg
ORGANIZER;CN="Oshkosh Rhythm Institue":MAILTO:robinc@oshkoshrhythm.com
END:VEVENT
BEGIN:VEVENT
DTSTART;TZID=America/Chicago:20261223T190000
DTEND;TZID=America/Chicago:20261223T210000
DTSTAMP:20260424T043508
CREATED:20251218T215036Z
LAST-MODIFIED:20251218T215036Z
UID:10000433-1798052400-1798059600@thecedarsproject.com
SUMMARY:Community Drum Circle
DESCRIPTION:The Oshkosh Rhythm Institute exists to promote well-being in the community through recreational music making.\nCommunity Drum Circle\nAll ages and skill levels welcome\nEvery Wednesday 7-9pm\nAt the Sundial in nice weather or\n803 Waugoo Ave Oshkosh WI
URL:https://thecedarsproject.com/event/community-drum-circle/2026-12-23/
LOCATION:Oshkosh Rhythm Institute\, 803 Waugoo Ave.\, Oshkosh\, WI\, 54901\, United States
CATEGORIES:Art and Culture
ATTACH;FMTTYPE=image/jpeg:https://thecedarsproject.com/wp-content/uploads/2025/12/ori.jpg
ORGANIZER;CN="Oshkosh Rhythm Institue":MAILTO:robinc@oshkoshrhythm.com
END:VEVENT
BEGIN:VEVENT
DTSTART;TZID=America/Chicago:20261230T190000
DTEND;TZID=America/Chicago:20261230T210000
DTSTAMP:20260424T043508
CREATED:20251218T215036Z
LAST-MODIFIED:20251218T215036Z
UID:10000434-1798657200-1798664400@thecedarsproject.com
SUMMARY:Community Drum Circle
DESCRIPTION:The Oshkosh Rhythm Institute exists to promote well-being in the community through recreational music making.\nCommunity Drum Circle\nAll ages and skill levels welcome\nEvery Wednesday 7-9pm\nAt the Sundial in nice weather or\n803 Waugoo Ave Oshkosh WI
URL:https://thecedarsproject.com/event/community-drum-circle/2026-12-30/
LOCATION:Oshkosh Rhythm Institute\, 803 Waugoo Ave.\, Oshkosh\, WI\, 54901\, United States
CATEGORIES:Art and Culture
ATTACH;FMTTYPE=image/jpeg:https://thecedarsproject.com/wp-content/uploads/2025/12/ori.jpg
ORGANIZER;CN="Oshkosh Rhythm Institue":MAILTO:robinc@oshkoshrhythm.com
END:VEVENT
BEGIN:VEVENT
DTSTART;TZID=America/Chicago:20270106T190000
DTEND;TZID=America/Chicago:20270106T210000
DTSTAMP:20260424T043509
CREATED:20251218T215036Z
LAST-MODIFIED:20251218T215036Z
UID:10000435-1799262000-1799269200@thecedarsproject.com
SUMMARY:Community Drum Circle
DESCRIPTION:The Oshkosh Rhythm Institute exists to promote well-being in the community through recreational music making.\nCommunity Drum Circle\nAll ages and skill levels welcome\nEvery Wednesday 7-9pm\nAt the Sundial in nice weather or\n803 Waugoo Ave Oshkosh WI
URL:https://thecedarsproject.com/event/community-drum-circle/2027-01-06/
LOCATION:Oshkosh Rhythm Institute\, 803 Waugoo Ave.\, Oshkosh\, WI\, 54901\, United States
CATEGORIES:Art and Culture
ATTACH;FMTTYPE=image/jpeg:https://thecedarsproject.com/wp-content/uploads/2025/12/ori.jpg
ORGANIZER;CN="Oshkosh Rhythm Institue":MAILTO:robinc@oshkoshrhythm.com
END:VEVENT
BEGIN:VEVENT
DTSTART;TZID=America/Chicago:20270113T190000
DTEND;TZID=America/Chicago:20270113T210000
DTSTAMP:20260424T043509
CREATED:20251218T215036Z
LAST-MODIFIED:20251218T215036Z
UID:10000436-1799866800-1799874000@thecedarsproject.com
SUMMARY:Community Drum Circle
DESCRIPTION:The Oshkosh Rhythm Institute exists to promote well-being in the community through recreational music making.\nCommunity Drum Circle\nAll ages and skill levels welcome\nEvery Wednesday 7-9pm\nAt the Sundial in nice weather or\n803 Waugoo Ave Oshkosh WI
URL:https://thecedarsproject.com/event/community-drum-circle/2027-01-13/
LOCATION:Oshkosh Rhythm Institute\, 803 Waugoo Ave.\, Oshkosh\, WI\, 54901\, United States
CATEGORIES:Art and Culture
ATTACH;FMTTYPE=image/jpeg:https://thecedarsproject.com/wp-content/uploads/2025/12/ori.jpg
ORGANIZER;CN="Oshkosh Rhythm Institue":MAILTO:robinc@oshkoshrhythm.com
END:VEVENT
BEGIN:VEVENT
DTSTART;TZID=America/Chicago:20270120T190000
DTEND;TZID=America/Chicago:20270120T210000
DTSTAMP:20260424T043509
CREATED:20251218T215036Z
LAST-MODIFIED:20251218T215036Z
UID:10000437-1800471600-1800478800@thecedarsproject.com
SUMMARY:Community Drum Circle
DESCRIPTION:The Oshkosh Rhythm Institute exists to promote well-being in the community through recreational music making.\nCommunity Drum Circle\nAll ages and skill levels welcome\nEvery Wednesday 7-9pm\nAt the Sundial in nice weather or\n803 Waugoo Ave Oshkosh WI
URL:https://thecedarsproject.com/event/community-drum-circle/2027-01-20/
LOCATION:Oshkosh Rhythm Institute\, 803 Waugoo Ave.\, Oshkosh\, WI\, 54901\, United States
CATEGORIES:Art and Culture
ATTACH;FMTTYPE=image/jpeg:https://thecedarsproject.com/wp-content/uploads/2025/12/ori.jpg
ORGANIZER;CN="Oshkosh Rhythm Institue":MAILTO:robinc@oshkoshrhythm.com
END:VEVENT
BEGIN:VEVENT
DTSTART;TZID=America/Chicago:20270127T190000
DTEND;TZID=America/Chicago:20270127T210000
DTSTAMP:20260424T043509
CREATED:20251218T215036Z
LAST-MODIFIED:20251218T215036Z
UID:10000438-1801076400-1801083600@thecedarsproject.com
SUMMARY:Community Drum Circle
DESCRIPTION:The Oshkosh Rhythm Institute exists to promote well-being in the community through recreational music making.\nCommunity Drum Circle\nAll ages and skill levels welcome\nEvery Wednesday 7-9pm\nAt the Sundial in nice weather or\n803 Waugoo Ave Oshkosh WI
URL:https://thecedarsproject.com/event/community-drum-circle/2027-01-27/
LOCATION:Oshkosh Rhythm Institute\, 803 Waugoo Ave.\, Oshkosh\, WI\, 54901\, United States
CATEGORIES:Art and Culture
ATTACH;FMTTYPE=image/jpeg:https://thecedarsproject.com/wp-content/uploads/2025/12/ori.jpg
ORGANIZER;CN="Oshkosh Rhythm Institue":MAILTO:robinc@oshkoshrhythm.com
END:VEVENT
BEGIN:VEVENT
DTSTART;TZID=America/Chicago:20270203T190000
DTEND;TZID=America/Chicago:20270203T210000
DTSTAMP:20260424T043509
CREATED:20251218T215036Z
LAST-MODIFIED:20251218T215036Z
UID:10000439-1801681200-1801688400@thecedarsproject.com
SUMMARY:Community Drum Circle
DESCRIPTION:The Oshkosh Rhythm Institute exists to promote well-being in the community through recreational music making.\nCommunity Drum Circle\nAll ages and skill levels welcome\nEvery Wednesday 7-9pm\nAt the Sundial in nice weather or\n803 Waugoo Ave Oshkosh WI
URL:https://thecedarsproject.com/event/community-drum-circle/2027-02-03/
LOCATION:Oshkosh Rhythm Institute\, 803 Waugoo Ave.\, Oshkosh\, WI\, 54901\, United States
CATEGORIES:Art and Culture
ATTACH;FMTTYPE=image/jpeg:https://thecedarsproject.com/wp-content/uploads/2025/12/ori.jpg
ORGANIZER;CN="Oshkosh Rhythm Institue":MAILTO:robinc@oshkoshrhythm.com
END:VEVENT
BEGIN:VEVENT
DTSTART;TZID=America/Chicago:20270210T190000
DTEND;TZID=America/Chicago:20270210T210000
DTSTAMP:20260424T043509
CREATED:20251218T215036Z
LAST-MODIFIED:20251218T215036Z
UID:10000440-1802286000-1802293200@thecedarsproject.com
SUMMARY:Community Drum Circle
DESCRIPTION:The Oshkosh Rhythm Institute exists to promote well-being in the community through recreational music making.\nCommunity Drum Circle\nAll ages and skill levels welcome\nEvery Wednesday 7-9pm\nAt the Sundial in nice weather or\n803 Waugoo Ave Oshkosh WI
URL:https://thecedarsproject.com/event/community-drum-circle/2027-02-10/
LOCATION:Oshkosh Rhythm Institute\, 803 Waugoo Ave.\, Oshkosh\, WI\, 54901\, United States
CATEGORIES:Art and Culture
ATTACH;FMTTYPE=image/jpeg:https://thecedarsproject.com/wp-content/uploads/2025/12/ori.jpg
ORGANIZER;CN="Oshkosh Rhythm Institue":MAILTO:robinc@oshkoshrhythm.com
END:VEVENT
BEGIN:VEVENT
DTSTART;TZID=America/Chicago:20270217T190000
DTEND;TZID=America/Chicago:20270217T210000
DTSTAMP:20260424T043509
CREATED:20251218T215036Z
LAST-MODIFIED:20251218T215036Z
UID:10000441-1802890800-1802898000@thecedarsproject.com
SUMMARY:Community Drum Circle
DESCRIPTION:The Oshkosh Rhythm Institute exists to promote well-being in the community through recreational music making.\nCommunity Drum Circle\nAll ages and skill levels welcome\nEvery Wednesday 7-9pm\nAt the Sundial in nice weather or\n803 Waugoo Ave Oshkosh WI
URL:https://thecedarsproject.com/event/community-drum-circle/2027-02-17/
LOCATION:Oshkosh Rhythm Institute\, 803 Waugoo Ave.\, Oshkosh\, WI\, 54901\, United States
CATEGORIES:Art and Culture
ATTACH;FMTTYPE=image/jpeg:https://thecedarsproject.com/wp-content/uploads/2025/12/ori.jpg
ORGANIZER;CN="Oshkosh Rhythm Institue":MAILTO:robinc@oshkoshrhythm.com
END:VEVENT
BEGIN:VEVENT
DTSTART;TZID=America/Chicago:20270224T190000
DTEND;TZID=America/Chicago:20270224T210000
DTSTAMP:20260424T043509
CREATED:20251218T215036Z
LAST-MODIFIED:20251218T215036Z
UID:10000442-1803495600-1803502800@thecedarsproject.com
SUMMARY:Community Drum Circle
DESCRIPTION:The Oshkosh Rhythm Institute exists to promote well-being in the community through recreational music making.\nCommunity Drum Circle\nAll ages and skill levels welcome\nEvery Wednesday 7-9pm\nAt the Sundial in nice weather or\n803 Waugoo Ave Oshkosh WI
URL:https://thecedarsproject.com/event/community-drum-circle/2027-02-24/
LOCATION:Oshkosh Rhythm Institute\, 803 Waugoo Ave.\, Oshkosh\, WI\, 54901\, United States
CATEGORIES:Art and Culture
ATTACH;FMTTYPE=image/jpeg:https://thecedarsproject.com/wp-content/uploads/2025/12/ori.jpg
ORGANIZER;CN="Oshkosh Rhythm Institue":MAILTO:robinc@oshkoshrhythm.com
END:VEVENT
BEGIN:VEVENT
DTSTART;TZID=America/Chicago:20270303T190000
DTEND;TZID=America/Chicago:20270303T210000
DTSTAMP:20260424T043509
CREATED:20251218T215036Z
LAST-MODIFIED:20251218T215036Z
UID:10000443-1804100400-1804107600@thecedarsproject.com
SUMMARY:Community Drum Circle
DESCRIPTION:The Oshkosh Rhythm Institute exists to promote well-being in the community through recreational music making.\nCommunity Drum Circle\nAll ages and skill levels welcome\nEvery Wednesday 7-9pm\nAt the Sundial in nice weather or\n803 Waugoo Ave Oshkosh WI
URL:https://thecedarsproject.com/event/community-drum-circle/2027-03-03/
LOCATION:Oshkosh Rhythm Institute\, 803 Waugoo Ave.\, Oshkosh\, WI\, 54901\, United States
CATEGORIES:Art and Culture
ATTACH;FMTTYPE=image/jpeg:https://thecedarsproject.com/wp-content/uploads/2025/12/ori.jpg
ORGANIZER;CN="Oshkosh Rhythm Institue":MAILTO:robinc@oshkoshrhythm.com
END:VEVENT
BEGIN:VEVENT
DTSTART;TZID=America/Chicago:20270310T190000
DTEND;TZID=America/Chicago:20270310T210000
DTSTAMP:20260424T043509
CREATED:20251218T215036Z
LAST-MODIFIED:20251218T215036Z
UID:10000444-1804705200-1804712400@thecedarsproject.com
SUMMARY:Community Drum Circle
DESCRIPTION:The Oshkosh Rhythm Institute exists to promote well-being in the community through recreational music making.\nCommunity Drum Circle\nAll ages and skill levels welcome\nEvery Wednesday 7-9pm\nAt the Sundial in nice weather or\n803 Waugoo Ave Oshkosh WI
URL:https://thecedarsproject.com/event/community-drum-circle/2027-03-10/
LOCATION:Oshkosh Rhythm Institute\, 803 Waugoo Ave.\, Oshkosh\, WI\, 54901\, United States
CATEGORIES:Art and Culture
ATTACH;FMTTYPE=image/jpeg:https://thecedarsproject.com/wp-content/uploads/2025/12/ori.jpg
ORGANIZER;CN="Oshkosh Rhythm Institue":MAILTO:robinc@oshkoshrhythm.com
END:VEVENT
BEGIN:VEVENT
DTSTART;TZID=America/Chicago:20270317T190000
DTEND;TZID=America/Chicago:20270317T210000
DTSTAMP:20260424T043509
CREATED:20251218T215036Z
LAST-MODIFIED:20251218T215036Z
UID:10000445-1805310000-1805317200@thecedarsproject.com
SUMMARY:Community Drum Circle
DESCRIPTION:The Oshkosh Rhythm Institute exists to promote well-being in the community through recreational music making.\nCommunity Drum Circle\nAll ages and skill levels welcome\nEvery Wednesday 7-9pm\nAt the Sundial in nice weather or\n803 Waugoo Ave Oshkosh WI
URL:https://thecedarsproject.com/event/community-drum-circle/2027-03-17/
LOCATION:Oshkosh Rhythm Institute\, 803 Waugoo Ave.\, Oshkosh\, WI\, 54901\, United States
CATEGORIES:Art and Culture
ATTACH;FMTTYPE=image/jpeg:https://thecedarsproject.com/wp-content/uploads/2025/12/ori.jpg
ORGANIZER;CN="Oshkosh Rhythm Institue":MAILTO:robinc@oshkoshrhythm.com
END:VEVENT
END:VCALENDAR