BEGIN:VCALENDAR
VERSION:2.0
PRODID:-// - ECPv6.15.20//NONSGML v1.0//EN
CALSCALE:GREGORIAN
METHOD:PUBLISH
X-ORIGINAL-URL:https://thecedarsproject.com
X-WR-CALDESC:Events for 
REFRESH-INTERVAL;VALUE=DURATION:PT1H
X-Robots-Tag:noindex
X-PUBLISHED-TTL:PT1H
BEGIN:VTIMEZONE
TZID:America/Chicago
BEGIN:DAYLIGHT
TZOFFSETFROM:-0600
TZOFFSETTO:-0500
TZNAME:CDT
DTSTART:20250309T080000
END:DAYLIGHT
BEGIN:STANDARD
TZOFFSETFROM:-0500
TZOFFSETTO:-0600
TZNAME:CST
DTSTART:20251102T070000
END:STANDARD
BEGIN:DAYLIGHT
TZOFFSETFROM:-0600
TZOFFSETTO:-0500
TZNAME:CDT
DTSTART:20260308T080000
END:DAYLIGHT
BEGIN:STANDARD
TZOFFSETFROM:-0500
TZOFFSETTO:-0600
TZNAME:CST
DTSTART:20261101T070000
END:STANDARD
BEGIN:DAYLIGHT
TZOFFSETFROM:-0600
TZOFFSETTO:-0500
TZNAME:CDT
DTSTART:20270314T080000
END:DAYLIGHT
BEGIN:STANDARD
TZOFFSETFROM:-0500
TZOFFSETTO:-0600
TZNAME:CST
DTSTART:20271107T070000
END:STANDARD
END:VTIMEZONE
BEGIN:VEVENT
DTSTART;TZID=America/Chicago:20260429T190000
DTEND;TZID=America/Chicago:20260429T210000
DTSTAMP:20260423T190311
CREATED:20251218T215036Z
LAST-MODIFIED:20251218T215036Z
UID:10000399-1777489200-1777496400@thecedarsproject.com
SUMMARY:Community Drum Circle
DESCRIPTION:The Oshkosh Rhythm Institute exists to promote well-being in the community through recreational music making.\nCommunity Drum Circle\nAll ages and skill levels welcome\nEvery Wednesday 7-9pm\nAt the Sundial in nice weather or\n803 Waugoo Ave Oshkosh WI
URL:https://thecedarsproject.com/event/community-drum-circle/2026-04-29/
LOCATION:Oshkosh Rhythm Institute\, 803 Waugoo Ave.\, Oshkosh\, WI\, 54901\, United States
CATEGORIES:Art and Culture
ATTACH;FMTTYPE=image/jpeg:https://thecedarsproject.com/wp-content/uploads/2025/12/ori.jpg
ORGANIZER;CN="Oshkosh Rhythm Institue":MAILTO:robinc@oshkoshrhythm.com
END:VEVENT
END:VCALENDAR