BEGIN:VCALENDAR
VERSION:2.0
PRODID:-// - ECPv6.15.20//NONSGML v1.0//EN
CALSCALE:GREGORIAN
METHOD:PUBLISH
X-ORIGINAL-URL:https://thecedarsproject.com
X-WR-CALDESC:Events for 
REFRESH-INTERVAL;VALUE=DURATION:PT1H
X-Robots-Tag:noindex
X-PUBLISHED-TTL:PT1H
BEGIN:VTIMEZONE
TZID:America/Chicago
BEGIN:DAYLIGHT
TZOFFSETFROM:-0600
TZOFFSETTO:-0500
TZNAME:CDT
DTSTART:20250309T080000
END:DAYLIGHT
BEGIN:STANDARD
TZOFFSETFROM:-0500
TZOFFSETTO:-0600
TZNAME:CST
DTSTART:20251102T070000
END:STANDARD
BEGIN:DAYLIGHT
TZOFFSETFROM:-0600
TZOFFSETTO:-0500
TZNAME:CDT
DTSTART:20260308T080000
END:DAYLIGHT
BEGIN:STANDARD
TZOFFSETFROM:-0500
TZOFFSETTO:-0600
TZNAME:CST
DTSTART:20261101T070000
END:STANDARD
BEGIN:DAYLIGHT
TZOFFSETFROM:-0600
TZOFFSETTO:-0500
TZNAME:CDT
DTSTART:20270314T080000
END:DAYLIGHT
BEGIN:STANDARD
TZOFFSETFROM:-0500
TZOFFSETTO:-0600
TZNAME:CST
DTSTART:20271107T070000
END:STANDARD
END:VTIMEZONE
BEGIN:VEVENT
DTSTART;TZID=America/Chicago:20260429T190000
DTEND;TZID=America/Chicago:20260429T210000
DTSTAMP:20260423T173758
CREATED:20251218T215036Z
LAST-MODIFIED:20251218T215036Z
UID:10000399-1777489200-1777496400@thecedarsproject.com
SUMMARY:Community Drum Circle
DESCRIPTION:The Oshkosh Rhythm Institute exists to promote well-being in the community through recreational music making.\nCommunity Drum Circle\nAll ages and skill levels welcome\nEvery Wednesday 7-9pm\nAt the Sundial in nice weather or\n803 Waugoo Ave Oshkosh WI
URL:https://thecedarsproject.com/event/community-drum-circle/2026-04-29/
LOCATION:Oshkosh Rhythm Institute\, 803 Waugoo Ave.\, Oshkosh\, WI\, 54901\, United States
CATEGORIES:Art and Culture
ATTACH;FMTTYPE=image/jpeg:https://thecedarsproject.com/wp-content/uploads/2025/12/ori.jpg
ORGANIZER;CN="Oshkosh Rhythm Institue":MAILTO:robinc@oshkoshrhythm.com
END:VEVENT
BEGIN:VEVENT
DTSTART;TZID=America/Chicago:20260506T190000
DTEND;TZID=America/Chicago:20260506T210000
DTSTAMP:20260423T173758
CREATED:20251218T215036Z
LAST-MODIFIED:20251218T215036Z
UID:10000400-1778094000-1778101200@thecedarsproject.com
SUMMARY:Community Drum Circle
DESCRIPTION:The Oshkosh Rhythm Institute exists to promote well-being in the community through recreational music making.\nCommunity Drum Circle\nAll ages and skill levels welcome\nEvery Wednesday 7-9pm\nAt the Sundial in nice weather or\n803 Waugoo Ave Oshkosh WI
URL:https://thecedarsproject.com/event/community-drum-circle/2026-05-06/
LOCATION:Oshkosh Rhythm Institute\, 803 Waugoo Ave.\, Oshkosh\, WI\, 54901\, United States
CATEGORIES:Art and Culture
ATTACH;FMTTYPE=image/jpeg:https://thecedarsproject.com/wp-content/uploads/2025/12/ori.jpg
ORGANIZER;CN="Oshkosh Rhythm Institue":MAILTO:robinc@oshkoshrhythm.com
END:VEVENT
BEGIN:VEVENT
DTSTART;TZID=America/Chicago:20260513T190000
DTEND;TZID=America/Chicago:20260513T210000
DTSTAMP:20260423T173758
CREATED:20251218T215036Z
LAST-MODIFIED:20251218T215036Z
UID:10000401-1778698800-1778706000@thecedarsproject.com
SUMMARY:Community Drum Circle
DESCRIPTION:The Oshkosh Rhythm Institute exists to promote well-being in the community through recreational music making.\nCommunity Drum Circle\nAll ages and skill levels welcome\nEvery Wednesday 7-9pm\nAt the Sundial in nice weather or\n803 Waugoo Ave Oshkosh WI
URL:https://thecedarsproject.com/event/community-drum-circle/2026-05-13/
LOCATION:Oshkosh Rhythm Institute\, 803 Waugoo Ave.\, Oshkosh\, WI\, 54901\, United States
CATEGORIES:Art and Culture
ATTACH;FMTTYPE=image/jpeg:https://thecedarsproject.com/wp-content/uploads/2025/12/ori.jpg
ORGANIZER;CN="Oshkosh Rhythm Institue":MAILTO:robinc@oshkoshrhythm.com
END:VEVENT
BEGIN:VEVENT
DTSTART;TZID=America/Chicago:20260520T190000
DTEND;TZID=America/Chicago:20260520T210000
DTSTAMP:20260423T173758
CREATED:20251218T215036Z
LAST-MODIFIED:20251218T215036Z
UID:10000402-1779303600-1779310800@thecedarsproject.com
SUMMARY:Community Drum Circle
DESCRIPTION:The Oshkosh Rhythm Institute exists to promote well-being in the community through recreational music making.\nCommunity Drum Circle\nAll ages and skill levels welcome\nEvery Wednesday 7-9pm\nAt the Sundial in nice weather or\n803 Waugoo Ave Oshkosh WI
URL:https://thecedarsproject.com/event/community-drum-circle/2026-05-20/
LOCATION:Oshkosh Rhythm Institute\, 803 Waugoo Ave.\, Oshkosh\, WI\, 54901\, United States
CATEGORIES:Art and Culture
ATTACH;FMTTYPE=image/jpeg:https://thecedarsproject.com/wp-content/uploads/2025/12/ori.jpg
ORGANIZER;CN="Oshkosh Rhythm Institue":MAILTO:robinc@oshkoshrhythm.com
END:VEVENT
BEGIN:VEVENT
DTSTART;TZID=America/Chicago:20260527T190000
DTEND;TZID=America/Chicago:20260527T210000
DTSTAMP:20260423T173758
CREATED:20251218T215036Z
LAST-MODIFIED:20251218T215036Z
UID:10000403-1779908400-1779915600@thecedarsproject.com
SUMMARY:Community Drum Circle
DESCRIPTION:The Oshkosh Rhythm Institute exists to promote well-being in the community through recreational music making.\nCommunity Drum Circle\nAll ages and skill levels welcome\nEvery Wednesday 7-9pm\nAt the Sundial in nice weather or\n803 Waugoo Ave Oshkosh WI
URL:https://thecedarsproject.com/event/community-drum-circle/2026-05-27/
LOCATION:Oshkosh Rhythm Institute\, 803 Waugoo Ave.\, Oshkosh\, WI\, 54901\, United States
CATEGORIES:Art and Culture
ATTACH;FMTTYPE=image/jpeg:https://thecedarsproject.com/wp-content/uploads/2025/12/ori.jpg
ORGANIZER;CN="Oshkosh Rhythm Institue":MAILTO:robinc@oshkoshrhythm.com
END:VEVENT
BEGIN:VEVENT
DTSTART;TZID=America/Chicago:20260603T190000
DTEND;TZID=America/Chicago:20260603T210000
DTSTAMP:20260423T173758
CREATED:20251218T215036Z
LAST-MODIFIED:20251218T215036Z
UID:10000404-1780513200-1780520400@thecedarsproject.com
SUMMARY:Community Drum Circle
DESCRIPTION:The Oshkosh Rhythm Institute exists to promote well-being in the community through recreational music making.\nCommunity Drum Circle\nAll ages and skill levels welcome\nEvery Wednesday 7-9pm\nAt the Sundial in nice weather or\n803 Waugoo Ave Oshkosh WI
URL:https://thecedarsproject.com/event/community-drum-circle/2026-06-03/
LOCATION:Oshkosh Rhythm Institute\, 803 Waugoo Ave.\, Oshkosh\, WI\, 54901\, United States
CATEGORIES:Art and Culture
ATTACH;FMTTYPE=image/jpeg:https://thecedarsproject.com/wp-content/uploads/2025/12/ori.jpg
ORGANIZER;CN="Oshkosh Rhythm Institue":MAILTO:robinc@oshkoshrhythm.com
END:VEVENT
BEGIN:VEVENT
DTSTART;TZID=America/Chicago:20260610T190000
DTEND;TZID=America/Chicago:20260610T210000
DTSTAMP:20260423T173758
CREATED:20251218T215036Z
LAST-MODIFIED:20251218T215036Z
UID:10000405-1781118000-1781125200@thecedarsproject.com
SUMMARY:Community Drum Circle
DESCRIPTION:The Oshkosh Rhythm Institute exists to promote well-being in the community through recreational music making.\nCommunity Drum Circle\nAll ages and skill levels welcome\nEvery Wednesday 7-9pm\nAt the Sundial in nice weather or\n803 Waugoo Ave Oshkosh WI
URL:https://thecedarsproject.com/event/community-drum-circle/2026-06-10/
LOCATION:Oshkosh Rhythm Institute\, 803 Waugoo Ave.\, Oshkosh\, WI\, 54901\, United States
CATEGORIES:Art and Culture
ATTACH;FMTTYPE=image/jpeg:https://thecedarsproject.com/wp-content/uploads/2025/12/ori.jpg
ORGANIZER;CN="Oshkosh Rhythm Institue":MAILTO:robinc@oshkoshrhythm.com
END:VEVENT
BEGIN:VEVENT
DTSTART;TZID=America/Chicago:20260617T190000
DTEND;TZID=America/Chicago:20260617T210000
DTSTAMP:20260423T173758
CREATED:20251218T215036Z
LAST-MODIFIED:20251218T215036Z
UID:10000406-1781722800-1781730000@thecedarsproject.com
SUMMARY:Community Drum Circle
DESCRIPTION:The Oshkosh Rhythm Institute exists to promote well-being in the community through recreational music making.\nCommunity Drum Circle\nAll ages and skill levels welcome\nEvery Wednesday 7-9pm\nAt the Sundial in nice weather or\n803 Waugoo Ave Oshkosh WI
URL:https://thecedarsproject.com/event/community-drum-circle/2026-06-17/
LOCATION:Oshkosh Rhythm Institute\, 803 Waugoo Ave.\, Oshkosh\, WI\, 54901\, United States
CATEGORIES:Art and Culture
ATTACH;FMTTYPE=image/jpeg:https://thecedarsproject.com/wp-content/uploads/2025/12/ori.jpg
ORGANIZER;CN="Oshkosh Rhythm Institue":MAILTO:robinc@oshkoshrhythm.com
END:VEVENT
BEGIN:VEVENT
DTSTART;TZID=America/Chicago:20260624T190000
DTEND;TZID=America/Chicago:20260624T210000
DTSTAMP:20260423T173758
CREATED:20251218T215036Z
LAST-MODIFIED:20251218T215036Z
UID:10000407-1782327600-1782334800@thecedarsproject.com
SUMMARY:Community Drum Circle
DESCRIPTION:The Oshkosh Rhythm Institute exists to promote well-being in the community through recreational music making.\nCommunity Drum Circle\nAll ages and skill levels welcome\nEvery Wednesday 7-9pm\nAt the Sundial in nice weather or\n803 Waugoo Ave Oshkosh WI
URL:https://thecedarsproject.com/event/community-drum-circle/2026-06-24/
LOCATION:Oshkosh Rhythm Institute\, 803 Waugoo Ave.\, Oshkosh\, WI\, 54901\, United States
CATEGORIES:Art and Culture
ATTACH;FMTTYPE=image/jpeg:https://thecedarsproject.com/wp-content/uploads/2025/12/ori.jpg
ORGANIZER;CN="Oshkosh Rhythm Institue":MAILTO:robinc@oshkoshrhythm.com
END:VEVENT
BEGIN:VEVENT
DTSTART;TZID=America/Chicago:20260701T190000
DTEND;TZID=America/Chicago:20260701T210000
DTSTAMP:20260423T173758
CREATED:20251218T215036Z
LAST-MODIFIED:20251218T215036Z
UID:10000408-1782932400-1782939600@thecedarsproject.com
SUMMARY:Community Drum Circle
DESCRIPTION:The Oshkosh Rhythm Institute exists to promote well-being in the community through recreational music making.\nCommunity Drum Circle\nAll ages and skill levels welcome\nEvery Wednesday 7-9pm\nAt the Sundial in nice weather or\n803 Waugoo Ave Oshkosh WI
URL:https://thecedarsproject.com/event/community-drum-circle/2026-07-01/
LOCATION:Oshkosh Rhythm Institute\, 803 Waugoo Ave.\, Oshkosh\, WI\, 54901\, United States
CATEGORIES:Art and Culture
ATTACH;FMTTYPE=image/jpeg:https://thecedarsproject.com/wp-content/uploads/2025/12/ori.jpg
ORGANIZER;CN="Oshkosh Rhythm Institue":MAILTO:robinc@oshkoshrhythm.com
END:VEVENT
BEGIN:VEVENT
DTSTART;TZID=America/Chicago:20260708T190000
DTEND;TZID=America/Chicago:20260708T210000
DTSTAMP:20260423T173758
CREATED:20251218T215036Z
LAST-MODIFIED:20251218T215036Z
UID:10000409-1783537200-1783544400@thecedarsproject.com
SUMMARY:Community Drum Circle
DESCRIPTION:The Oshkosh Rhythm Institute exists to promote well-being in the community through recreational music making.\nCommunity Drum Circle\nAll ages and skill levels welcome\nEvery Wednesday 7-9pm\nAt the Sundial in nice weather or\n803 Waugoo Ave Oshkosh WI
URL:https://thecedarsproject.com/event/community-drum-circle/2026-07-08/
LOCATION:Oshkosh Rhythm Institute\, 803 Waugoo Ave.\, Oshkosh\, WI\, 54901\, United States
CATEGORIES:Art and Culture
ATTACH;FMTTYPE=image/jpeg:https://thecedarsproject.com/wp-content/uploads/2025/12/ori.jpg
ORGANIZER;CN="Oshkosh Rhythm Institue":MAILTO:robinc@oshkoshrhythm.com
END:VEVENT
BEGIN:VEVENT
DTSTART;TZID=America/Chicago:20260715T190000
DTEND;TZID=America/Chicago:20260715T210000
DTSTAMP:20260423T173758
CREATED:20251218T215036Z
LAST-MODIFIED:20251218T215036Z
UID:10000410-1784142000-1784149200@thecedarsproject.com
SUMMARY:Community Drum Circle
DESCRIPTION:The Oshkosh Rhythm Institute exists to promote well-being in the community through recreational music making.\nCommunity Drum Circle\nAll ages and skill levels welcome\nEvery Wednesday 7-9pm\nAt the Sundial in nice weather or\n803 Waugoo Ave Oshkosh WI
URL:https://thecedarsproject.com/event/community-drum-circle/2026-07-15/
LOCATION:Oshkosh Rhythm Institute\, 803 Waugoo Ave.\, Oshkosh\, WI\, 54901\, United States
CATEGORIES:Art and Culture
ATTACH;FMTTYPE=image/jpeg:https://thecedarsproject.com/wp-content/uploads/2025/12/ori.jpg
ORGANIZER;CN="Oshkosh Rhythm Institue":MAILTO:robinc@oshkoshrhythm.com
END:VEVENT
BEGIN:VEVENT
DTSTART;TZID=America/Chicago:20260722T190000
DTEND;TZID=America/Chicago:20260722T210000
DTSTAMP:20260423T173758
CREATED:20251218T215036Z
LAST-MODIFIED:20251218T215036Z
UID:10000411-1784746800-1784754000@thecedarsproject.com
SUMMARY:Community Drum Circle
DESCRIPTION:The Oshkosh Rhythm Institute exists to promote well-being in the community through recreational music making.\nCommunity Drum Circle\nAll ages and skill levels welcome\nEvery Wednesday 7-9pm\nAt the Sundial in nice weather or\n803 Waugoo Ave Oshkosh WI
URL:https://thecedarsproject.com/event/community-drum-circle/2026-07-22/
LOCATION:Oshkosh Rhythm Institute\, 803 Waugoo Ave.\, Oshkosh\, WI\, 54901\, United States
CATEGORIES:Art and Culture
ATTACH;FMTTYPE=image/jpeg:https://thecedarsproject.com/wp-content/uploads/2025/12/ori.jpg
ORGANIZER;CN="Oshkosh Rhythm Institue":MAILTO:robinc@oshkoshrhythm.com
END:VEVENT
BEGIN:VEVENT
DTSTART;TZID=America/Chicago:20260729T190000
DTEND;TZID=America/Chicago:20260729T210000
DTSTAMP:20260423T173758
CREATED:20251218T215036Z
LAST-MODIFIED:20251218T215036Z
UID:10000412-1785351600-1785358800@thecedarsproject.com
SUMMARY:Community Drum Circle
DESCRIPTION:The Oshkosh Rhythm Institute exists to promote well-being in the community through recreational music making.\nCommunity Drum Circle\nAll ages and skill levels welcome\nEvery Wednesday 7-9pm\nAt the Sundial in nice weather or\n803 Waugoo Ave Oshkosh WI
URL:https://thecedarsproject.com/event/community-drum-circle/2026-07-29/
LOCATION:Oshkosh Rhythm Institute\, 803 Waugoo Ave.\, Oshkosh\, WI\, 54901\, United States
CATEGORIES:Art and Culture
ATTACH;FMTTYPE=image/jpeg:https://thecedarsproject.com/wp-content/uploads/2025/12/ori.jpg
ORGANIZER;CN="Oshkosh Rhythm Institue":MAILTO:robinc@oshkoshrhythm.com
END:VEVENT
BEGIN:VEVENT
DTSTART;TZID=America/Chicago:20260805T190000
DTEND;TZID=America/Chicago:20260805T210000
DTSTAMP:20260423T173758
CREATED:20251218T215036Z
LAST-MODIFIED:20251218T215036Z
UID:10000413-1785956400-1785963600@thecedarsproject.com
SUMMARY:Community Drum Circle
DESCRIPTION:The Oshkosh Rhythm Institute exists to promote well-being in the community through recreational music making.\nCommunity Drum Circle\nAll ages and skill levels welcome\nEvery Wednesday 7-9pm\nAt the Sundial in nice weather or\n803 Waugoo Ave Oshkosh WI
URL:https://thecedarsproject.com/event/community-drum-circle/2026-08-05/
LOCATION:Oshkosh Rhythm Institute\, 803 Waugoo Ave.\, Oshkosh\, WI\, 54901\, United States
CATEGORIES:Art and Culture
ATTACH;FMTTYPE=image/jpeg:https://thecedarsproject.com/wp-content/uploads/2025/12/ori.jpg
ORGANIZER;CN="Oshkosh Rhythm Institue":MAILTO:robinc@oshkoshrhythm.com
END:VEVENT
BEGIN:VEVENT
DTSTART;TZID=America/Chicago:20260812T190000
DTEND;TZID=America/Chicago:20260812T210000
DTSTAMP:20260423T173758
CREATED:20251218T215036Z
LAST-MODIFIED:20251218T215036Z
UID:10000414-1786561200-1786568400@thecedarsproject.com
SUMMARY:Community Drum Circle
DESCRIPTION:The Oshkosh Rhythm Institute exists to promote well-being in the community through recreational music making.\nCommunity Drum Circle\nAll ages and skill levels welcome\nEvery Wednesday 7-9pm\nAt the Sundial in nice weather or\n803 Waugoo Ave Oshkosh WI
URL:https://thecedarsproject.com/event/community-drum-circle/2026-08-12/
LOCATION:Oshkosh Rhythm Institute\, 803 Waugoo Ave.\, Oshkosh\, WI\, 54901\, United States
CATEGORIES:Art and Culture
ATTACH;FMTTYPE=image/jpeg:https://thecedarsproject.com/wp-content/uploads/2025/12/ori.jpg
ORGANIZER;CN="Oshkosh Rhythm Institue":MAILTO:robinc@oshkoshrhythm.com
END:VEVENT
BEGIN:VEVENT
DTSTART;TZID=America/Chicago:20260819T190000
DTEND;TZID=America/Chicago:20260819T210000
DTSTAMP:20260423T173758
CREATED:20251218T215036Z
LAST-MODIFIED:20251218T215036Z
UID:10000415-1787166000-1787173200@thecedarsproject.com
SUMMARY:Community Drum Circle
DESCRIPTION:The Oshkosh Rhythm Institute exists to promote well-being in the community through recreational music making.\nCommunity Drum Circle\nAll ages and skill levels welcome\nEvery Wednesday 7-9pm\nAt the Sundial in nice weather or\n803 Waugoo Ave Oshkosh WI
URL:https://thecedarsproject.com/event/community-drum-circle/2026-08-19/
LOCATION:Oshkosh Rhythm Institute\, 803 Waugoo Ave.\, Oshkosh\, WI\, 54901\, United States
CATEGORIES:Art and Culture
ATTACH;FMTTYPE=image/jpeg:https://thecedarsproject.com/wp-content/uploads/2025/12/ori.jpg
ORGANIZER;CN="Oshkosh Rhythm Institue":MAILTO:robinc@oshkoshrhythm.com
END:VEVENT
BEGIN:VEVENT
DTSTART;TZID=America/Chicago:20260826T190000
DTEND;TZID=America/Chicago:20260826T210000
DTSTAMP:20260423T173758
CREATED:20251218T215036Z
LAST-MODIFIED:20251218T215036Z
UID:10000416-1787770800-1787778000@thecedarsproject.com
SUMMARY:Community Drum Circle
DESCRIPTION:The Oshkosh Rhythm Institute exists to promote well-being in the community through recreational music making.\nCommunity Drum Circle\nAll ages and skill levels welcome\nEvery Wednesday 7-9pm\nAt the Sundial in nice weather or\n803 Waugoo Ave Oshkosh WI
URL:https://thecedarsproject.com/event/community-drum-circle/2026-08-26/
LOCATION:Oshkosh Rhythm Institute\, 803 Waugoo Ave.\, Oshkosh\, WI\, 54901\, United States
CATEGORIES:Art and Culture
ATTACH;FMTTYPE=image/jpeg:https://thecedarsproject.com/wp-content/uploads/2025/12/ori.jpg
ORGANIZER;CN="Oshkosh Rhythm Institue":MAILTO:robinc@oshkoshrhythm.com
END:VEVENT
BEGIN:VEVENT
DTSTART;TZID=America/Chicago:20260902T190000
DTEND;TZID=America/Chicago:20260902T210000
DTSTAMP:20260423T173759
CREATED:20251218T215036Z
LAST-MODIFIED:20251218T215036Z
UID:10000417-1788375600-1788382800@thecedarsproject.com
SUMMARY:Community Drum Circle
DESCRIPTION:The Oshkosh Rhythm Institute exists to promote well-being in the community through recreational music making.\nCommunity Drum Circle\nAll ages and skill levels welcome\nEvery Wednesday 7-9pm\nAt the Sundial in nice weather or\n803 Waugoo Ave Oshkosh WI
URL:https://thecedarsproject.com/event/community-drum-circle/2026-09-02/
LOCATION:Oshkosh Rhythm Institute\, 803 Waugoo Ave.\, Oshkosh\, WI\, 54901\, United States
CATEGORIES:Art and Culture
ATTACH;FMTTYPE=image/jpeg:https://thecedarsproject.com/wp-content/uploads/2025/12/ori.jpg
ORGANIZER;CN="Oshkosh Rhythm Institue":MAILTO:robinc@oshkoshrhythm.com
END:VEVENT
BEGIN:VEVENT
DTSTART;TZID=America/Chicago:20260909T190000
DTEND;TZID=America/Chicago:20260909T210000
DTSTAMP:20260423T173759
CREATED:20251218T215036Z
LAST-MODIFIED:20251218T215036Z
UID:10000418-1788980400-1788987600@thecedarsproject.com
SUMMARY:Community Drum Circle
DESCRIPTION:The Oshkosh Rhythm Institute exists to promote well-being in the community through recreational music making.\nCommunity Drum Circle\nAll ages and skill levels welcome\nEvery Wednesday 7-9pm\nAt the Sundial in nice weather or\n803 Waugoo Ave Oshkosh WI
URL:https://thecedarsproject.com/event/community-drum-circle/2026-09-09/
LOCATION:Oshkosh Rhythm Institute\, 803 Waugoo Ave.\, Oshkosh\, WI\, 54901\, United States
CATEGORIES:Art and Culture
ATTACH;FMTTYPE=image/jpeg:https://thecedarsproject.com/wp-content/uploads/2025/12/ori.jpg
ORGANIZER;CN="Oshkosh Rhythm Institue":MAILTO:robinc@oshkoshrhythm.com
END:VEVENT
BEGIN:VEVENT
DTSTART;TZID=America/Chicago:20260916T190000
DTEND;TZID=America/Chicago:20260916T210000
DTSTAMP:20260423T173759
CREATED:20251218T215036Z
LAST-MODIFIED:20251218T215036Z
UID:10000419-1789585200-1789592400@thecedarsproject.com
SUMMARY:Community Drum Circle
DESCRIPTION:The Oshkosh Rhythm Institute exists to promote well-being in the community through recreational music making.\nCommunity Drum Circle\nAll ages and skill levels welcome\nEvery Wednesday 7-9pm\nAt the Sundial in nice weather or\n803 Waugoo Ave Oshkosh WI
URL:https://thecedarsproject.com/event/community-drum-circle/2026-09-16/
LOCATION:Oshkosh Rhythm Institute\, 803 Waugoo Ave.\, Oshkosh\, WI\, 54901\, United States
CATEGORIES:Art and Culture
ATTACH;FMTTYPE=image/jpeg:https://thecedarsproject.com/wp-content/uploads/2025/12/ori.jpg
ORGANIZER;CN="Oshkosh Rhythm Institue":MAILTO:robinc@oshkoshrhythm.com
END:VEVENT
BEGIN:VEVENT
DTSTART;TZID=America/Chicago:20260923T190000
DTEND;TZID=America/Chicago:20260923T210000
DTSTAMP:20260423T173759
CREATED:20251218T215036Z
LAST-MODIFIED:20251218T215036Z
UID:10000420-1790190000-1790197200@thecedarsproject.com
SUMMARY:Community Drum Circle
DESCRIPTION:The Oshkosh Rhythm Institute exists to promote well-being in the community through recreational music making.\nCommunity Drum Circle\nAll ages and skill levels welcome\nEvery Wednesday 7-9pm\nAt the Sundial in nice weather or\n803 Waugoo Ave Oshkosh WI
URL:https://thecedarsproject.com/event/community-drum-circle/2026-09-23/
LOCATION:Oshkosh Rhythm Institute\, 803 Waugoo Ave.\, Oshkosh\, WI\, 54901\, United States
CATEGORIES:Art and Culture
ATTACH;FMTTYPE=image/jpeg:https://thecedarsproject.com/wp-content/uploads/2025/12/ori.jpg
ORGANIZER;CN="Oshkosh Rhythm Institue":MAILTO:robinc@oshkoshrhythm.com
END:VEVENT
BEGIN:VEVENT
DTSTART;TZID=America/Chicago:20260930T190000
DTEND;TZID=America/Chicago:20260930T210000
DTSTAMP:20260423T173759
CREATED:20251218T215036Z
LAST-MODIFIED:20251218T215036Z
UID:10000421-1790794800-1790802000@thecedarsproject.com
SUMMARY:Community Drum Circle
DESCRIPTION:The Oshkosh Rhythm Institute exists to promote well-being in the community through recreational music making.\nCommunity Drum Circle\nAll ages and skill levels welcome\nEvery Wednesday 7-9pm\nAt the Sundial in nice weather or\n803 Waugoo Ave Oshkosh WI
URL:https://thecedarsproject.com/event/community-drum-circle/2026-09-30/
LOCATION:Oshkosh Rhythm Institute\, 803 Waugoo Ave.\, Oshkosh\, WI\, 54901\, United States
CATEGORIES:Art and Culture
ATTACH;FMTTYPE=image/jpeg:https://thecedarsproject.com/wp-content/uploads/2025/12/ori.jpg
ORGANIZER;CN="Oshkosh Rhythm Institue":MAILTO:robinc@oshkoshrhythm.com
END:VEVENT
BEGIN:VEVENT
DTSTART;TZID=America/Chicago:20261007T190000
DTEND;TZID=America/Chicago:20261007T210000
DTSTAMP:20260423T173759
CREATED:20251218T215036Z
LAST-MODIFIED:20251218T215036Z
UID:10000422-1791399600-1791406800@thecedarsproject.com
SUMMARY:Community Drum Circle
DESCRIPTION:The Oshkosh Rhythm Institute exists to promote well-being in the community through recreational music making.\nCommunity Drum Circle\nAll ages and skill levels welcome\nEvery Wednesday 7-9pm\nAt the Sundial in nice weather or\n803 Waugoo Ave Oshkosh WI
URL:https://thecedarsproject.com/event/community-drum-circle/2026-10-07/
LOCATION:Oshkosh Rhythm Institute\, 803 Waugoo Ave.\, Oshkosh\, WI\, 54901\, United States
CATEGORIES:Art and Culture
ATTACH;FMTTYPE=image/jpeg:https://thecedarsproject.com/wp-content/uploads/2025/12/ori.jpg
ORGANIZER;CN="Oshkosh Rhythm Institue":MAILTO:robinc@oshkoshrhythm.com
END:VEVENT
BEGIN:VEVENT
DTSTART;TZID=America/Chicago:20261014T190000
DTEND;TZID=America/Chicago:20261014T210000
DTSTAMP:20260423T173759
CREATED:20251218T215036Z
LAST-MODIFIED:20251218T215036Z
UID:10000423-1792004400-1792011600@thecedarsproject.com
SUMMARY:Community Drum Circle
DESCRIPTION:The Oshkosh Rhythm Institute exists to promote well-being in the community through recreational music making.\nCommunity Drum Circle\nAll ages and skill levels welcome\nEvery Wednesday 7-9pm\nAt the Sundial in nice weather or\n803 Waugoo Ave Oshkosh WI
URL:https://thecedarsproject.com/event/community-drum-circle/2026-10-14/
LOCATION:Oshkosh Rhythm Institute\, 803 Waugoo Ave.\, Oshkosh\, WI\, 54901\, United States
CATEGORIES:Art and Culture
ATTACH;FMTTYPE=image/jpeg:https://thecedarsproject.com/wp-content/uploads/2025/12/ori.jpg
ORGANIZER;CN="Oshkosh Rhythm Institue":MAILTO:robinc@oshkoshrhythm.com
END:VEVENT
BEGIN:VEVENT
DTSTART;TZID=America/Chicago:20261021T190000
DTEND;TZID=America/Chicago:20261021T210000
DTSTAMP:20260423T173759
CREATED:20251218T215036Z
LAST-MODIFIED:20251218T215036Z
UID:10000424-1792609200-1792616400@thecedarsproject.com
SUMMARY:Community Drum Circle
DESCRIPTION:The Oshkosh Rhythm Institute exists to promote well-being in the community through recreational music making.\nCommunity Drum Circle\nAll ages and skill levels welcome\nEvery Wednesday 7-9pm\nAt the Sundial in nice weather or\n803 Waugoo Ave Oshkosh WI
URL:https://thecedarsproject.com/event/community-drum-circle/2026-10-21/
LOCATION:Oshkosh Rhythm Institute\, 803 Waugoo Ave.\, Oshkosh\, WI\, 54901\, United States
CATEGORIES:Art and Culture
ATTACH;FMTTYPE=image/jpeg:https://thecedarsproject.com/wp-content/uploads/2025/12/ori.jpg
ORGANIZER;CN="Oshkosh Rhythm Institue":MAILTO:robinc@oshkoshrhythm.com
END:VEVENT
BEGIN:VEVENT
DTSTART;TZID=America/Chicago:20261028T190000
DTEND;TZID=America/Chicago:20261028T210000
DTSTAMP:20260423T173759
CREATED:20251218T215036Z
LAST-MODIFIED:20251218T215036Z
UID:10000425-1793214000-1793221200@thecedarsproject.com
SUMMARY:Community Drum Circle
DESCRIPTION:The Oshkosh Rhythm Institute exists to promote well-being in the community through recreational music making.\nCommunity Drum Circle\nAll ages and skill levels welcome\nEvery Wednesday 7-9pm\nAt the Sundial in nice weather or\n803 Waugoo Ave Oshkosh WI
URL:https://thecedarsproject.com/event/community-drum-circle/2026-10-28/
LOCATION:Oshkosh Rhythm Institute\, 803 Waugoo Ave.\, Oshkosh\, WI\, 54901\, United States
CATEGORIES:Art and Culture
ATTACH;FMTTYPE=image/jpeg:https://thecedarsproject.com/wp-content/uploads/2025/12/ori.jpg
ORGANIZER;CN="Oshkosh Rhythm Institue":MAILTO:robinc@oshkoshrhythm.com
END:VEVENT
BEGIN:VEVENT
DTSTART;TZID=America/Chicago:20261104T190000
DTEND;TZID=America/Chicago:20261104T210000
DTSTAMP:20260423T173759
CREATED:20251218T215036Z
LAST-MODIFIED:20251218T215036Z
UID:10000426-1793818800-1793826000@thecedarsproject.com
SUMMARY:Community Drum Circle
DESCRIPTION:The Oshkosh Rhythm Institute exists to promote well-being in the community through recreational music making.\nCommunity Drum Circle\nAll ages and skill levels welcome\nEvery Wednesday 7-9pm\nAt the Sundial in nice weather or\n803 Waugoo Ave Oshkosh WI
URL:https://thecedarsproject.com/event/community-drum-circle/2026-11-04/
LOCATION:Oshkosh Rhythm Institute\, 803 Waugoo Ave.\, Oshkosh\, WI\, 54901\, United States
CATEGORIES:Art and Culture
ATTACH;FMTTYPE=image/jpeg:https://thecedarsproject.com/wp-content/uploads/2025/12/ori.jpg
ORGANIZER;CN="Oshkosh Rhythm Institue":MAILTO:robinc@oshkoshrhythm.com
END:VEVENT
BEGIN:VEVENT
DTSTART;TZID=America/Chicago:20261111T190000
DTEND;TZID=America/Chicago:20261111T210000
DTSTAMP:20260423T173759
CREATED:20251218T215036Z
LAST-MODIFIED:20251218T215036Z
UID:10000427-1794423600-1794430800@thecedarsproject.com
SUMMARY:Community Drum Circle
DESCRIPTION:The Oshkosh Rhythm Institute exists to promote well-being in the community through recreational music making.\nCommunity Drum Circle\nAll ages and skill levels welcome\nEvery Wednesday 7-9pm\nAt the Sundial in nice weather or\n803 Waugoo Ave Oshkosh WI
URL:https://thecedarsproject.com/event/community-drum-circle/2026-11-11/
LOCATION:Oshkosh Rhythm Institute\, 803 Waugoo Ave.\, Oshkosh\, WI\, 54901\, United States
CATEGORIES:Art and Culture
ATTACH;FMTTYPE=image/jpeg:https://thecedarsproject.com/wp-content/uploads/2025/12/ori.jpg
ORGANIZER;CN="Oshkosh Rhythm Institue":MAILTO:robinc@oshkoshrhythm.com
END:VEVENT
BEGIN:VEVENT
DTSTART;TZID=America/Chicago:20261118T190000
DTEND;TZID=America/Chicago:20261118T210000
DTSTAMP:20260423T173759
CREATED:20251218T215036Z
LAST-MODIFIED:20251218T215036Z
UID:10000428-1795028400-1795035600@thecedarsproject.com
SUMMARY:Community Drum Circle
DESCRIPTION:The Oshkosh Rhythm Institute exists to promote well-being in the community through recreational music making.\nCommunity Drum Circle\nAll ages and skill levels welcome\nEvery Wednesday 7-9pm\nAt the Sundial in nice weather or\n803 Waugoo Ave Oshkosh WI
URL:https://thecedarsproject.com/event/community-drum-circle/2026-11-18/
LOCATION:Oshkosh Rhythm Institute\, 803 Waugoo Ave.\, Oshkosh\, WI\, 54901\, United States
CATEGORIES:Art and Culture
ATTACH;FMTTYPE=image/jpeg:https://thecedarsproject.com/wp-content/uploads/2025/12/ori.jpg
ORGANIZER;CN="Oshkosh Rhythm Institue":MAILTO:robinc@oshkoshrhythm.com
END:VEVENT
END:VCALENDAR