BEGIN:VCALENDAR
VERSION:2.0
PRODID:-// - ECPv6.15.20//NONSGML v1.0//EN
CALSCALE:GREGORIAN
METHOD:PUBLISH
X-ORIGINAL-URL:https://thecedarsproject.com
X-WR-CALDESC:Events for 
REFRESH-INTERVAL;VALUE=DURATION:PT1H
X-Robots-Tag:noindex
X-PUBLISHED-TTL:PT1H
BEGIN:VTIMEZONE
TZID:America/Chicago
BEGIN:DAYLIGHT
TZOFFSETFROM:-0600
TZOFFSETTO:-0500
TZNAME:CDT
DTSTART:20250309T080000
END:DAYLIGHT
BEGIN:STANDARD
TZOFFSETFROM:-0500
TZOFFSETTO:-0600
TZNAME:CST
DTSTART:20251102T070000
END:STANDARD
BEGIN:DAYLIGHT
TZOFFSETFROM:-0600
TZOFFSETTO:-0500
TZNAME:CDT
DTSTART:20260308T080000
END:DAYLIGHT
BEGIN:STANDARD
TZOFFSETFROM:-0500
TZOFFSETTO:-0600
TZNAME:CST
DTSTART:20261101T070000
END:STANDARD
BEGIN:DAYLIGHT
TZOFFSETFROM:-0600
TZOFFSETTO:-0500
TZNAME:CDT
DTSTART:20270314T080000
END:DAYLIGHT
BEGIN:STANDARD
TZOFFSETFROM:-0500
TZOFFSETTO:-0600
TZNAME:CST
DTSTART:20271107T070000
END:STANDARD
END:VTIMEZONE
BEGIN:VEVENT
DTSTART;TZID=America/Chicago:20260422T190000
DTEND;TZID=America/Chicago:20260422T210000
DTSTAMP:20260423T190829
CREATED:20251218T215036Z
LAST-MODIFIED:20251218T215036Z
UID:10000398-1776884400-1776891600@thecedarsproject.com
SUMMARY:Community Drum Circle
DESCRIPTION:The Oshkosh Rhythm Institute exists to promote well-being in the community through recreational music making.\nCommunity Drum Circle\nAll ages and skill levels welcome\nEvery Wednesday 7-9pm\nAt the Sundial in nice weather or\n803 Waugoo Ave Oshkosh WI
URL:https://thecedarsproject.com/event/community-drum-circle/2026-04-22/
LOCATION:Oshkosh Rhythm Institute\, 803 Waugoo Ave.\, Oshkosh\, WI\, 54901\, United States
CATEGORIES:Art and Culture
ATTACH;FMTTYPE=image/jpeg:https://thecedarsproject.com/wp-content/uploads/2025/12/ori.jpg
ORGANIZER;CN="Oshkosh Rhythm Institue":MAILTO:robinc@oshkoshrhythm.com
END:VEVENT
BEGIN:VEVENT
DTSTART;TZID=America/Chicago:20260415T190000
DTEND;TZID=America/Chicago:20260415T210000
DTSTAMP:20260423T190829
CREATED:20251218T215036Z
LAST-MODIFIED:20251218T215036Z
UID:10000397-1776279600-1776286800@thecedarsproject.com
SUMMARY:Community Drum Circle
DESCRIPTION:The Oshkosh Rhythm Institute exists to promote well-being in the community through recreational music making.\nCommunity Drum Circle\nAll ages and skill levels welcome\nEvery Wednesday 7-9pm\nAt the Sundial in nice weather or\n803 Waugoo Ave Oshkosh WI
URL:https://thecedarsproject.com/event/community-drum-circle/2026-04-15/
LOCATION:Oshkosh Rhythm Institute\, 803 Waugoo Ave.\, Oshkosh\, WI\, 54901\, United States
CATEGORIES:Art and Culture
ATTACH;FMTTYPE=image/jpeg:https://thecedarsproject.com/wp-content/uploads/2025/12/ori.jpg
ORGANIZER;CN="Oshkosh Rhythm Institue":MAILTO:robinc@oshkoshrhythm.com
END:VEVENT
BEGIN:VEVENT
DTSTART;TZID=America/Chicago:20260408T190000
DTEND;TZID=America/Chicago:20260408T210000
DTSTAMP:20260423T190829
CREATED:20251218T215036Z
LAST-MODIFIED:20251218T215036Z
UID:10000396-1775674800-1775682000@thecedarsproject.com
SUMMARY:Community Drum Circle
DESCRIPTION:The Oshkosh Rhythm Institute exists to promote well-being in the community through recreational music making.\nCommunity Drum Circle\nAll ages and skill levels welcome\nEvery Wednesday 7-9pm\nAt the Sundial in nice weather or\n803 Waugoo Ave Oshkosh WI
URL:https://thecedarsproject.com/event/community-drum-circle/2026-04-08/
LOCATION:Oshkosh Rhythm Institute\, 803 Waugoo Ave.\, Oshkosh\, WI\, 54901\, United States
CATEGORIES:Art and Culture
ATTACH;FMTTYPE=image/jpeg:https://thecedarsproject.com/wp-content/uploads/2025/12/ori.jpg
ORGANIZER;CN="Oshkosh Rhythm Institue":MAILTO:robinc@oshkoshrhythm.com
END:VEVENT
BEGIN:VEVENT
DTSTART;TZID=America/Chicago:20260401T190000
DTEND;TZID=America/Chicago:20260401T210000
DTSTAMP:20260423T190829
CREATED:20251218T215036Z
LAST-MODIFIED:20251218T215036Z
UID:10000395-1775070000-1775077200@thecedarsproject.com
SUMMARY:Community Drum Circle
DESCRIPTION:The Oshkosh Rhythm Institute exists to promote well-being in the community through recreational music making.\nCommunity Drum Circle\nAll ages and skill levels welcome\nEvery Wednesday 7-9pm\nAt the Sundial in nice weather or\n803 Waugoo Ave Oshkosh WI
URL:https://thecedarsproject.com/event/community-drum-circle/2026-04-01/
LOCATION:Oshkosh Rhythm Institute\, 803 Waugoo Ave.\, Oshkosh\, WI\, 54901\, United States
CATEGORIES:Art and Culture
ATTACH;FMTTYPE=image/jpeg:https://thecedarsproject.com/wp-content/uploads/2025/12/ori.jpg
ORGANIZER;CN="Oshkosh Rhythm Institue":MAILTO:robinc@oshkoshrhythm.com
END:VEVENT
BEGIN:VEVENT
DTSTART;TZID=America/Chicago:20260325T190000
DTEND;TZID=America/Chicago:20260325T210000
DTSTAMP:20260423T190829
CREATED:20251218T215036Z
LAST-MODIFIED:20251218T215036Z
UID:10000394-1774465200-1774472400@thecedarsproject.com
SUMMARY:Community Drum Circle
DESCRIPTION:The Oshkosh Rhythm Institute exists to promote well-being in the community through recreational music making.\nCommunity Drum Circle\nAll ages and skill levels welcome\nEvery Wednesday 7-9pm\nAt the Sundial in nice weather or\n803 Waugoo Ave Oshkosh WI
URL:https://thecedarsproject.com/event/community-drum-circle/2026-03-25/
LOCATION:Oshkosh Rhythm Institute\, 803 Waugoo Ave.\, Oshkosh\, WI\, 54901\, United States
CATEGORIES:Art and Culture
ATTACH;FMTTYPE=image/jpeg:https://thecedarsproject.com/wp-content/uploads/2025/12/ori.jpg
ORGANIZER;CN="Oshkosh Rhythm Institue":MAILTO:robinc@oshkoshrhythm.com
END:VEVENT
BEGIN:VEVENT
DTSTART;TZID=America/Chicago:20260318T190000
DTEND;TZID=America/Chicago:20260318T210000
DTSTAMP:20260423T190829
CREATED:20251218T215036Z
LAST-MODIFIED:20251218T215036Z
UID:10000393-1773860400-1773867600@thecedarsproject.com
SUMMARY:Community Drum Circle
DESCRIPTION:The Oshkosh Rhythm Institute exists to promote well-being in the community through recreational music making.\nCommunity Drum Circle\nAll ages and skill levels welcome\nEvery Wednesday 7-9pm\nAt the Sundial in nice weather or\n803 Waugoo Ave Oshkosh WI
URL:https://thecedarsproject.com/event/community-drum-circle/2026-03-18/
LOCATION:Oshkosh Rhythm Institute\, 803 Waugoo Ave.\, Oshkosh\, WI\, 54901\, United States
CATEGORIES:Art and Culture
ATTACH;FMTTYPE=image/jpeg:https://thecedarsproject.com/wp-content/uploads/2025/12/ori.jpg
ORGANIZER;CN="Oshkosh Rhythm Institue":MAILTO:robinc@oshkoshrhythm.com
END:VEVENT
BEGIN:VEVENT
DTSTART;TZID=America/Chicago:20260313T183000
DTEND;TZID=America/Chicago:20260313T200000
DTSTAMP:20260423T190829
CREATED:20260209T180607Z
LAST-MODIFIED:20260209T180607Z
UID:10001550-1773426600-1773432000@thecedarsproject.com
SUMMARY:Kirtan! Brilliant Bliss Mantra Music Journey
DESCRIPTION:When we sing in harmony together it just plain feels GOOD! AND… it creates a unified field of purpose\, power\, and love that amplifies our connection and collective presence. Come raise your voices in song with us! \nSinging together helps! It helps to give emotions a safe channel for release\, it helps to uplift our tired spirits and renew our souls\, it opens the heart and calms the mind\, it creates a deeper sense of belonging and unified connection\, it brings inner-harmony. Come sing with us! We need this!! \nSACRED SOUND MEDICINE FOR HEART AND SOUL ~ SING . LISTEN . BREATHE . CONNECT . BE .\nThese gatherings of singing ancient mantras + conscious lyrics are heart + soul medicine that support us now more than ever. Let’s GO! We need this!!\nYou don’t have to be a singer to join us … the collective voice creates a brilliantly beautiful sound that heals the heart and uplifts the spirit! Come! \nAbout Our CommUNITY Mantra Music Journeys\nDid you know that singing in community can increase inner-peace\, uplift your mind\, open your heart + leave you feeling more connected\, centered\, and alive? \nJoin our Family Band — Savi\, Mark\, Deann\, Denise\, Eliana + soul family friends — for an evening of Brilliant Bliss: a participatory\, co-creative music + sound healing journey. \nKarli from the amazing local duo\, Natural Satellite\, will be joining us on cello.
URL:https://thecedarsproject.com/event/kirtan-brilliant-bliss-mantra-music-journey-2/
LOCATION:Being Collective\, 109 S Appleton St\, Appleton\, WI\, 54911\, United States
CATEGORIES:Art and Culture,Live Music,Performance
ATTACH;FMTTYPE=image/png:https://thecedarsproject.com/wp-content/uploads/2026/02/Screenshot-2026-02-06-at-10.04.20-AM.png
END:VEVENT
BEGIN:VEVENT
DTSTART;TZID=America/Chicago:20260311T190000
DTEND;TZID=America/Chicago:20260311T210000
DTSTAMP:20260423T190829
CREATED:20251218T215036Z
LAST-MODIFIED:20251218T215036Z
UID:10000392-1773255600-1773262800@thecedarsproject.com
SUMMARY:Community Drum Circle
DESCRIPTION:The Oshkosh Rhythm Institute exists to promote well-being in the community through recreational music making.\nCommunity Drum Circle\nAll ages and skill levels welcome\nEvery Wednesday 7-9pm\nAt the Sundial in nice weather or\n803 Waugoo Ave Oshkosh WI
URL:https://thecedarsproject.com/event/community-drum-circle/2026-03-11/
LOCATION:Oshkosh Rhythm Institute\, 803 Waugoo Ave.\, Oshkosh\, WI\, 54901\, United States
CATEGORIES:Art and Culture
ATTACH;FMTTYPE=image/jpeg:https://thecedarsproject.com/wp-content/uploads/2025/12/ori.jpg
ORGANIZER;CN="Oshkosh Rhythm Institue":MAILTO:robinc@oshkoshrhythm.com
END:VEVENT
BEGIN:VEVENT
DTSTART;TZID=America/Chicago:20260304T190000
DTEND;TZID=America/Chicago:20260304T210000
DTSTAMP:20260423T190829
CREATED:20251218T215036Z
LAST-MODIFIED:20251218T215036Z
UID:10000391-1772650800-1772658000@thecedarsproject.com
SUMMARY:Community Drum Circle
DESCRIPTION:The Oshkosh Rhythm Institute exists to promote well-being in the community through recreational music making.\nCommunity Drum Circle\nAll ages and skill levels welcome\nEvery Wednesday 7-9pm\nAt the Sundial in nice weather or\n803 Waugoo Ave Oshkosh WI
URL:https://thecedarsproject.com/event/community-drum-circle/2026-03-04/
LOCATION:Oshkosh Rhythm Institute\, 803 Waugoo Ave.\, Oshkosh\, WI\, 54901\, United States
CATEGORIES:Art and Culture
ATTACH;FMTTYPE=image/jpeg:https://thecedarsproject.com/wp-content/uploads/2025/12/ori.jpg
ORGANIZER;CN="Oshkosh Rhythm Institue":MAILTO:robinc@oshkoshrhythm.com
END:VEVENT
BEGIN:VEVENT
DTSTART;TZID=America/Chicago:20260225T190000
DTEND;TZID=America/Chicago:20260225T210000
DTSTAMP:20260423T190829
CREATED:20251218T215036Z
LAST-MODIFIED:20251218T215036Z
UID:10000390-1772046000-1772053200@thecedarsproject.com
SUMMARY:Community Drum Circle
DESCRIPTION:The Oshkosh Rhythm Institute exists to promote well-being in the community through recreational music making.\nCommunity Drum Circle\nAll ages and skill levels welcome\nEvery Wednesday 7-9pm\nAt the Sundial in nice weather or\n803 Waugoo Ave Oshkosh WI
URL:https://thecedarsproject.com/event/community-drum-circle/2026-02-25/
LOCATION:Oshkosh Rhythm Institute\, 803 Waugoo Ave.\, Oshkosh\, WI\, 54901\, United States
CATEGORIES:Art and Culture
ATTACH;FMTTYPE=image/jpeg:https://thecedarsproject.com/wp-content/uploads/2025/12/ori.jpg
ORGANIZER;CN="Oshkosh Rhythm Institue":MAILTO:robinc@oshkoshrhythm.com
END:VEVENT
BEGIN:VEVENT
DTSTART;TZID=America/Chicago:20260218T190000
DTEND;TZID=America/Chicago:20260218T210000
DTSTAMP:20260423T190829
CREATED:20251218T215036Z
LAST-MODIFIED:20251218T215036Z
UID:10000389-1771441200-1771448400@thecedarsproject.com
SUMMARY:Community Drum Circle
DESCRIPTION:The Oshkosh Rhythm Institute exists to promote well-being in the community through recreational music making.\nCommunity Drum Circle\nAll ages and skill levels welcome\nEvery Wednesday 7-9pm\nAt the Sundial in nice weather or\n803 Waugoo Ave Oshkosh WI
URL:https://thecedarsproject.com/event/community-drum-circle/2026-02-18/
LOCATION:Oshkosh Rhythm Institute\, 803 Waugoo Ave.\, Oshkosh\, WI\, 54901\, United States
CATEGORIES:Art and Culture
ATTACH;FMTTYPE=image/jpeg:https://thecedarsproject.com/wp-content/uploads/2025/12/ori.jpg
ORGANIZER;CN="Oshkosh Rhythm Institue":MAILTO:robinc@oshkoshrhythm.com
END:VEVENT
BEGIN:VEVENT
DTSTART;TZID=America/Chicago:20260211T190000
DTEND;TZID=America/Chicago:20260211T210000
DTSTAMP:20260423T190829
CREATED:20251218T215036Z
LAST-MODIFIED:20251218T215036Z
UID:10000388-1770836400-1770843600@thecedarsproject.com
SUMMARY:Community Drum Circle
DESCRIPTION:The Oshkosh Rhythm Institute exists to promote well-being in the community through recreational music making.\nCommunity Drum Circle\nAll ages and skill levels welcome\nEvery Wednesday 7-9pm\nAt the Sundial in nice weather or\n803 Waugoo Ave Oshkosh WI
URL:https://thecedarsproject.com/event/community-drum-circle/2026-02-11/
LOCATION:Oshkosh Rhythm Institute\, 803 Waugoo Ave.\, Oshkosh\, WI\, 54901\, United States
CATEGORIES:Art and Culture
ATTACH;FMTTYPE=image/jpeg:https://thecedarsproject.com/wp-content/uploads/2025/12/ori.jpg
ORGANIZER;CN="Oshkosh Rhythm Institue":MAILTO:robinc@oshkoshrhythm.com
END:VEVENT
BEGIN:VEVENT
DTSTART;TZID=America/Chicago:20260206T183000
DTEND;TZID=America/Chicago:20260206T200000
DTSTAMP:20260423T190829
CREATED:20260121T151120Z
LAST-MODIFIED:20260121T151120Z
UID:10001548-1770402600-1770408000@thecedarsproject.com
SUMMARY:Kirtan! Brilliant Bliss Mantra Music Journey
DESCRIPTION:Singing uplifts the spirit\, opens the heart\, calms the mind\, and instills connection and inner-harmony. Join the kirtan circle and experience it with us! \nSACRED SOUND MEDICINE FOR HEART AND SOUL ~ SING . LISTEN . BREATHE . CONNECT . BE .\nDid you know that singing in community can increase inner-peace\, uplift your mind\, open your heart + leave you feeling more connected\, centered\, and alive? \nJoin our Family Band — Savi\, Mark\, Deann\, Denise\, Eliana + soul family friends — for an evening of Brilliant Bliss: a participatory\, co-creative music + sound healing journey. \nKarli from Natural Satellite will be joining us on cello. \nCome sing with us\, rock your body\, dance if the mood arises\, and bask in the ocean of sacred sounds and heart connection with soul family. \nNot a singer? No problem! Come and immerse in the sound current and BE.
URL:https://thecedarsproject.com/event/kirtan-brilliant-bliss-mantra-music-journey/
LOCATION:Being Collective\, 109 S Appleton St\, Appleton\, WI\, 54911\, United States
CATEGORIES:Art and Culture,Live Music
ATTACH;FMTTYPE=image/png:https://thecedarsproject.com/wp-content/uploads/2026/01/Screenshot-2026-01-05-at-9.29.46-PM.png
END:VEVENT
BEGIN:VEVENT
DTSTART;TZID=America/Chicago:20260204T190000
DTEND;TZID=America/Chicago:20260204T210000
DTSTAMP:20260423T190829
CREATED:20251218T215036Z
LAST-MODIFIED:20251218T215036Z
UID:10000387-1770231600-1770238800@thecedarsproject.com
SUMMARY:Community Drum Circle
DESCRIPTION:The Oshkosh Rhythm Institute exists to promote well-being in the community through recreational music making.\nCommunity Drum Circle\nAll ages and skill levels welcome\nEvery Wednesday 7-9pm\nAt the Sundial in nice weather or\n803 Waugoo Ave Oshkosh WI
URL:https://thecedarsproject.com/event/community-drum-circle/2026-02-04/
LOCATION:Oshkosh Rhythm Institute\, 803 Waugoo Ave.\, Oshkosh\, WI\, 54901\, United States
CATEGORIES:Art and Culture
ATTACH;FMTTYPE=image/jpeg:https://thecedarsproject.com/wp-content/uploads/2025/12/ori.jpg
ORGANIZER;CN="Oshkosh Rhythm Institue":MAILTO:robinc@oshkoshrhythm.com
END:VEVENT
BEGIN:VEVENT
DTSTART;TZID=America/Chicago:20260131T190000
DTEND;TZID=America/Chicago:20260131T203000
DTSTAMP:20260423T190829
CREATED:20260121T152629Z
LAST-MODIFIED:20260121T152629Z
UID:10001549-1769886000-1769891400@thecedarsproject.com
SUMMARY:Go With The Flow | Ecstatic Dance Experience
DESCRIPTION:Ecstatic Dance Experiences at Being Collective … \nIntentional sound and movement alchemy for embodied transformation! \nPre-paid Registration Appreciated. \nThis month’s theme: Go With The Flow \nGuest DJ: Desirae \ndon’t take yourself too seriously \nhave FUN \nlike water \njourney \nloosen up \nbe yourself \nif you are nervous or uncomfortable you probably aren’t the only one so why not join in \nGuest DJ: Desirae
URL:https://thecedarsproject.com/event/go-with-the-flow-ecstatic-dance-experience/
LOCATION:Being Collective\, 109 S Appleton St\, Appleton\, WI\, 54911\, United States
CATEGORIES:Art and Culture
ATTACH;FMTTYPE=image/png:https://thecedarsproject.com/wp-content/uploads/2026/01/Screenshot-2025-05-13-at-2.46.00-PM.png
END:VEVENT
BEGIN:VEVENT
DTSTART;TZID=America/Chicago:20260128T190000
DTEND;TZID=America/Chicago:20260128T210000
DTSTAMP:20260423T190829
CREATED:20251218T215036Z
LAST-MODIFIED:20251218T215036Z
UID:10000386-1769626800-1769634000@thecedarsproject.com
SUMMARY:Community Drum Circle
DESCRIPTION:The Oshkosh Rhythm Institute exists to promote well-being in the community through recreational music making.\nCommunity Drum Circle\nAll ages and skill levels welcome\nEvery Wednesday 7-9pm\nAt the Sundial in nice weather or\n803 Waugoo Ave Oshkosh WI
URL:https://thecedarsproject.com/event/community-drum-circle/2026-01-28/
LOCATION:Oshkosh Rhythm Institute\, 803 Waugoo Ave.\, Oshkosh\, WI\, 54901\, United States
CATEGORIES:Art and Culture
ATTACH;FMTTYPE=image/jpeg:https://thecedarsproject.com/wp-content/uploads/2025/12/ori.jpg
ORGANIZER;CN="Oshkosh Rhythm Institue":MAILTO:robinc@oshkoshrhythm.com
END:VEVENT
BEGIN:VEVENT
DTSTART;TZID=America/Chicago:20260121T190000
DTEND;TZID=America/Chicago:20260121T210000
DTSTAMP:20260423T190829
CREATED:20251218T215036Z
LAST-MODIFIED:20251218T215036Z
UID:10000385-1769022000-1769029200@thecedarsproject.com
SUMMARY:Community Drum Circle
DESCRIPTION:The Oshkosh Rhythm Institute exists to promote well-being in the community through recreational music making.\nCommunity Drum Circle\nAll ages and skill levels welcome\nEvery Wednesday 7-9pm\nAt the Sundial in nice weather or\n803 Waugoo Ave Oshkosh WI
URL:https://thecedarsproject.com/event/community-drum-circle/2026-01-21/
LOCATION:Oshkosh Rhythm Institute\, 803 Waugoo Ave.\, Oshkosh\, WI\, 54901\, United States
CATEGORIES:Art and Culture
ATTACH;FMTTYPE=image/jpeg:https://thecedarsproject.com/wp-content/uploads/2025/12/ori.jpg
ORGANIZER;CN="Oshkosh Rhythm Institue":MAILTO:robinc@oshkoshrhythm.com
END:VEVENT
BEGIN:VEVENT
DTSTART;TZID=America/Chicago:20260114T190000
DTEND;TZID=America/Chicago:20260114T210000
DTSTAMP:20260423T190829
CREATED:20251218T215036Z
LAST-MODIFIED:20251218T215036Z
UID:10000384-1768417200-1768424400@thecedarsproject.com
SUMMARY:Community Drum Circle
DESCRIPTION:The Oshkosh Rhythm Institute exists to promote well-being in the community through recreational music making.\nCommunity Drum Circle\nAll ages and skill levels welcome\nEvery Wednesday 7-9pm\nAt the Sundial in nice weather or\n803 Waugoo Ave Oshkosh WI
URL:https://thecedarsproject.com/event/community-drum-circle/2026-01-14/
LOCATION:Oshkosh Rhythm Institute\, 803 Waugoo Ave.\, Oshkosh\, WI\, 54901\, United States
CATEGORIES:Art and Culture
ATTACH;FMTTYPE=image/jpeg:https://thecedarsproject.com/wp-content/uploads/2025/12/ori.jpg
ORGANIZER;CN="Oshkosh Rhythm Institue":MAILTO:robinc@oshkoshrhythm.com
END:VEVENT
BEGIN:VEVENT
DTSTART;TZID=America/Chicago:20260107T190000
DTEND;TZID=America/Chicago:20260107T210000
DTSTAMP:20260423T190829
CREATED:20251218T215036Z
LAST-MODIFIED:20251218T215036Z
UID:10000383-1767812400-1767819600@thecedarsproject.com
SUMMARY:Community Drum Circle
DESCRIPTION:The Oshkosh Rhythm Institute exists to promote well-being in the community through recreational music making.\nCommunity Drum Circle\nAll ages and skill levels welcome\nEvery Wednesday 7-9pm\nAt the Sundial in nice weather or\n803 Waugoo Ave Oshkosh WI
URL:https://thecedarsproject.com/event/community-drum-circle/2026-01-07/
LOCATION:Oshkosh Rhythm Institute\, 803 Waugoo Ave.\, Oshkosh\, WI\, 54901\, United States
CATEGORIES:Art and Culture
ATTACH;FMTTYPE=image/jpeg:https://thecedarsproject.com/wp-content/uploads/2025/12/ori.jpg
ORGANIZER;CN="Oshkosh Rhythm Institue":MAILTO:robinc@oshkoshrhythm.com
END:VEVENT
END:VCALENDAR